BEGIN:VCALENDAR
VERSION:2.0
PRODID:-//Overlook Barn - ECPv6.15.3//NONSGML v1.0//EN
CALSCALE:GREGORIAN
METHOD:PUBLISH
X-WR-CALNAME:Overlook Barn
X-ORIGINAL-URL:https://overlookbarn.com
X-WR-CALDESC:Events for Overlook Barn
REFRESH-INTERVAL;VALUE=DURATION:PT1H
X-Robots-Tag:noindex
X-PUBLISHED-TTL:PT1H
BEGIN:VTIMEZONE
TZID:America/New_York
BEGIN:DAYLIGHT
TZOFFSETFROM:-0500
TZOFFSETTO:-0400
TZNAME:EDT
DTSTART:20230312T070000
END:DAYLIGHT
BEGIN:STANDARD
TZOFFSETFROM:-0400
TZOFFSETTO:-0500
TZNAME:EST
DTSTART:20231105T060000
END:STANDARD
BEGIN:DAYLIGHT
TZOFFSETFROM:-0500
TZOFFSETTO:-0400
TZNAME:EDT
DTSTART:20240310T070000
END:DAYLIGHT
BEGIN:STANDARD
TZOFFSETFROM:-0400
TZOFFSETTO:-0500
TZNAME:EST
DTSTART:20241103T060000
END:STANDARD
END:VTIMEZONE
BEGIN:VEVENT
DTSTART;TZID=America/New_York:20240622T100000
DTEND;TZID=America/New_York:20240622T230000
DTSTAMP:20260425T071533
CREATED:20230608T154730Z
LAST-MODIFIED:20230608T154730Z
UID:19668-1719050400-1719097200@overlookbarn.com
SUMMARY:Marbury-Sharpe Wedding
DESCRIPTION:
URL:https://overlookbarn.com/event/marbury-sharpe-wedding/
LOCATION:Overlook Barn\, NC\, United States
END:VEVENT
BEGIN:VEVENT
DTSTART;TZID=America/New_York:20240620T100000
DTEND;TZID=America/New_York:20240620T230000
DTSTAMP:20260425T071533
CREATED:20230608T155432Z
LAST-MODIFIED:20230608T155432Z
UID:19674-1718877600-1718924400@overlookbarn.com
SUMMARY:Roy-Barbour Wedding
DESCRIPTION:
URL:https://overlookbarn.com/event/roy-barbour-wedding/
LOCATION:Overlook Barn\, NC\, United States
END:VEVENT
BEGIN:VEVENT
DTSTART;TZID=America/New_York:20240616T100000
DTEND;TZID=America/New_York:20240616T230000
DTSTAMP:20260425T071533
CREATED:20240103T151648Z
LAST-MODIFIED:20240103T151648Z
UID:22115-1718532000-1718578800@overlookbarn.com
SUMMARY:Wilson-Johnson Wedding
DESCRIPTION:
URL:https://overlookbarn.com/event/wilson-johnson-wedding/
LOCATION:Overlook Barn\, NC\, United States
END:VEVENT
BEGIN:VEVENT
DTSTART;TZID=America/New_York:20240615T100000
DTEND;TZID=America/New_York:20240615T230000
DTSTAMP:20260425T071533
CREATED:20230724T173914Z
LAST-MODIFIED:20230724T173914Z
UID:20114-1718445600-1718492400@overlookbarn.com
SUMMARY:Allen-Hilton Wedding
DESCRIPTION:
URL:https://overlookbarn.com/event/allen-hilton-wedding/
LOCATION:Overlook Barn\, NC\, United States
END:VEVENT
BEGIN:VEVENT
DTSTART;TZID=America/New_York:20240602T100000
DTEND;TZID=America/New_York:20240602T230000
DTSTAMP:20260425T071533
CREATED:20230109T154935Z
LAST-MODIFIED:20230419T134111Z
UID:18419-1717322400-1717369200@overlookbarn.com
SUMMARY:O'Neal-Orr Wedding
DESCRIPTION:
URL:https://overlookbarn.com/event/oneal-spencer-wedding/
LOCATION:Overlook Barn\, NC\, United States
END:VEVENT
BEGIN:VEVENT
DTSTART;TZID=America/New_York:20240601T100000
DTEND;TZID=America/New_York:20240601T230000
DTSTAMP:20260425T071533
CREATED:20230911T184932Z
LAST-MODIFIED:20230911T184932Z
UID:20491-1717236000-1717282800@overlookbarn.com
SUMMARY:Pope-Belk Wedding
DESCRIPTION:
URL:https://overlookbarn.com/event/pope-belk-wedding/
END:VEVENT
BEGIN:VEVENT
DTSTART;TZID=America/New_York:20240525T100000
DTEND;TZID=America/New_York:20240525T230000
DTSTAMP:20260425T071533
CREATED:20230109T154733Z
LAST-MODIFIED:20230109T154733Z
UID:18413-1716631200-1716678000@overlookbarn.com
SUMMARY:Needell-Clark Wedding
DESCRIPTION:
URL:https://overlookbarn.com/event/needell-clark-wedding/
LOCATION:Overlook Barn\, NC\, United States
END:VEVENT
BEGIN:VEVENT
DTSTART;TZID=America/New_York:20240513T100000
DTEND;TZID=America/New_York:20240513T230000
DTSTAMP:20260425T071533
CREATED:20230214T161021Z
LAST-MODIFIED:20230214T161021Z
UID:18866-1715594400-1715641200@overlookbarn.com
SUMMARY:Manganaro-Leto Wedding
DESCRIPTION:
URL:https://overlookbarn.com/event/manganaro-leto-wedding/
LOCATION:Overlook Barn\, NC\, United States
END:VEVENT
BEGIN:VEVENT
DTSTART;TZID=America/New_York:20240512T100000
DTEND;TZID=America/New_York:20240512T230000
DTSTAMP:20260425T071533
CREATED:20230419T134031Z
LAST-MODIFIED:20230419T134031Z
UID:19335-1715508000-1715554800@overlookbarn.com
SUMMARY:Johnson-Marks Wedding
DESCRIPTION:
URL:https://overlookbarn.com/event/johnson-marks-wedding/
LOCATION:Overlook Barn\, NC\, United States
END:VEVENT
BEGIN:VEVENT
DTSTART;TZID=America/New_York:20240511T100000
DTEND;TZID=America/New_York:20240511T230000
DTSTAMP:20260425T071533
CREATED:20230113T190954Z
LAST-MODIFIED:20230113T190954Z
UID:18534-1715421600-1715468400@overlookbarn.com
SUMMARY:LaPorte-Lowder Wedding
DESCRIPTION:
URL:https://overlookbarn.com/event/laporte-lowder-wedding/
LOCATION:Overlook Barn\, NC\, United States
END:VEVENT
BEGIN:VEVENT
DTSTART;TZID=America/New_York:20240510T100000
DTEND;TZID=America/New_York:20240510T230000
DTSTAMP:20260425T071533
CREATED:20230214T160613Z
LAST-MODIFIED:20230214T160613Z
UID:18854-1715335200-1715382000@overlookbarn.com
SUMMARY:Gerbe-Rich Wedding
DESCRIPTION:
URL:https://overlookbarn.com/event/gerbe-rich-wedding/
LOCATION:Overlook Barn\, NC\, United States
END:VEVENT
BEGIN:VEVENT
DTSTART;TZID=America/New_York:20240505T100000
DTEND;TZID=America/New_York:20240505T230000
DTSTAMP:20260425T071533
CREATED:20230109T155115Z
LAST-MODIFIED:20230109T155115Z
UID:18423-1714903200-1714950000@overlookbarn.com
SUMMARY:Berry-Ebert Wedding
DESCRIPTION:
URL:https://overlookbarn.com/event/berry-ebert-wedding/
LOCATION:Overlook Barn\, NC\, United States
END:VEVENT
BEGIN:VEVENT
DTSTART;TZID=America/New_York:20240504T100000
DTEND;TZID=America/New_York:20240504T230000
DTSTAMP:20260425T071533
CREATED:20230911T184906Z
LAST-MODIFIED:20230911T184906Z
UID:20489-1714816800-1714863600@overlookbarn.com
SUMMARY:Copeland-Damkoehler Wedding
DESCRIPTION:
URL:https://overlookbarn.com/event/copeland-damkoehler-wedding/
LOCATION:Overlook Barn\, NC\, United States
END:VEVENT
BEGIN:VEVENT
DTSTART;TZID=America/New_York:20240503T100000
DTEND;TZID=America/New_York:20240503T230000
DTSTAMP:20260425T071533
CREATED:20231030T185039Z
LAST-MODIFIED:20231030T185039Z
UID:20906-1714730400-1714777200@overlookbarn.com
SUMMARY:Myers-Botham Wedding
DESCRIPTION:
URL:https://overlookbarn.com/event/myers-botham-wedding/
LOCATION:Overlook Barn\, NC\, United States
END:VEVENT
BEGIN:VEVENT
DTSTART;TZID=America/New_York:20240427T100000
DTEND;TZID=America/New_York:20240427T230000
DTSTAMP:20260425T071533
CREATED:20230109T155036Z
LAST-MODIFIED:20230109T155036Z
UID:18421-1714212000-1714258800@overlookbarn.com
SUMMARY:Reasons-Gore Wedding
DESCRIPTION:
URL:https://overlookbarn.com/event/reasons-gore-wedding/
LOCATION:Overlook Barn\, NC\, United States
END:VEVENT
BEGIN:VEVENT
DTSTART;TZID=America/New_York:20240424T100000
DTEND;TZID=America/New_York:20240424T230000
DTSTAMP:20260425T071533
CREATED:20240223T160632Z
LAST-MODIFIED:20240223T160632Z
UID:22472-1713952800-1713999600@overlookbarn.com
SUMMARY:Figueroa-Jones Microwedding
DESCRIPTION:
URL:https://overlookbarn.com/event/figueroa-jones-microwedding/
LOCATION:Cliffside Barn\, NC\, United States
END:VEVENT
BEGIN:VEVENT
DTSTART;TZID=America/New_York:20240420T100000
DTEND;TZID=America/New_York:20240420T230000
DTSTAMP:20260425T071533
CREATED:20230214T160940Z
LAST-MODIFIED:20230214T160940Z
UID:18864-1713607200-1713654000@overlookbarn.com
SUMMARY:Lattimore-Cade Wedding
DESCRIPTION:
URL:https://overlookbarn.com/event/lattimore-cade-wedding/
LOCATION:Overlook Barn\, NC\, United States
END:VEVENT
BEGIN:VEVENT
DTSTART;TZID=America/New_York:20240413T100000
DTEND;TZID=America/New_York:20240413T230000
DTSTAMP:20260425T071533
CREATED:20230419T134158Z
LAST-MODIFIED:20230419T134158Z
UID:19338-1713002400-1713049200@overlookbarn.com
SUMMARY:Daly-Martinez Wedding
DESCRIPTION:
URL:https://overlookbarn.com/event/daly-martinez-wedding/
LOCATION:Overlook Barn\, NC\, United States
END:VEVENT
BEGIN:VEVENT
DTSTART;TZID=America/New_York:20240412T100000
DTEND;TZID=America/New_York:20240412T230000
DTSTAMP:20260425T071533
CREATED:20230316T195240Z
LAST-MODIFIED:20230316T195240Z
UID:19138-1712916000-1712962800@overlookbarn.com
SUMMARY:Ville-Pitten Wedding
DESCRIPTION:
URL:https://overlookbarn.com/event/ville-pitten-wedding/
LOCATION:Overlook Barn\, NC\, United States
END:VEVENT
BEGIN:VEVENT
DTSTART;TZID=America/New_York:20240411T100000
DTEND;TZID=America/New_York:20240411T230000
DTSTAMP:20260425T071533
CREATED:20240103T152159Z
LAST-MODIFIED:20240103T152159Z
UID:22129-1712829600-1712876400@overlookbarn.com
SUMMARY:Osborne-Lee Wedding
DESCRIPTION:
URL:https://overlookbarn.com/event/osborne-lee-wedding/
LOCATION:Overlook Barn\, NC\, United States
END:VEVENT
BEGIN:VEVENT
DTSTART;TZID=America/New_York:20240406T100000
DTEND;TZID=America/New_York:20240406T230000
DTSTAMP:20260425T071533
CREATED:20231030T184840Z
LAST-MODIFIED:20240111T144015Z
UID:20899-1712397600-1712444400@overlookbarn.com
SUMMARY:McSwain-Dale Wedding
DESCRIPTION:
URL:https://overlookbarn.com/event/mcswain-dale-wedding/
LOCATION:Overlook Barn\, NC\, United States
END:VEVENT
BEGIN:VEVENT
DTSTART;TZID=America/New_York:20240330T100000
DTEND;TZID=America/New_York:20240330T230000
DTSTAMP:20260425T071533
CREATED:20221018T144914Z
LAST-MODIFIED:20230419T134309Z
UID:17523-1711792800-1711839600@overlookbarn.com
SUMMARY:Stultz-Smith Wedding
DESCRIPTION:
URL:https://overlookbarn.com/event/stultz-smith-wedding/
LOCATION:Overlook Barn\, NC\, United States
END:VEVENT
BEGIN:VEVENT
DTSTART;TZID=America/New_York:20231202T100000
DTEND;TZID=America/New_York:20231202T230000
DTSTAMP:20260425T071533
CREATED:20230109T155210Z
LAST-MODIFIED:20230109T155210Z
UID:18425-1701511200-1701558000@overlookbarn.com
SUMMARY:Bass-May Wedding
DESCRIPTION:
URL:https://overlookbarn.com/event/bass-may-wedding/
LOCATION:Overlook Barn\, NC\, United States
END:VEVENT
BEGIN:VEVENT
DTSTART;TZID=America/New_York:20231118T100000
DTEND;TZID=America/New_York:20231118T230000
DTSTAMP:20260425T071533
CREATED:20221115T150443Z
LAST-MODIFIED:20221115T150443Z
UID:17778-1700301600-1700348400@overlookbarn.com
SUMMARY:Miller-Kerns Wedding
DESCRIPTION:
URL:https://overlookbarn.com/event/miller-kerns-wedding/
LOCATION:Overlook Barn\, NC\, United States
END:VEVENT
BEGIN:VEVENT
DTSTART;TZID=America/New_York:20231109T100000
DTEND;TZID=America/New_York:20231109T230000
DTSTAMP:20260425T071533
CREATED:20230214T160732Z
LAST-MODIFIED:20230214T160732Z
UID:18858-1699524000-1699570800@overlookbarn.com
SUMMARY:Clark-Helmond Wedding
DESCRIPTION:
URL:https://overlookbarn.com/event/clark-helmond-wedding/
LOCATION:Cliffside Barn\, NC\, United States
END:VEVENT
BEGIN:VEVENT
DTSTART;TZID=America/New_York:20231104T100000
DTEND;TZID=America/New_York:20231104T230000
DTSTAMP:20260425T071533
CREATED:20220826T173235Z
LAST-MODIFIED:20220826T173235Z
UID:16797-1699092000-1699138800@overlookbarn.com
SUMMARY:Hastbacka-Bishop Wedding
DESCRIPTION:
URL:https://overlookbarn.com/event/hastbacka-bishop-wedding/
LOCATION:Overlook Barn\, NC\, United States
END:VEVENT
BEGIN:VEVENT
DTSTART;TZID=America/New_York:20231101T100000
DTEND;TZID=America/New_York:20231101T230000
DTSTAMP:20260425T071533
CREATED:20230110T190409Z
LAST-MODIFIED:20230110T190409Z
UID:18467-1698832800-1698879600@overlookbarn.com
SUMMARY:Rifenberg-Shearer Wedding
DESCRIPTION:
URL:https://overlookbarn.com/event/rifenberg-shearer-wedding/
LOCATION:Overlook Barn\, NC\, United States
END:VEVENT
BEGIN:VEVENT
DTSTART;TZID=America/New_York:20231029T100000
DTEND;TZID=America/New_York:20231029T230000
DTSTAMP:20260425T071533
CREATED:20221115T150324Z
LAST-MODIFIED:20221115T150803Z
UID:17774-1698573600-1698620400@overlookbarn.com
SUMMARY:Reilly-Hess Wedding
DESCRIPTION:
URL:https://overlookbarn.com/event/reilly-hess-wedding/
LOCATION:Overlook Barn\, NC\, United States
END:VEVENT
BEGIN:VEVENT
DTSTART;TZID=America/New_York:20231028T100000
DTEND;TZID=America/New_York:20231028T230000
DTSTAMP:20260425T071533
CREATED:20221115T150653Z
LAST-MODIFIED:20221115T150653Z
UID:17784-1698487200-1698534000@overlookbarn.com
SUMMARY:Peel-Tucker Wedding
DESCRIPTION:
URL:https://overlookbarn.com/event/peel-tucker-wedding/
LOCATION:Overlook Barn\, NC\, United States
END:VEVENT
BEGIN:VEVENT
DTSTART;TZID=America/New_York:20231027T100000
DTEND;TZID=America/New_York:20231027T230000
DTSTAMP:20260425T071533
CREATED:20220516T150134Z
LAST-MODIFIED:20220516T150134Z
UID:15510-1698400800-1698447600@overlookbarn.com
SUMMARY:Howell-Bring Wedding
DESCRIPTION:
URL:https://overlookbarn.com/event/howell-bring-wedding/
LOCATION:Overlook Barn\, NC\, United States
END:VEVENT
END:VCALENDAR