BEGIN:VCALENDAR
VERSION:2.0
PRODID:-//Overlook Barn - ECPv6.15.3//NONSGML v1.0//EN
CALSCALE:GREGORIAN
METHOD:PUBLISH
X-WR-CALNAME:Overlook Barn
X-ORIGINAL-URL:https://overlookbarn.com
X-WR-CALDESC:Events for Overlook Barn
REFRESH-INTERVAL;VALUE=DURATION:PT1H
X-Robots-Tag:noindex
X-PUBLISHED-TTL:PT1H
BEGIN:VTIMEZONE
TZID:America/New_York
BEGIN:DAYLIGHT
TZOFFSETFROM:-0500
TZOFFSETTO:-0400
TZNAME:EDT
DTSTART:20250309T070000
END:DAYLIGHT
BEGIN:STANDARD
TZOFFSETFROM:-0400
TZOFFSETTO:-0500
TZNAME:EST
DTSTART:20251102T060000
END:STANDARD
BEGIN:DAYLIGHT
TZOFFSETFROM:-0500
TZOFFSETTO:-0400
TZNAME:EDT
DTSTART:20260308T070000
END:DAYLIGHT
BEGIN:STANDARD
TZOFFSETFROM:-0400
TZOFFSETTO:-0500
TZNAME:EST
DTSTART:20261101T060000
END:STANDARD
END:VTIMEZONE
BEGIN:VEVENT
DTSTART;TZID=America/New_York:20260510T100000
DTEND;TZID=America/New_York:20260510T230000
DTSTAMP:20260423T191239
CREATED:20260225T193135Z
LAST-MODIFIED:20260225T193135Z
UID:29338-1778407200-1778454000@overlookbarn.com
SUMMARY:Schleutker-Walker Rehearsal Dinner
DESCRIPTION:
URL:https://overlookbarn.com/event/schleutker-walker-rehearsal-dinner/
LOCATION:Overlook Barn\, NC\, United States
END:VEVENT
BEGIN:VEVENT
DTSTART;TZID=America/New_York:20260509T100000
DTEND;TZID=America/New_York:20260509T230000
DTSTAMP:20260423T191239
CREATED:20250106T204236Z
LAST-MODIFIED:20250106T204236Z
UID:24936-1778320800-1778367600@overlookbarn.com
SUMMARY:Williard-Mateer Wedding
DESCRIPTION:
URL:https://overlookbarn.com/event/williard-mateer-wedding/
LOCATION:Overlook Barn\, NC\, United States
END:VEVENT
BEGIN:VEVENT
DTSTART;TZID=America/New_York:20260508T100000
DTEND;TZID=America/New_York:20260508T230000
DTSTAMP:20260423T191239
CREATED:20250129T150607Z
LAST-MODIFIED:20250129T150607Z
UID:25196-1778234400-1778281200@overlookbarn.com
SUMMARY:Eisbrenner-Vogt Wedding
DESCRIPTION:
URL:https://overlookbarn.com/event/eisbrenner-vogt-wedding/
LOCATION:Overlook Barn\, NC\, United States
END:VEVENT
BEGIN:VEVENT
DTSTART;TZID=America/New_York:20260503T100000
DTEND;TZID=America/New_York:20260503T230000
DTSTAMP:20260423T191239
CREATED:20241202T212009Z
LAST-MODIFIED:20241202T212009Z
UID:24465-1777802400-1777849200@overlookbarn.com
SUMMARY:Kiousis-Casper Wedding
DESCRIPTION:
URL:https://overlookbarn.com/event/kiousis-casper-wedding/
LOCATION:Overlook Barn\, NC\, United States
END:VEVENT
BEGIN:VEVENT
DTSTART;TZID=America/New_York:20260502T100000
DTEND;TZID=America/New_York:20260502T230000
DTSTAMP:20260423T191239
CREATED:20250407T202555Z
LAST-MODIFIED:20250407T202555Z
UID:25862-1777716000-1777762800@overlookbarn.com
SUMMARY:Diachenko-Fisher Wedding
DESCRIPTION:
URL:https://overlookbarn.com/event/diachenko-fisher-wedding/
LOCATION:Overlook Barn\, NC\, United States
END:VEVENT
BEGIN:VEVENT
DTSTART;TZID=America/New_York:20260501T100000
DTEND;TZID=America/New_York:20260501T230000
DTSTAMP:20260423T191239
CREATED:20250324T145740Z
LAST-MODIFIED:20250324T145740Z
UID:25697-1777629600-1777676400@overlookbarn.com
SUMMARY:Nicol-Boyce Wedding
DESCRIPTION:
URL:https://overlookbarn.com/event/nicol-boyce-wedding/
LOCATION:Overlook Barn\, NC\, United States
END:VEVENT
BEGIN:VEVENT
DTSTART;TZID=America/New_York:20260426T100000
DTEND;TZID=America/New_York:20260426T230000
DTSTAMP:20260423T191239
CREATED:20250324T145811Z
LAST-MODIFIED:20250324T145811Z
UID:25699-1777197600-1777244400@overlookbarn.com
SUMMARY:Goldman-Valet Wedding
DESCRIPTION:
URL:https://overlookbarn.com/event/goldman-valet-wedding/
LOCATION:Overlook Barn\, NC\, United States
END:VEVENT
BEGIN:VEVENT
DTSTART;TZID=America/New_York:20260425T100000
DTEND;TZID=America/New_York:20260425T230000
DTSTAMP:20260423T191239
CREATED:20250624T150035Z
LAST-MODIFIED:20250624T150035Z
UID:26610-1777111200-1777158000@overlookbarn.com
SUMMARY:Bishop-Johnson Wedding
DESCRIPTION:
URL:https://overlookbarn.com/event/bishop-johnson-wedding/
LOCATION:Overlook Barn\, NC\, United States
END:VEVENT
BEGIN:VEVENT
DTSTART;TZID=America/New_York:20260424T100000
DTEND;TZID=America/New_York:20260424T230000
DTSTAMP:20260423T191239
CREATED:20250407T202622Z
LAST-MODIFIED:20250407T202622Z
UID:25864-1777024800-1777071600@overlookbarn.com
SUMMARY:Ramos-Bauer Wedding
DESCRIPTION:
URL:https://overlookbarn.com/event/ramos-bauer-wedding/
LOCATION:Overlook Barn\, NC\, United States
END:VEVENT
BEGIN:VEVENT
DTSTART;TZID=America/New_York:20260423T100000
DTEND;TZID=America/New_York:20260423T230000
DTSTAMP:20260423T191239
CREATED:20251203T160619Z
LAST-MODIFIED:20251203T160619Z
UID:28247-1776938400-1776985200@overlookbarn.com
SUMMARY:Ramos-Bauer Rehearsal Dinner
DESCRIPTION:
URL:https://overlookbarn.com/event/ramos-bauer-rehearsal-dinner/
LOCATION:Overlook Barn\, NC\, United States
END:VEVENT
BEGIN:VEVENT
DTSTART;TZID=America/New_York:20260419T100000
DTEND;TZID=America/New_York:20260419T230000
DTSTAMP:20260423T191239
CREATED:20250624T150247Z
LAST-MODIFIED:20250624T150247Z
UID:26616-1776592800-1776639600@overlookbarn.com
SUMMARY:White-Jackson Wedding
DESCRIPTION:
URL:https://overlookbarn.com/event/white-jackson-wedding-2/
LOCATION:Overlook Barn\, NC\, United States
END:VEVENT
BEGIN:VEVENT
DTSTART;TZID=America/New_York:20260418T100000
DTEND;TZID=America/New_York:20260418T230000
DTSTAMP:20260423T191239
CREATED:20250624T145905Z
LAST-MODIFIED:20250624T145905Z
UID:26604-1776506400-1776553200@overlookbarn.com
SUMMARY:Norris-Stewart Wedding
DESCRIPTION:
URL:https://overlookbarn.com/event/norris-stewart-wedding/
LOCATION:Overlook Barn\, NC\, United States
END:VEVENT
BEGIN:VEVENT
DTSTART;TZID=America/New_York:20260417T100000
DTEND;TZID=America/New_York:20260417T230000
DTSTAMP:20260423T191239
CREATED:20250129T150523Z
LAST-MODIFIED:20250129T150523Z
UID:25194-1776420000-1776466800@overlookbarn.com
SUMMARY:Ussery-Cassista Wedding
DESCRIPTION:
URL:https://overlookbarn.com/event/ussery-cassista-wedding/
LOCATION:Overlook Barn\, NC\, United States
END:VEVENT
BEGIN:VEVENT
DTSTART;TZID=America/New_York:20260410T100000
DTEND;TZID=America/New_York:20260410T230000
DTSTAMP:20260423T191239
CREATED:20251203T160331Z
LAST-MODIFIED:20251203T160331Z
UID:28239-1775815200-1775862000@overlookbarn.com
SUMMARY:Stroup-Kidd Wedding
DESCRIPTION:
URL:https://overlookbarn.com/event/stroup-kidd-wedding/
LOCATION:Overlook Barn\, NC\, United States
END:VEVENT
BEGIN:VEVENT
DTSTART;TZID=America/New_York:20251213T100000
DTEND;TZID=America/New_York:20251213T230000
DTSTAMP:20260423T191239
CREATED:20250407T202527Z
LAST-MODIFIED:20250407T202527Z
UID:25860-1765620000-1765666800@overlookbarn.com
SUMMARY:Lawrence-Ervin Wedding
DESCRIPTION:
URL:https://overlookbarn.com/event/lawrence-ervin-wedding/
LOCATION:Overlook Barn\, NC\, United States
END:VEVENT
BEGIN:VEVENT
DTSTART;TZID=America/New_York:20251206T100000
DTEND;TZID=America/New_York:20251206T230000
DTSTAMP:20260423T191239
CREATED:20240726T181606Z
LAST-MODIFIED:20240726T181606Z
UID:23619-1765015200-1765062000@overlookbarn.com
SUMMARY:Vachon-Burke Wedding
DESCRIPTION:
URL:https://overlookbarn.com/event/vachon-burke-wedding/
LOCATION:Overlook Barn\, NC\, United States
END:VEVENT
BEGIN:VEVENT
DTSTART;TZID=America/New_York:20251120T100000
DTEND;TZID=America/New_York:20251120T230000
DTSTAMP:20260423T191239
CREATED:20250925T142815Z
LAST-MODIFIED:20250925T142815Z
UID:27654-1763632800-1763679600@overlookbarn.com
SUMMARY:Greene-Mallicote Microwedding
DESCRIPTION:
URL:https://overlookbarn.com/event/greene-mallicote-microwedding/
LOCATION:Cliffside Barn\, NC\, United States
END:VEVENT
BEGIN:VEVENT
DTSTART;TZID=America/New_York:20251113T100000
DTEND;TZID=America/New_York:20251113T230000
DTSTAMP:20260423T191239
CREATED:20250129T150451Z
LAST-MODIFIED:20250129T150451Z
UID:25192-1763028000-1763074800@overlookbarn.com
SUMMARY:Ochoa-Leal Wedding
DESCRIPTION:
URL:https://overlookbarn.com/event/ochoa-leal-wedding/
LOCATION:Overlook Barn\, NC\, United States
END:VEVENT
BEGIN:VEVENT
DTSTART;TZID=America/New_York:20251108T100000
DTEND;TZID=America/New_York:20251108T230000
DTSTAMP:20260423T191239
CREATED:20250324T150102Z
LAST-MODIFIED:20250324T150102Z
UID:25711-1762596000-1762642800@overlookbarn.com
SUMMARY:Ots-Hannus Wedding
DESCRIPTION:
URL:https://overlookbarn.com/event/ots-hannus-wedding/
LOCATION:Overlook Barn\, NC\, United States
END:VEVENT
BEGIN:VEVENT
DTSTART;TZID=America/New_York:20251103T100000
DTEND;TZID=America/New_York:20251103T230000
DTSTAMP:20260423T191239
CREATED:20240611T190131Z
LAST-MODIFIED:20240611T190131Z
UID:23221-1762164000-1762210800@overlookbarn.com
SUMMARY:Palencia-Dabkowski Wedding
DESCRIPTION:
URL:https://overlookbarn.com/event/palencia-dabkowski-wedding/
LOCATION:Overlook Barn\, NC\, United States
END:VEVENT
BEGIN:VEVENT
DTSTART;TZID=America/New_York:20251101T100000
DTEND;TZID=America/New_York:20251101T230000
DTSTAMP:20260423T191239
CREATED:20241003T132610Z
LAST-MODIFIED:20241003T132610Z
UID:24075-1761991200-1762038000@overlookbarn.com
SUMMARY:Brewer-Rogers Wedding
DESCRIPTION:
URL:https://overlookbarn.com/event/brewer-rogers-wedding/
LOCATION:Overlook Barn\, NC\, United States
END:VEVENT
BEGIN:VEVENT
DTSTART;TZID=America/New_York:20251030T100000
DTEND;TZID=America/New_York:20251030T230000
DTSTAMP:20260423T191239
CREATED:20250106T204312Z
LAST-MODIFIED:20250106T204312Z
UID:24938-1761818400-1761865200@overlookbarn.com
SUMMARY:Schooler-Arnett Wedding
DESCRIPTION:
URL:https://overlookbarn.com/event/schooler-arnett-wedding/
LOCATION:Overlook Barn\, NC\, United States
END:VEVENT
BEGIN:VEVENT
DTSTART;TZID=America/New_York:20251026T100000
DTEND;TZID=America/New_York:20251026T230000
DTSTAMP:20260423T191239
CREATED:20250324T145905Z
LAST-MODIFIED:20250324T145905Z
UID:25703-1761472800-1761519600@overlookbarn.com
SUMMARY:Puckett-Slater Wedding
DESCRIPTION:
URL:https://overlookbarn.com/event/puckett-slater-wedding/
LOCATION:Overlook Barn\, NC\, United States
END:VEVENT
BEGIN:VEVENT
DTSTART;TZID=America/New_York:20251025T100000
DTEND;TZID=America/New_York:20251025T230000
DTSTAMP:20260423T191239
CREATED:20241014T163325Z
LAST-MODIFIED:20241014T163325Z
UID:24147-1761386400-1761433200@overlookbarn.com
SUMMARY:Gonzalez - Williams Wedding
DESCRIPTION:
URL:https://overlookbarn.com/event/gonzalez-williams-wedding/
LOCATION:Overlook Barn\, NC\, United States
END:VEVENT
BEGIN:VEVENT
DTSTART;TZID=America/New_York:20251024T100000
DTEND;TZID=America/New_York:20251024T230000
DTSTAMP:20260423T191239
CREATED:20231030T184729Z
LAST-MODIFIED:20241014T163424Z
UID:20895-1761300000-1761346800@overlookbarn.com
SUMMARY:Mattox-Hollingsworth Wedding
DESCRIPTION:
URL:https://overlookbarn.com/event/mattox-hollingsworth-wedding/
LOCATION:Overlook Barn\, NC\, United States
END:VEVENT
BEGIN:VEVENT
DTSTART;TZID=America/New_York:20251020T100000
DTEND;TZID=America/New_York:20251020T230000
DTSTAMP:20260423T191239
CREATED:20230608T154550Z
LAST-MODIFIED:20241014T163458Z
UID:19664-1760954400-1761001200@overlookbarn.com
SUMMARY:Burnette-Hamilton Wedding
DESCRIPTION:
URL:https://overlookbarn.com/event/burnette-hamilton-wedding/
LOCATION:Overlook Barn\, NC\, United States
END:VEVENT
BEGIN:VEVENT
DTSTART;TZID=America/New_York:20251019T100000
DTEND;TZID=America/New_York:20251019T230000
DTSTAMP:20260423T191239
CREATED:20230419T134528Z
LAST-MODIFIED:20241014T163026Z
UID:19346-1760868000-1760914800@overlookbarn.com
SUMMARY:Hager-Couture Wedding
DESCRIPTION:
URL:https://overlookbarn.com/event/hager-couture-wedding/
LOCATION:Overlook Barn\, NC\, United States
END:VEVENT
BEGIN:VEVENT
DTSTART;TZID=America/New_York:20251018T100000
DTEND;TZID=America/New_York:20251018T230000
DTSTAMP:20260423T191239
CREATED:20250106T204458Z
LAST-MODIFIED:20250106T204458Z
UID:24942-1760781600-1760828400@overlookbarn.com
SUMMARY:Martin-Mollo Wedding
DESCRIPTION:
URL:https://overlookbarn.com/event/martin-mollo-wedding/
LOCATION:Overlook Barn\, NC\, United States
END:VEVENT
BEGIN:VEVENT
DTSTART;TZID=America/New_York:20251017T100000
DTEND;TZID=America/New_York:20251017T230000
DTSTAMP:20260423T191239
CREATED:20231030T185330Z
LAST-MODIFIED:20241014T163530Z
UID:20914-1760695200-1760742000@overlookbarn.com
SUMMARY:Dempsey-Emig Wedding
DESCRIPTION:
URL:https://overlookbarn.com/event/dempsey-emig-wedding/
LOCATION:Overlook Barn\, NC\, United States
END:VEVENT
BEGIN:VEVENT
DTSTART;TZID=America/New_York:20251011T100000
DTEND;TZID=America/New_York:20251011T230000
DTSTAMP:20260423T191239
CREATED:20241202T211834Z
LAST-MODIFIED:20241202T211834Z
UID:24461-1760176800-1760223600@overlookbarn.com
SUMMARY:Ferrell-Lowe Wedding
DESCRIPTION:
URL:https://overlookbarn.com/event/ferrell-lowe-wedding/
LOCATION:Overlook Barn\, NC\, United States
END:VEVENT
END:VCALENDAR