BEGIN:VCALENDAR
VERSION:2.0
PRODID:-//Overlook Barn - ECPv6.15.3//NONSGML v1.0//EN
CALSCALE:GREGORIAN
METHOD:PUBLISH
X-WR-CALNAME:Overlook Barn
X-ORIGINAL-URL:https://overlookbarn.com
X-WR-CALDESC:Events for Overlook Barn
REFRESH-INTERVAL;VALUE=DURATION:PT1H
X-Robots-Tag:noindex
X-PUBLISHED-TTL:PT1H
BEGIN:VTIMEZONE
TZID:America/New_York
BEGIN:DAYLIGHT
TZOFFSETFROM:-0500
TZOFFSETTO:-0400
TZNAME:EDT
DTSTART:20230312T070000
END:DAYLIGHT
BEGIN:STANDARD
TZOFFSETFROM:-0400
TZOFFSETTO:-0500
TZNAME:EST
DTSTART:20231105T060000
END:STANDARD
END:VTIMEZONE
BEGIN:VEVENT
DTSTART;TZID=America/New_York:20230819T100000
DTEND;TZID=America/New_York:20230819T230000
DTSTAMP:20260425T081420
CREATED:20220907T150608Z
LAST-MODIFIED:20220907T150608Z
UID:16964-1692439200-1692486000@overlookbarn.com
SUMMARY:Spencer-Roberts Wedding
DESCRIPTION:
URL:https://overlookbarn.com/event/spencer-roberts-wedding/
LOCATION:Overlook Barn\, NC\, United States
END:VEVENT
BEGIN:VEVENT
DTSTART;TZID=America/New_York:20230812T100000
DTEND;TZID=America/New_York:20230812T230000
DTSTAMP:20260425T081420
CREATED:20221115T150409Z
LAST-MODIFIED:20221115T150409Z
UID:17776-1691834400-1691881200@overlookbarn.com
SUMMARY:Taylor-Hendley Wedding
DESCRIPTION:
URL:https://overlookbarn.com/event/taylor-hendley-wedding/
LOCATION:Overlook Barn\, NC\, United States
END:VEVENT
BEGIN:VEVENT
DTSTART;TZID=America/New_York:20230730T100000
DTEND;TZID=America/New_York:20230730T230000
DTSTAMP:20260425T081420
CREATED:20220622T133419Z
LAST-MODIFIED:20220622T133419Z
UID:15939-1690711200-1690758000@overlookbarn.com
SUMMARY:Proctor-Chupp Wedding
DESCRIPTION:
URL:https://overlookbarn.com/event/proctor-chupp-wedding/
LOCATION:Overlook Barn\, NC\, United States
END:VEVENT
BEGIN:VEVENT
DTSTART;TZID=America/New_York:20230729T100000
DTEND;TZID=America/New_York:20230729T230000
DTSTAMP:20260425T081420
CREATED:20220622T133243Z
LAST-MODIFIED:20220622T133243Z
UID:15935-1690624800-1690671600@overlookbarn.com
SUMMARY:Stroud-Burn Wedding
DESCRIPTION:
URL:https://overlookbarn.com/event/stroud-burn-wedding/
LOCATION:Overlook Barn\, NC\, United States
END:VEVENT
BEGIN:VEVENT
DTSTART;TZID=America/New_York:20230722T100000
DTEND;TZID=America/New_York:20230722T230000
DTSTAMP:20260425T081420
CREATED:20220127T184457Z
LAST-MODIFIED:20220127T184457Z
UID:14399-1690020000-1690066800@overlookbarn.com
SUMMARY:Holland-Ruth Wedding
DESCRIPTION:
URL:https://overlookbarn.com/event/holland-ruth-wedding/
LOCATION:Overlook Barn\, NC\, United States
END:VEVENT
BEGIN:VEVENT
DTSTART;TZID=America/New_York:20230715T100000
DTEND;TZID=America/New_York:20230715T230000
DTSTAMP:20260425T081420
CREATED:20220204T170423Z
LAST-MODIFIED:20220204T170423Z
UID:14495-1689415200-1689462000@overlookbarn.com
SUMMARY:Dansie-Onusko Wedding
DESCRIPTION:
URL:https://overlookbarn.com/event/dansie-onusko-wedding/
LOCATION:Overlook Barn\, NC\, United States
END:VEVENT
BEGIN:VEVENT
DTSTART;TZID=America/New_York:20230708T100000
DTEND;TZID=America/New_York:20230708T230000
DTSTAMP:20260425T081420
CREATED:20220928T181706Z
LAST-MODIFIED:20220928T181706Z
UID:17277-1688810400-1688857200@overlookbarn.com
SUMMARY:Pearson-Adams Wedding
DESCRIPTION:
URL:https://overlookbarn.com/event/pearson-adams-wedding/
LOCATION:Overlook Barn\, NC\, United States
END:VEVENT
BEGIN:VEVENT
DTSTART;TZID=America/New_York:20230701T100000
DTEND;TZID=America/New_York:20230701T230000
DTSTAMP:20260425T081420
CREATED:20230419T134343Z
LAST-MODIFIED:20230419T134343Z
UID:19342-1688205600-1688252400@overlookbarn.com
SUMMARY:Allen-Honeycutt Wedding
DESCRIPTION:
URL:https://overlookbarn.com/event/allen-honeycutt-wedding/
LOCATION:Overlook Barn\, NC\, United States
END:VEVENT
BEGIN:VEVENT
DTSTART;TZID=America/New_York:20230625T080000
DTEND;TZID=America/New_York:20230625T170000
DTSTAMP:20260425T081420
CREATED:20220826T173410Z
LAST-MODIFIED:20220826T173410Z
UID:16803-1687680000-1687712400@overlookbarn.com
SUMMARY:Shelton-Mounce Wedding
DESCRIPTION:
URL:https://overlookbarn.com/event/shelton-mounce-wedding/
LOCATION:Overlook Barn\, NC\, United States
END:VEVENT
BEGIN:VEVENT
DTSTART;TZID=America/New_York:20230624T100000
DTEND;TZID=America/New_York:20230624T230000
DTSTAMP:20260425T081420
CREATED:20221115T150531Z
LAST-MODIFIED:20221115T150531Z
UID:17780-1687600800-1687647600@overlookbarn.com
SUMMARY:Molloy-Buczek Wedding
DESCRIPTION:
URL:https://overlookbarn.com/event/molloy-buczek-wedding-2/
LOCATION:Overlook Barn\, NC\, United States
END:VEVENT
BEGIN:VEVENT
DTSTART;TZID=America/New_York:20230623T100000
DTEND;TZID=America/New_York:20230623T230000
DTSTAMP:20260425T081420
CREATED:20221018T144847Z
LAST-MODIFIED:20221018T144847Z
UID:17521-1687514400-1687561200@overlookbarn.com
SUMMARY:Errichiello-Lyon Wedding
DESCRIPTION:
URL:https://overlookbarn.com/event/errichiello-lyon-wedding/
LOCATION:Overlook Barn\, NC\, United States
END:VEVENT
BEGIN:VEVENT
DTSTART;TZID=America/New_York:20230619T100000
DTEND;TZID=America/New_York:20230619T230000
DTSTAMP:20260425T081420
CREATED:20230113T190838Z
LAST-MODIFIED:20230113T190838Z
UID:18532-1687168800-1687215600@overlookbarn.com
SUMMARY:Lett-Hart Microwedding
DESCRIPTION:
URL:https://overlookbarn.com/event/lett-hart-microwedding/
LOCATION:Cliffside Barn\, NC\, United States
END:VEVENT
BEGIN:VEVENT
DTSTART;TZID=America/New_York:20230617T100000
DTEND;TZID=America/New_York:20230617T230000
DTSTAMP:20260425T081420
CREATED:20220802T135526Z
LAST-MODIFIED:20220802T135526Z
UID:16484-1686996000-1687042800@overlookbarn.com
SUMMARY:Furr-Potter Wedding
DESCRIPTION:
URL:https://overlookbarn.com/event/furr-potter-wedding/
LOCATION:Overlook Barn\, NC\, United States
END:VEVENT
BEGIN:VEVENT
DTSTART;TZID=America/New_York:20230616T100000
DTEND;TZID=America/New_York:20230616T230000
DTSTAMP:20260425T081420
CREATED:20230214T160505Z
LAST-MODIFIED:20230214T160505Z
UID:18850-1686909600-1686956400@overlookbarn.com
SUMMARY:Rhodes-Blair Wedding
DESCRIPTION:
URL:https://overlookbarn.com/event/rhodes-blair-wedding/
LOCATION:Overlook Barn\, NC\, United States
END:VEVENT
BEGIN:VEVENT
DTSTART;TZID=America/New_York:20230610T100000
DTEND;TZID=America/New_York:20230610T230000
DTSTAMP:20260425T081420
CREATED:20220928T182026Z
LAST-MODIFIED:20220928T182026Z
UID:17289-1686391200-1686438000@overlookbarn.com
SUMMARY:Stepp Jones Wedding
DESCRIPTION:
URL:https://overlookbarn.com/event/stepp-jones-wedding/
LOCATION:Overlook Barn\, NC\, United States
END:VEVENT
BEGIN:VEVENT
DTSTART;TZID=America/New_York:20230603T100000
DTEND;TZID=America/New_York:20230603T230000
DTSTAMP:20260425T081420
CREATED:20220516T145822Z
LAST-MODIFIED:20220516T145822Z
UID:15500-1685786400-1685833200@overlookbarn.com
SUMMARY:Olson-Schaefer Wedding
DESCRIPTION:
URL:https://overlookbarn.com/event/olson-schaefer-wedding/
LOCATION:Overlook Barn\, NC\, United States
END:VEVENT
BEGIN:VEVENT
DTSTART;TZID=America/New_York:20230527T100000
DTEND;TZID=America/New_York:20230527T230000
DTSTAMP:20260425T081420
CREATED:20220802T135421Z
LAST-MODIFIED:20220802T135421Z
UID:16480-1685181600-1685228400@overlookbarn.com
SUMMARY:Bulvin-Hite Wedding
DESCRIPTION:
URL:https://overlookbarn.com/event/bulvin-hite-wedding/
LOCATION:Overlook Barn\, NC\, United States
END:VEVENT
BEGIN:VEVENT
DTSTART;TZID=America/New_York:20230525T100000
DTEND;TZID=America/New_York:20230525T230000
DTSTAMP:20260425T081420
CREATED:20220127T183800Z
LAST-MODIFIED:20220127T183800Z
UID:14381-1685008800-1685055600@overlookbarn.com
SUMMARY:Escher-DeGroff Wedding
DESCRIPTION:
URL:https://overlookbarn.com/event/escher-degroff-wedding/
LOCATION:Overlook Barn\, NC\, United States
END:VEVENT
BEGIN:VEVENT
DTSTART;TZID=America/New_York:20230521T100000
DTEND;TZID=America/New_York:20230521T230000
DTSTAMP:20260425T081420
CREATED:20230608T155803Z
LAST-MODIFIED:20230608T155803Z
UID:19676-1684663200-1684710000@overlookbarn.com
SUMMARY:Manning-Westmoreland Wedding
DESCRIPTION:
URL:https://overlookbarn.com/event/manning-westmoreland-wedding/
LOCATION:Overlook Barn\, NC\, United States
END:VEVENT
BEGIN:VEVENT
DTSTART;TZID=America/New_York:20230520T100000
DTEND;TZID=America/New_York:20230520T230000
DTSTAMP:20260425T081420
CREATED:20220826T173038Z
LAST-MODIFIED:20220826T173038Z
UID:16793-1684576800-1684623600@overlookbarn.com
SUMMARY:Sims-Orr Wedding
DESCRIPTION:
URL:https://overlookbarn.com/event/sims-orr-wedding/
LOCATION:Overlook Barn\, NC\, United States
END:VEVENT
BEGIN:VEVENT
DTSTART;TZID=America/New_York:20230513T100000
DTEND;TZID=America/New_York:20230513T230000
DTSTAMP:20260425T081420
CREATED:20211209T212247Z
LAST-MODIFIED:20211209T212247Z
UID:13671-1683972000-1684018800@overlookbarn.com
SUMMARY:Roper-Gregory Wedding
DESCRIPTION:
URL:https://overlookbarn.com/event/roper-gregory-wedding/
LOCATION:Overlook Barn\, NC\, United States
END:VEVENT
BEGIN:VEVENT
DTSTART;TZID=America/New_York:20230512T100000
DTEND;TZID=America/New_York:20230512T230000
DTSTAMP:20260425T081420
CREATED:20220907T150635Z
LAST-MODIFIED:20220907T150635Z
UID:16966-1683885600-1683932400@overlookbarn.com
SUMMARY:Martin-Fairly Wedding
DESCRIPTION:
URL:https://overlookbarn.com/event/martin-fairly-wedding/
LOCATION:Overlook Barn\, NC\, United States
END:VEVENT
BEGIN:VEVENT
DTSTART;TZID=America/New_York:20230507T100000
DTEND;TZID=America/New_York:20230507T230000
DTSTAMP:20260425T081420
CREATED:20221018T144756Z
LAST-MODIFIED:20221018T144756Z
UID:17519-1683453600-1683500400@overlookbarn.com
SUMMARY:Cabrera-Rose Wedding
DESCRIPTION:
URL:https://overlookbarn.com/event/cabrera-rose-wedding/
LOCATION:Overlook Barn\, NC\, United States
END:VEVENT
BEGIN:VEVENT
DTSTART;TZID=America/New_York:20230506T100000
DTEND;TZID=America/New_York:20230506T230000
DTSTAMP:20260425T081420
CREATED:20220826T173340Z
LAST-MODIFIED:20220826T173340Z
UID:16801-1683367200-1683414000@overlookbarn.com
SUMMARY:Brown Stancik Wedding
DESCRIPTION:
URL:https://overlookbarn.com/event/brown-stancik-wedding/
LOCATION:Overlook Barn\, NC\, United States
END:VEVENT
BEGIN:VEVENT
DTSTART;TZID=America/New_York:20230505T100000
DTEND;TZID=America/New_York:20230505T230000
DTSTAMP:20260425T081420
CREATED:20220826T172921Z
LAST-MODIFIED:20220826T172921Z
UID:16789-1683280800-1683327600@overlookbarn.com
SUMMARY:Johnson-LaPlante Wedding
DESCRIPTION:
URL:https://overlookbarn.com/event/johnson-laplante-wedding/
LOCATION:Overlook Barn\, NC\, United States
END:VEVENT
BEGIN:VEVENT
DTSTART;TZID=America/New_York:20230430T100000
DTEND;TZID=America/New_York:20230430T230000
DTSTAMP:20260425T081420
CREATED:20220321T135658Z
LAST-MODIFIED:20220321T135658Z
UID:14900-1682848800-1682895600@overlookbarn.com
SUMMARY:Hatten-Woody Wedding
DESCRIPTION:
URL:https://overlookbarn.com/event/hatten-woody-wedding/
LOCATION:Overlook Barn\, NC\, United States
END:VEVENT
BEGIN:VEVENT
DTSTART;TZID=America/New_York:20230429T100000
DTEND;TZID=America/New_York:20230429T230000
DTSTAMP:20260425T081420
CREATED:20230214T160540Z
LAST-MODIFIED:20230214T160540Z
UID:18852-1682762400-1682809200@overlookbarn.com
SUMMARY:Ehrenreich-Harris Wedding
DESCRIPTION:
URL:https://overlookbarn.com/event/ehrenreich-harris-wedding/
LOCATION:Overlook Barn\, NC\, United States
END:VEVENT
BEGIN:VEVENT
DTSTART;TZID=America/New_York:20230428T100000
DTEND;TZID=America/New_York:20230428T230000
DTSTAMP:20260425T081420
CREATED:20220204T170145Z
LAST-MODIFIED:20220204T170145Z
UID:14487-1682676000-1682722800@overlookbarn.com
SUMMARY:Megan-McGuirk Wedding
DESCRIPTION:
URL:https://overlookbarn.com/event/megan-mcguirk-wedding/
LOCATION:Overlook Barn\, NC\, United States
END:VEVENT
BEGIN:VEVENT
DTSTART;TZID=America/New_York:20230422T100000
DTEND;TZID=America/New_York:20230422T230000
DTSTAMP:20260425T081420
CREATED:20220802T135630Z
LAST-MODIFIED:20220802T135630Z
UID:16488-1682157600-1682204400@overlookbarn.com
SUMMARY:Gibbs-Andersen Wedding
DESCRIPTION:
URL:https://overlookbarn.com/event/gibbs-andersen-wedding/
LOCATION:Overlook Barn\, NC\, United States
END:VEVENT
BEGIN:VEVENT
DTSTART;TZID=America/New_York:20230421T100000
DTEND;TZID=America/New_York:20230421T230000
DTSTAMP:20260425T081420
CREATED:20220815T143951Z
LAST-MODIFIED:20220815T143951Z
UID:16672-1682071200-1682118000@overlookbarn.com
SUMMARY:Citron-Knolmayer Wedding
DESCRIPTION:
URL:https://overlookbarn.com/event/citron-knolmayer-wedding/
LOCATION:Overlook Barn\, NC\, United States
END:VEVENT
END:VCALENDAR