BEGIN:VCALENDAR
VERSION:2.0
PRODID:-//Overlook Barn - ECPv6.15.3//NONSGML v1.0//EN
CALSCALE:GREGORIAN
METHOD:PUBLISH
X-WR-CALNAME:Overlook Barn
X-ORIGINAL-URL:https://overlookbarn.com
X-WR-CALDESC:Events for Overlook Barn
REFRESH-INTERVAL;VALUE=DURATION:PT1H
X-Robots-Tag:noindex
X-PUBLISHED-TTL:PT1H
BEGIN:VTIMEZONE
TZID:America/New_York
BEGIN:DAYLIGHT
TZOFFSETFROM:-0500
TZOFFSETTO:-0400
TZNAME:EDT
DTSTART:20220313T070000
END:DAYLIGHT
BEGIN:STANDARD
TZOFFSETFROM:-0400
TZOFFSETTO:-0500
TZNAME:EST
DTSTART:20221106T060000
END:STANDARD
END:VTIMEZONE
BEGIN:VEVENT
DTSTART;TZID=America/New_York:20220716T100000
DTEND;TZID=America/New_York:20220716T230000
DTSTAMP:20260425T104404
CREATED:20210626T141547Z
LAST-MODIFIED:20210626T141547Z
UID:11174-1657965600-1658012400@overlookbarn.com
SUMMARY:Bekerman-McWilliams Wedding
DESCRIPTION:
URL:https://overlookbarn.com/event/bekerman-mcwilliams-wedding/
LOCATION:Overlook Barn\, NC\, United States
END:VEVENT
BEGIN:VEVENT
DTSTART;TZID=America/New_York:20220710T100000
DTEND;TZID=America/New_York:20220710T230000
DTSTAMP:20260425T104404
CREATED:20220516T150538Z
LAST-MODIFIED:20220516T150538Z
UID:15522-1657447200-1657494000@overlookbarn.com
SUMMARY:Fuller-Sears Wedding
DESCRIPTION:
URL:https://overlookbarn.com/event/fuller-sears-wedding/
LOCATION:Overlook Barn\, NC\, United States
END:VEVENT
BEGIN:VEVENT
DTSTART;TZID=America/New_York:20220709T100000
DTEND;TZID=America/New_York:20220709T230000
DTSTAMP:20260425T104404
CREATED:20211029T181108Z
LAST-MODIFIED:20211029T181108Z
UID:13122-1657360800-1657407600@overlookbarn.com
SUMMARY:Kropp-O'Brien Wedding
DESCRIPTION:
URL:https://overlookbarn.com/event/kropp-obrien-wedding/
LOCATION:Overlook Barn\, NC\, United States
END:VEVENT
BEGIN:VEVENT
DTSTART;TZID=America/New_York:20220704T100000
DTEND;TZID=America/New_York:20220704T230000
DTSTAMP:20260425T104404
CREATED:20220127T184220Z
LAST-MODIFIED:20220127T184220Z
UID:14391-1656928800-1656975600@overlookbarn.com
SUMMARY:Bell-Yeager Wedding
DESCRIPTION:
URL:https://overlookbarn.com/event/bell-yeager-wedding/
LOCATION:Overlook Barn\, NC\, United States
END:VEVENT
BEGIN:VEVENT
DTSTART;TZID=America/New_York:20220702T100000
DTEND;TZID=America/New_York:20220702T230000
DTSTAMP:20260425T104404
CREATED:20211029T181151Z
LAST-MODIFIED:20211029T181151Z
UID:13124-1656756000-1656802800@overlookbarn.com
SUMMARY:Collins-Power Wedding
DESCRIPTION:
URL:https://overlookbarn.com/event/collins-power-wedding/
LOCATION:Overlook Barn\, NC\, United States
END:VEVENT
BEGIN:VEVENT
DTSTART;TZID=America/New_York:20220625T100000
DTEND;TZID=America/New_York:20220625T230000
DTSTAMP:20260425T104404
CREATED:20210525T135219Z
LAST-MODIFIED:20210525T135219Z
UID:10763-1656151200-1656198000@overlookbarn.com
SUMMARY:Stetzer-Perlman Wedding
DESCRIPTION:
URL:https://overlookbarn.com/event/stetzer-perlman-wedding/
LOCATION:Overlook Barn\, NC\, United States
END:VEVENT
BEGIN:VEVENT
DTSTART;TZID=America/New_York:20220618T100000
DTEND;TZID=America/New_York:20220618T230000
DTSTAMP:20260425T104404
CREATED:20210626T141708Z
LAST-MODIFIED:20210626T141708Z
UID:11179-1655546400-1655593200@overlookbarn.com
SUMMARY:Gill-Smith Wedding
DESCRIPTION:
URL:https://overlookbarn.com/event/gill-smith-wedding/
LOCATION:Overlook Barn\, NC\, United States
END:VEVENT
BEGIN:VEVENT
DTSTART;TZID=America/New_York:20220616T150000
DTEND;TZID=America/New_York:20220616T200000
DTSTAMP:20260425T104404
CREATED:20210419T141342Z
LAST-MODIFIED:20210419T141342Z
UID:10319-1655391600-1655409600@overlookbarn.com
SUMMARY:Smith-Creech Microwedding
DESCRIPTION:
URL:https://overlookbarn.com/event/smith-creech-microwedding/
LOCATION:Overlook Barn\, NC\, United States
END:VEVENT
BEGIN:VEVENT
DTSTART;TZID=America/New_York:20220613T150000
DTEND;TZID=America/New_York:20220613T200000
DTSTAMP:20260425T104404
CREATED:20220321T135618Z
LAST-MODIFIED:20220321T135618Z
UID:14898-1655132400-1655150400@overlookbarn.com
SUMMARY:Lindeman-Apfel Microwedding
DESCRIPTION:
URL:https://overlookbarn.com/event/lindeman-apfel-microwedding/
LOCATION:Cliffside Barn\, NC\, United States
END:VEVENT
BEGIN:VEVENT
DTSTART;TZID=America/New_York:20220611T100000
DTEND;TZID=America/New_York:20220611T230000
DTSTAMP:20260425T104404
CREATED:20210419T141245Z
LAST-MODIFIED:20210419T141245Z
UID:10317-1654941600-1654988400@overlookbarn.com
SUMMARY:Campbell-Anderson Wedding
DESCRIPTION:
URL:https://overlookbarn.com/event/campbell-anderson-wedding/
LOCATION:Overlook Barn\, NC\, United States
END:VEVENT
BEGIN:VEVENT
DTSTART;TZID=America/New_York:20220609T100000
DTEND;TZID=America/New_York:20220609T230000
DTSTAMP:20260425T104404
CREATED:20210419T141712Z
LAST-MODIFIED:20210419T141712Z
UID:10325-1654768800-1654815600@overlookbarn.com
SUMMARY:50th Wedding Anniversary Celebration
DESCRIPTION:
URL:https://overlookbarn.com/event/50th-wedding-anniversary-celebration/
LOCATION:Overlook Barn\, NC\, United States
END:VEVENT
BEGIN:VEVENT
DTSTART;TZID=America/New_York:20220604T100000
DTEND;TZID=America/New_York:20220604T230000
DTSTAMP:20260425T104404
CREATED:20210206T144328Z
LAST-MODIFIED:20210206T144328Z
UID:9358-1654336800-1654383600@overlookbarn.com
SUMMARY:Hoorwitz-Nielsen Wedding
DESCRIPTION:
URL:https://overlookbarn.com/event/hoorwitz-nielsen-wedding/
LOCATION:Overlook Barn\, NC\, United States
END:VEVENT
BEGIN:VEVENT
DTSTART;TZID=America/New_York:20220603T100000
DTEND;TZID=America/New_York:20220603T230000
DTSTAMP:20260425T104404
CREATED:20210803T203631Z
LAST-MODIFIED:20210803T203631Z
UID:11856-1654250400-1654297200@overlookbarn.com
SUMMARY:Harris-Roberson Wedding
DESCRIPTION:
URL:https://overlookbarn.com/event/harris-roberson-wedding/
LOCATION:Overlook Barn\, NC\, United States
END:VEVENT
BEGIN:VEVENT
DTSTART;TZID=America/New_York:20220602T100000
DTEND;TZID=America/New_York:20220602T230000
DTSTAMP:20260425T104404
CREATED:20220127T183954Z
LAST-MODIFIED:20220127T183954Z
UID:14385-1654164000-1654210800@overlookbarn.com
SUMMARY:Roberson-Harris Rehearsal Dinner
DESCRIPTION:
URL:https://overlookbarn.com/event/roberson-harris-rehearsal-dinner/
LOCATION:Overlook Barn\, NC\, United States
END:VEVENT
BEGIN:VEVENT
DTSTART;TZID=America/New_York:20220529T100000
DTEND;TZID=America/New_York:20220529T230000
DTSTAMP:20260425T104404
CREATED:20210803T203600Z
LAST-MODIFIED:20210803T203600Z
UID:11854-1653818400-1653865200@overlookbarn.com
SUMMARY:Mann-Barker Wedding
DESCRIPTION:
URL:https://overlookbarn.com/event/mann-barker-wedding/
LOCATION:Overlook Barn\, NC\, United States
END:VEVENT
BEGIN:VEVENT
DTSTART;TZID=America/New_York:20220526T100000
DTEND;TZID=America/New_York:20220526T230000
DTSTAMP:20260425T104404
CREATED:20210803T203220Z
LAST-MODIFIED:20210803T203220Z
UID:11842-1653559200-1653606000@overlookbarn.com
SUMMARY:McKinney-Jones Wedding
DESCRIPTION:
URL:https://overlookbarn.com/event/mckinney-jones-wedding/
LOCATION:Overlook Barn\, NC\, United States
END:VEVENT
BEGIN:VEVENT
DTSTART;TZID=America/New_York:20220516T150000
DTEND;TZID=America/New_York:20220516T200000
DTSTAMP:20260425T104404
CREATED:20210712T182446Z
LAST-MODIFIED:20210712T182446Z
UID:11453-1652713200-1652731200@overlookbarn.com
SUMMARY:Lauria-Templeton Microwedding
DESCRIPTION:
URL:https://overlookbarn.com/event/lauria-templeton-microwedding/
LOCATION:Cliffside Barn\, NC\, United States
END:VEVENT
BEGIN:VEVENT
DTSTART;TZID=America/New_York:20220515T100000
DTEND;TZID=America/New_York:20220515T230000
DTSTAMP:20260425T104404
CREATED:20220516T150345Z
LAST-MODIFIED:20220516T150345Z
UID:15516-1652608800-1652655600@overlookbarn.com
SUMMARY:Robinson-Post Microwedding
DESCRIPTION:
URL:https://overlookbarn.com/event/robinson-post-microwedding/
LOCATION:Cliffside Barn\, NC\, United States
END:VEVENT
BEGIN:VEVENT
DTSTART;TZID=America/New_York:20220514T100000
DTEND;TZID=America/New_York:20220514T230000
DTSTAMP:20260425T104404
CREATED:20220204T170256Z
LAST-MODIFIED:20220204T170256Z
UID:14491-1652522400-1652569200@overlookbarn.com
SUMMARY:Pyles-Heagy Wedding
DESCRIPTION:
URL:https://overlookbarn.com/event/pyles-heagy-wedding/
LOCATION:Overlook Barn\, NC\, United States
END:VEVENT
BEGIN:VEVENT
DTSTART;TZID=America/New_York:20220512T100000
DTEND;TZID=America/New_York:20220512T230000
DTSTAMP:20260425T104404
CREATED:20210419T141810Z
LAST-MODIFIED:20210419T141810Z
UID:10327-1652349600-1652396400@overlookbarn.com
SUMMARY:Chase-Allen Wedding
DESCRIPTION:
URL:https://overlookbarn.com/event/chase-allen-wedding/
LOCATION:Overlook Barn\, NC\, United States
END:VEVENT
BEGIN:VEVENT
DTSTART;TZID=America/New_York:20220505T150000
DTEND;TZID=America/New_York:20220505T190000
DTSTAMP:20260425T104404
CREATED:20211029T180701Z
LAST-MODIFIED:20211029T180701Z
UID:13112-1651762800-1651777200@overlookbarn.com
SUMMARY:Price-Varner Elopement
DESCRIPTION:
URL:https://overlookbarn.com/event/price-varner-elopement/
LOCATION:Cliffside Barn\, NC\, United States
END:VEVENT
BEGIN:VEVENT
DTSTART;TZID=America/New_York:20220503T160000
DTEND;TZID=America/New_York:20220503T200000
DTSTAMP:20260425T104404
CREATED:20220516T150509Z
LAST-MODIFIED:20220516T150509Z
UID:15520-1651593600-1651608000@overlookbarn.com
SUMMARY:TDA Workshop
DESCRIPTION:
URL:https://overlookbarn.com/event/tda-workshop/
LOCATION:Overlook Barn\, NC\, United States
END:VEVENT
BEGIN:VEVENT
DTSTART;TZID=America/New_York:20220502T150000
DTEND;TZID=America/New_York:20220502T200000
DTSTAMP:20260425T104404
CREATED:20211222T144319Z
LAST-MODIFIED:20211222T144319Z
UID:13849-1651503600-1651521600@overlookbarn.com
SUMMARY:Martin-McDonald Microwedding
DESCRIPTION:
URL:https://overlookbarn.com/event/martin-mcdonald-microwedding/
LOCATION:Cliffside Barn\, NC\, United States
END:VEVENT
BEGIN:VEVENT
DTSTART;TZID=America/New_York:20220430T100000
DTEND;TZID=America/New_York:20220430T230000
DTSTAMP:20260425T104404
CREATED:20210712T182722Z
LAST-MODIFIED:20210712T182722Z
UID:11461-1651312800-1651359600@overlookbarn.com
SUMMARY:Goebelbecker-Smith Wedding
DESCRIPTION:
URL:https://overlookbarn.com/event/goebelbecker-smith-wedding/
LOCATION:Overlook Barn\, NC\, United States
END:VEVENT
BEGIN:VEVENT
DTSTART;TZID=America/New_York:20220429T100000
DTEND;TZID=America/New_York:20220429T230000
DTSTAMP:20260425T104404
CREATED:20210626T141827Z
LAST-MODIFIED:20210626T141827Z
UID:11183-1651226400-1651273200@overlookbarn.com
SUMMARY:Villegas-Casadidio Wedding
DESCRIPTION:
URL:https://overlookbarn.com/event/villegas-casadidio-wedding/
LOCATION:Overlook Barn\, NC\, United States
END:VEVENT
BEGIN:VEVENT
DTSTART;TZID=America/New_York:20220428T160000
DTEND;TZID=America/New_York:20220428T200000
DTSTAMP:20260425T104404
CREATED:20210626T142020Z
LAST-MODIFIED:20210626T142020Z
UID:11187-1651161600-1651176000@overlookbarn.com
SUMMARY:Cholewa-Thompson Microwedding
DESCRIPTION:
URL:https://overlookbarn.com/event/cholewa-thompson-microwedding/
LOCATION:Cliffside Barn\, NC\, United States
END:VEVENT
BEGIN:VEVENT
DTSTART;TZID=America/New_York:20220423T100000
DTEND;TZID=America/New_York:20220423T230000
DTSTAMP:20260425T104404
CREATED:20210309T132320Z
LAST-MODIFIED:20210309T132320Z
UID:9761-1650708000-1650754800@overlookbarn.com
SUMMARY:Jordan-Bodine Wedding
DESCRIPTION:
URL:https://overlookbarn.com/event/jordan-bodine-wedding/
LOCATION:Overlook Barn\, NC\, United States
END:VEVENT
BEGIN:VEVENT
DTSTART;TZID=America/New_York:20220422T100000
DTEND;TZID=America/New_York:20220422T230000
DTSTAMP:20260425T104404
CREATED:20210206T144805Z
LAST-MODIFIED:20210206T144805Z
UID:9366-1650621600-1650668400@overlookbarn.com
SUMMARY:Roberto-Mazza Wedding
DESCRIPTION:
URL:https://overlookbarn.com/event/roberto-mazza-wedding/
LOCATION:Overlook Barn\, NC\, United States
END:VEVENT
BEGIN:VEVENT
DTSTART;TZID=America/New_York:20220408T100000
DTEND;TZID=America/New_York:20220408T230000
DTSTAMP:20260425T104404
CREATED:20210626T141506Z
LAST-MODIFIED:20210626T141506Z
UID:11172-1649412000-1649458800@overlookbarn.com
SUMMARY:Bowman-Hallman Wedding
DESCRIPTION:
URL:https://overlookbarn.com/event/bowman-hallman-wedding/
LOCATION:Overlook Barn\, NC\, United States
END:VEVENT
BEGIN:VEVENT
DTSTART;TZID=America/New_York:20220401T100000
DTEND;TZID=America/New_York:20220401T230000
DTSTAMP:20260425T104404
CREATED:20200919T022810Z
LAST-MODIFIED:20210927T184045Z
UID:7412-1648807200-1648854000@overlookbarn.com
SUMMARY:Kushell-Walker Wedding
DESCRIPTION:
URL:https://overlookbarn.com/event/kushell-walker-wedding/
LOCATION:Overlook Barn\, NC\, United States
END:VEVENT
END:VCALENDAR