BEGIN:VCALENDAR
VERSION:2.0
PRODID:-//Overlook Barn - ECPv6.15.3//NONSGML v1.0//EN
CALSCALE:GREGORIAN
METHOD:PUBLISH
X-ORIGINAL-URL:https://overlookbarn.com
X-WR-CALDESC:Events for Overlook Barn
REFRESH-INTERVAL;VALUE=DURATION:PT1H
X-Robots-Tag:noindex
X-PUBLISHED-TTL:PT1H
BEGIN:VTIMEZONE
TZID:America/New_York
BEGIN:DAYLIGHT
TZOFFSETFROM:-0500
TZOFFSETTO:-0400
TZNAME:EDT
DTSTART:20210314T070000
END:DAYLIGHT
BEGIN:STANDARD
TZOFFSETFROM:-0400
TZOFFSETTO:-0500
TZNAME:EST
DTSTART:20211107T060000
END:STANDARD
BEGIN:DAYLIGHT
TZOFFSETFROM:-0500
TZOFFSETTO:-0400
TZNAME:EDT
DTSTART:20220313T070000
END:DAYLIGHT
BEGIN:STANDARD
TZOFFSETFROM:-0400
TZOFFSETTO:-0500
TZNAME:EST
DTSTART:20221106T060000
END:STANDARD
END:VTIMEZONE
BEGIN:VTIMEZONE
TZID:UTC
BEGIN:STANDARD
TZOFFSETFROM:+0000
TZOFFSETTO:+0000
TZNAME:UTC
DTSTART:20210101T000000
END:STANDARD
END:VTIMEZONE
BEGIN:VEVENT
DTSTART;TZID=America/New_York:20220515T100000
DTEND;TZID=America/New_York:20220515T230000
DTSTAMP:20260425T103732
CREATED:20220516T150345Z
LAST-MODIFIED:20220516T150345Z
UID:15516-1652608800-1652655600@overlookbarn.com
SUMMARY:Robinson-Post Microwedding
DESCRIPTION:
URL:https://overlookbarn.com/event/robinson-post-microwedding/
LOCATION:Cliffside Barn\, NC\, United States
END:VEVENT
BEGIN:VEVENT
DTSTART;TZID=America/New_York:20220514T100000
DTEND;TZID=America/New_York:20220514T230000
DTSTAMP:20260425T103732
CREATED:20220204T170256Z
LAST-MODIFIED:20220204T170256Z
UID:14491-1652522400-1652569200@overlookbarn.com
SUMMARY:Pyles-Heagy Wedding
DESCRIPTION:
URL:https://overlookbarn.com/event/pyles-heagy-wedding/
LOCATION:Overlook Barn\, NC\, United States
END:VEVENT
BEGIN:VEVENT
DTSTART;TZID=America/New_York:20220512T100000
DTEND;TZID=America/New_York:20220512T230000
DTSTAMP:20260425T103732
CREATED:20210419T141810Z
LAST-MODIFIED:20210419T141810Z
UID:10327-1652349600-1652396400@overlookbarn.com
SUMMARY:Chase-Allen Wedding
DESCRIPTION:
URL:https://overlookbarn.com/event/chase-allen-wedding/
LOCATION:Overlook Barn\, NC\, United States
END:VEVENT
BEGIN:VEVENT
DTSTART;TZID=America/New_York:20220505T150000
DTEND;TZID=America/New_York:20220505T190000
DTSTAMP:20260425T103732
CREATED:20211029T180701Z
LAST-MODIFIED:20211029T180701Z
UID:13112-1651762800-1651777200@overlookbarn.com
SUMMARY:Price-Varner Elopement
DESCRIPTION:
URL:https://overlookbarn.com/event/price-varner-elopement/
LOCATION:Cliffside Barn\, NC\, United States
END:VEVENT
BEGIN:VEVENT
DTSTART;TZID=America/New_York:20220503T160000
DTEND;TZID=America/New_York:20220503T200000
DTSTAMP:20260425T103732
CREATED:20220516T150509Z
LAST-MODIFIED:20220516T150509Z
UID:15520-1651593600-1651608000@overlookbarn.com
SUMMARY:TDA Workshop
DESCRIPTION:
URL:https://overlookbarn.com/event/tda-workshop/
LOCATION:Overlook Barn\, NC\, United States
END:VEVENT
BEGIN:VEVENT
DTSTART;TZID=America/New_York:20220502T150000
DTEND;TZID=America/New_York:20220502T200000
DTSTAMP:20260425T103732
CREATED:20211222T144319Z
LAST-MODIFIED:20211222T144319Z
UID:13849-1651503600-1651521600@overlookbarn.com
SUMMARY:Martin-McDonald Microwedding
DESCRIPTION:
URL:https://overlookbarn.com/event/martin-mcdonald-microwedding/
LOCATION:Cliffside Barn\, NC\, United States
END:VEVENT
BEGIN:VEVENT
DTSTART;TZID=America/New_York:20220430T100000
DTEND;TZID=America/New_York:20220430T230000
DTSTAMP:20260425T103732
CREATED:20210712T182722Z
LAST-MODIFIED:20210712T182722Z
UID:11461-1651312800-1651359600@overlookbarn.com
SUMMARY:Goebelbecker-Smith Wedding
DESCRIPTION:
URL:https://overlookbarn.com/event/goebelbecker-smith-wedding/
LOCATION:Overlook Barn\, NC\, United States
END:VEVENT
BEGIN:VEVENT
DTSTART;TZID=America/New_York:20220429T100000
DTEND;TZID=America/New_York:20220429T230000
DTSTAMP:20260425T103732
CREATED:20210626T141827Z
LAST-MODIFIED:20210626T141827Z
UID:11183-1651226400-1651273200@overlookbarn.com
SUMMARY:Villegas-Casadidio Wedding
DESCRIPTION:
URL:https://overlookbarn.com/event/villegas-casadidio-wedding/
LOCATION:Overlook Barn\, NC\, United States
END:VEVENT
BEGIN:VEVENT
DTSTART;TZID=America/New_York:20220428T160000
DTEND;TZID=America/New_York:20220428T200000
DTSTAMP:20260425T103732
CREATED:20210626T142020Z
LAST-MODIFIED:20210626T142020Z
UID:11187-1651161600-1651176000@overlookbarn.com
SUMMARY:Cholewa-Thompson Microwedding
DESCRIPTION:
URL:https://overlookbarn.com/event/cholewa-thompson-microwedding/
LOCATION:Cliffside Barn\, NC\, United States
END:VEVENT
BEGIN:VEVENT
DTSTART;TZID=America/New_York:20220423T100000
DTEND;TZID=America/New_York:20220423T230000
DTSTAMP:20260425T103732
CREATED:20210309T132320Z
LAST-MODIFIED:20210309T132320Z
UID:9761-1650708000-1650754800@overlookbarn.com
SUMMARY:Jordan-Bodine Wedding
DESCRIPTION:
URL:https://overlookbarn.com/event/jordan-bodine-wedding/
LOCATION:Overlook Barn\, NC\, United States
END:VEVENT
BEGIN:VEVENT
DTSTART;TZID=America/New_York:20220422T100000
DTEND;TZID=America/New_York:20220422T230000
DTSTAMP:20260425T103732
CREATED:20210206T144805Z
LAST-MODIFIED:20210206T144805Z
UID:9366-1650621600-1650668400@overlookbarn.com
SUMMARY:Roberto-Mazza Wedding
DESCRIPTION:
URL:https://overlookbarn.com/event/roberto-mazza-wedding/
LOCATION:Overlook Barn\, NC\, United States
END:VEVENT
BEGIN:VEVENT
DTSTART;TZID=America/New_York:20220408T100000
DTEND;TZID=America/New_York:20220408T230000
DTSTAMP:20260425T103732
CREATED:20210626T141506Z
LAST-MODIFIED:20210626T141506Z
UID:11172-1649412000-1649458800@overlookbarn.com
SUMMARY:Bowman-Hallman Wedding
DESCRIPTION:
URL:https://overlookbarn.com/event/bowman-hallman-wedding/
LOCATION:Overlook Barn\, NC\, United States
END:VEVENT
BEGIN:VEVENT
DTSTART;TZID=America/New_York:20220401T100000
DTEND;TZID=America/New_York:20220401T230000
DTSTAMP:20260425T103732
CREATED:20200919T022810Z
LAST-MODIFIED:20210927T184045Z
UID:7412-1648807200-1648854000@overlookbarn.com
SUMMARY:Kushell-Walker Wedding
DESCRIPTION:
URL:https://overlookbarn.com/event/kushell-walker-wedding/
LOCATION:Overlook Barn\, NC\, United States
END:VEVENT
BEGIN:VEVENT
DTSTART;TZID=America/New_York:20220326T160000
DTEND;TZID=America/New_York:20220326T190000
DTSTAMP:20260425T103732
CREATED:20210220T131237Z
LAST-MODIFIED:20210220T131237Z
UID:9521-1648310400-1648321200@overlookbarn.com
SUMMARY:Stevens-Bessell Microwedding
DESCRIPTION:
URL:https://overlookbarn.com/event/stevens-bessell-microwedding/
LOCATION:Overlook Barn\, NC\, United States
END:VEVENT
BEGIN:VEVENT
DTSTART;TZID=America/New_York:20220317T150000
DTEND;TZID=America/New_York:20220317T190000
DTSTAMP:20260425T103732
CREATED:20211209T212630Z
LAST-MODIFIED:20211209T212630Z
UID:13681-1647529200-1647543600@overlookbarn.com
SUMMARY:Littleton-Conekin Elopement
DESCRIPTION:
URL:https://overlookbarn.com/event/littleton-conekin-elopement/
LOCATION:Cliffside Barn\, NC\, United States
END:VEVENT
BEGIN:VEVENT
DTSTART;TZID=America/New_York:20220311T150000
DTEND;TZID=America/New_York:20220311T190000
DTSTAMP:20260425T103732
CREATED:20220127T184409Z
LAST-MODIFIED:20220127T184409Z
UID:14397-1647010800-1647025200@overlookbarn.com
SUMMARY:Angelo-Steele Elopement
DESCRIPTION:
URL:https://overlookbarn.com/event/angelo-steele-elopement/
LOCATION:Cliffside Barn\, NC\, United States
END:VEVENT
BEGIN:VEVENT
DTSTART;TZID=America/New_York:20220310T150000
DTEND;TZID=America/New_York:20220310T180000
DTSTAMP:20260425T103732
CREATED:20210803T203141Z
LAST-MODIFIED:20210803T203141Z
UID:11840-1646924400-1646935200@overlookbarn.com
SUMMARY:Lott-Rhynehart Elopement
DESCRIPTION:
URL:https://overlookbarn.com/event/lott-rhynehart-elopement/
LOCATION:Overlook Barn\, NC\, United States
END:VEVENT
BEGIN:VEVENT
DTSTART;TZID=America/New_York:20220207T130000
DTEND;TZID=America/New_York:20220207T170000
DTSTAMP:20260425T103732
CREATED:20211209T212713Z
LAST-MODIFIED:20211209T212713Z
UID:13683-1644238800-1644253200@overlookbarn.com
SUMMARY:Figueroa-Alamina Elopement
DESCRIPTION:
URL:https://overlookbarn.com/event/figueroa-alamina-elopement/
LOCATION:Cliffside Barn\, NC\, United States
END:VEVENT
BEGIN:VEVENT
DTSTART;TZID=America/New_York:20220205T150000
DTEND;TZID=America/New_York:20220205T190000
DTSTAMP:20260425T103732
CREATED:20210927T183835Z
LAST-MODIFIED:20210927T183835Z
UID:12607-1644073200-1644087600@overlookbarn.com
SUMMARY:Helgeson-DeVries Elopement
DESCRIPTION:
URL:https://overlookbarn.com/event/helgeson-devries-elopement/
LOCATION:Cliffside Barn\, NC\, United States
END:VEVENT
BEGIN:VEVENT
DTSTART;TZID=America/New_York:20211219T100000
DTEND;TZID=America/New_York:20211219T230000
DTSTAMP:20260425T103732
CREATED:20211029T181034Z
LAST-MODIFIED:20211029T181034Z
UID:13120-1639908000-1639954800@overlookbarn.com
SUMMARY:O'Leary-Slomaker Microwedding
DESCRIPTION:
URL:https://overlookbarn.com/event/oleary-slomaker-microwedding/
LOCATION:Cliffside Barn\, NC\, United States
END:VEVENT
BEGIN:VEVENT
DTSTART;TZID=America/New_York:20211204T100000
DTEND;TZID=America/New_York:20211204T230000
DTSTAMP:20260425T103732
CREATED:20210419T141444Z
LAST-MODIFIED:20210419T141444Z
UID:10321-1638612000-1638658800@overlookbarn.com
SUMMARY:Tompkins-Ridge Wedding
DESCRIPTION:
URL:https://overlookbarn.com/event/tompkins-ridge-wedding/
LOCATION:Cliffside Barn\, NC\, United States
END:VEVENT
BEGIN:VEVENT
DTSTART;TZID=America/New_York:20211203T140000
DTEND;TZID=America/New_York:20211203T180000
DTSTAMP:20260425T103732
CREATED:20211209T212335Z
LAST-MODIFIED:20211209T212335Z
UID:13673-1638540000-1638554400@overlookbarn.com
SUMMARY:Hughes-Gibson Elopement
DESCRIPTION:
URL:https://overlookbarn.com/event/hughes-gibson-elopement/
LOCATION:Cliffside Barn\, NC\, United States
END:VEVENT
BEGIN:VEVENT
DTSTART;TZID=America/New_York:20211127T100000
DTEND;TZID=America/New_York:20211127T230000
DTSTAMP:20260425T103732
CREATED:20210115T135916Z
LAST-MODIFIED:20210115T135916Z
UID:9142-1638007200-1638054000@overlookbarn.com
SUMMARY:Mahoney-Anderson Wedding
DESCRIPTION:
URL:https://overlookbarn.com/event/mahoney-anderson-wedding/
LOCATION:Overlook Barn\, NC\, United States
END:VEVENT
BEGIN:VEVENT
DTSTART;TZID=America/New_York:20211120T100000
DTEND;TZID=America/New_York:20211120T230000
DTSTAMP:20260425T103732
CREATED:20201005T125338Z
LAST-MODIFIED:20201005T125338Z
UID:7645-1637402400-1637449200@overlookbarn.com
SUMMARY:Donaldson-Klutz Wedding
DESCRIPTION:
URL:https://overlookbarn.com/event/donaldson-klutz-wedding/
LOCATION:Overlook Barn\, NC\, United States
END:VEVENT
BEGIN:VEVENT
DTSTART;TZID=America/New_York:20211119T100000
DTEND;TZID=America/New_York:20211119T230000
DTSTAMP:20260425T103732
CREATED:20210206T144858Z
LAST-MODIFIED:20210206T144858Z
UID:9368-1637316000-1637362800@overlookbarn.com
SUMMARY:MacDowall-Parkstone Wedding
DESCRIPTION:
URL:https://overlookbarn.com/event/macdowall-parkstone-wedding/
LOCATION:Overlook Barn\, NC\, United States
END:VEVENT
BEGIN:VEVENT
DTSTART;TZID=America/New_York:20211114T100000
DTEND;TZID=America/New_York:20211114T230000
DTSTAMP:20260425T103732
CREATED:20210124T141745Z
LAST-MODIFIED:20210124T141745Z
UID:9244-1636884000-1636930800@overlookbarn.com
SUMMARY:Putnam-Yates Wedding
DESCRIPTION:
URL:https://overlookbarn.com/event/putnam-yates-wedding/
LOCATION:Overlook Barn\, NC\, United States
END:VEVENT
BEGIN:VEVENT
DTSTART;TZID=America/New_York:20211113T100000
DTEND;TZID=America/New_York:20211113T230000
DTSTAMP:20260425T103732
CREATED:20210206T144627Z
LAST-MODIFIED:20210206T144627Z
UID:9362-1636797600-1636844400@overlookbarn.com
SUMMARY:Nolan-Burgos Wedding
DESCRIPTION:
URL:https://overlookbarn.com/event/nolan-burgos-wedding/
LOCATION:Overlook Barn\, NC\, United States
END:VEVENT
BEGIN:VEVENT
DTSTART;TZID=America/New_York:20211112T100000
DTEND;TZID=America/New_York:20211112T230000
DTSTAMP:20260425T103732
CREATED:20201204T135843Z
LAST-MODIFIED:20201204T135843Z
UID:8492-1636711200-1636758000@overlookbarn.com
SUMMARY:Shepherd-Corley Wedding
DESCRIPTION:
URL:https://overlookbarn.com/event/shepherd-corley-wedding/
LOCATION:Overlook Barn\, NC\, United States
END:VEVENT
BEGIN:VEVENT
DTSTART;TZID=America/New_York:20211110T150000
DTEND;TZID=America/New_York:20211110T180000
DTSTAMP:20260425T103732
CREATED:20210206T144552Z
LAST-MODIFIED:20210803T203305Z
UID:9360-1636556400-1636567200@overlookbarn.com
SUMMARY:Harte-Martin Elopement
DESCRIPTION:
URL:https://overlookbarn.com/event/harte-martin-elopement/
LOCATION:Overlook Barn\, NC\, United States
END:VEVENT
BEGIN:VEVENT
DTSTART;TZID=UTC:20211105T100000
DTEND;TZID=UTC:20211105T230000
DTSTAMP:20260425T103732
CREATED:20190402T213122Z
LAST-MODIFIED:20200808T165542Z
UID:3887-1636106400-1636153200@overlookbarn.com
SUMMARY:Rogers-Benedict Wedding
DESCRIPTION:
URL:https://overlookbarn.com/event/rogers-benedict-wedding/
LOCATION:Overlook Barn\, NC\, United States
END:VEVENT
END:VCALENDAR