BEGIN:VCALENDAR
VERSION:2.0
PRODID:-//Overlook Barn - ECPv6.15.3//NONSGML v1.0//EN
CALSCALE:GREGORIAN
METHOD:PUBLISH
X-WR-CALNAME:Overlook Barn
X-ORIGINAL-URL:https://overlookbarn.com
X-WR-CALDESC:Events for Overlook Barn
REFRESH-INTERVAL;VALUE=DURATION:PT1H
X-Robots-Tag:noindex
X-PUBLISHED-TTL:PT1H
BEGIN:VTIMEZONE
TZID:America/New_York
BEGIN:DAYLIGHT
TZOFFSETFROM:-0500
TZOFFSETTO:-0400
TZNAME:EDT
DTSTART:20210314T070000
END:DAYLIGHT
BEGIN:STANDARD
TZOFFSETFROM:-0400
TZOFFSETTO:-0500
TZNAME:EST
DTSTART:20211107T060000
END:STANDARD
BEGIN:DAYLIGHT
TZOFFSETFROM:-0500
TZOFFSETTO:-0400
TZNAME:EDT
DTSTART:20220313T070000
END:DAYLIGHT
BEGIN:STANDARD
TZOFFSETFROM:-0400
TZOFFSETTO:-0500
TZNAME:EST
DTSTART:20221106T060000
END:STANDARD
END:VTIMEZONE
BEGIN:VTIMEZONE
TZID:UTC
BEGIN:STANDARD
TZOFFSETFROM:+0000
TZOFFSETTO:+0000
TZNAME:UTC
DTSTART:20210101T000000
END:STANDARD
END:VTIMEZONE
BEGIN:VEVENT
DTSTART;TZID=America/New_York:20220310T150000
DTEND;TZID=America/New_York:20220310T180000
DTSTAMP:20260425T104344
CREATED:20210803T203141Z
LAST-MODIFIED:20210803T203141Z
UID:11840-1646924400-1646935200@overlookbarn.com
SUMMARY:Lott-Rhynehart Elopement
DESCRIPTION:
URL:https://overlookbarn.com/event/lott-rhynehart-elopement/
LOCATION:Overlook Barn\, NC\, United States
END:VEVENT
BEGIN:VEVENT
DTSTART;TZID=America/New_York:20220207T130000
DTEND;TZID=America/New_York:20220207T170000
DTSTAMP:20260425T104344
CREATED:20211209T212713Z
LAST-MODIFIED:20211209T212713Z
UID:13683-1644238800-1644253200@overlookbarn.com
SUMMARY:Figueroa-Alamina Elopement
DESCRIPTION:
URL:https://overlookbarn.com/event/figueroa-alamina-elopement/
LOCATION:Cliffside Barn\, NC\, United States
END:VEVENT
BEGIN:VEVENT
DTSTART;TZID=America/New_York:20220205T150000
DTEND;TZID=America/New_York:20220205T190000
DTSTAMP:20260425T104344
CREATED:20210927T183835Z
LAST-MODIFIED:20210927T183835Z
UID:12607-1644073200-1644087600@overlookbarn.com
SUMMARY:Helgeson-DeVries Elopement
DESCRIPTION:
URL:https://overlookbarn.com/event/helgeson-devries-elopement/
LOCATION:Cliffside Barn\, NC\, United States
END:VEVENT
BEGIN:VEVENT
DTSTART;TZID=America/New_York:20211219T100000
DTEND;TZID=America/New_York:20211219T230000
DTSTAMP:20260425T104344
CREATED:20211029T181034Z
LAST-MODIFIED:20211029T181034Z
UID:13120-1639908000-1639954800@overlookbarn.com
SUMMARY:O'Leary-Slomaker Microwedding
DESCRIPTION:
URL:https://overlookbarn.com/event/oleary-slomaker-microwedding/
LOCATION:Cliffside Barn\, NC\, United States
END:VEVENT
BEGIN:VEVENT
DTSTART;TZID=America/New_York:20211204T100000
DTEND;TZID=America/New_York:20211204T230000
DTSTAMP:20260425T104344
CREATED:20210419T141444Z
LAST-MODIFIED:20210419T141444Z
UID:10321-1638612000-1638658800@overlookbarn.com
SUMMARY:Tompkins-Ridge Wedding
DESCRIPTION:
URL:https://overlookbarn.com/event/tompkins-ridge-wedding/
LOCATION:Cliffside Barn\, NC\, United States
END:VEVENT
BEGIN:VEVENT
DTSTART;TZID=America/New_York:20211203T140000
DTEND;TZID=America/New_York:20211203T180000
DTSTAMP:20260425T104344
CREATED:20211209T212335Z
LAST-MODIFIED:20211209T212335Z
UID:13673-1638540000-1638554400@overlookbarn.com
SUMMARY:Hughes-Gibson Elopement
DESCRIPTION:
URL:https://overlookbarn.com/event/hughes-gibson-elopement/
LOCATION:Cliffside Barn\, NC\, United States
END:VEVENT
BEGIN:VEVENT
DTSTART;TZID=America/New_York:20211127T100000
DTEND;TZID=America/New_York:20211127T230000
DTSTAMP:20260425T104344
CREATED:20210115T135916Z
LAST-MODIFIED:20210115T135916Z
UID:9142-1638007200-1638054000@overlookbarn.com
SUMMARY:Mahoney-Anderson Wedding
DESCRIPTION:
URL:https://overlookbarn.com/event/mahoney-anderson-wedding/
LOCATION:Overlook Barn\, NC\, United States
END:VEVENT
BEGIN:VEVENT
DTSTART;TZID=America/New_York:20211120T100000
DTEND;TZID=America/New_York:20211120T230000
DTSTAMP:20260425T104344
CREATED:20201005T125338Z
LAST-MODIFIED:20201005T125338Z
UID:7645-1637402400-1637449200@overlookbarn.com
SUMMARY:Donaldson-Klutz Wedding
DESCRIPTION:
URL:https://overlookbarn.com/event/donaldson-klutz-wedding/
LOCATION:Overlook Barn\, NC\, United States
END:VEVENT
BEGIN:VEVENT
DTSTART;TZID=America/New_York:20211119T100000
DTEND;TZID=America/New_York:20211119T230000
DTSTAMP:20260425T104344
CREATED:20210206T144858Z
LAST-MODIFIED:20210206T144858Z
UID:9368-1637316000-1637362800@overlookbarn.com
SUMMARY:MacDowall-Parkstone Wedding
DESCRIPTION:
URL:https://overlookbarn.com/event/macdowall-parkstone-wedding/
LOCATION:Overlook Barn\, NC\, United States
END:VEVENT
BEGIN:VEVENT
DTSTART;TZID=America/New_York:20211114T100000
DTEND;TZID=America/New_York:20211114T230000
DTSTAMP:20260425T104344
CREATED:20210124T141745Z
LAST-MODIFIED:20210124T141745Z
UID:9244-1636884000-1636930800@overlookbarn.com
SUMMARY:Putnam-Yates Wedding
DESCRIPTION:
URL:https://overlookbarn.com/event/putnam-yates-wedding/
LOCATION:Overlook Barn\, NC\, United States
END:VEVENT
BEGIN:VEVENT
DTSTART;TZID=America/New_York:20211113T100000
DTEND;TZID=America/New_York:20211113T230000
DTSTAMP:20260425T104344
CREATED:20210206T144627Z
LAST-MODIFIED:20210206T144627Z
UID:9362-1636797600-1636844400@overlookbarn.com
SUMMARY:Nolan-Burgos Wedding
DESCRIPTION:
URL:https://overlookbarn.com/event/nolan-burgos-wedding/
LOCATION:Overlook Barn\, NC\, United States
END:VEVENT
BEGIN:VEVENT
DTSTART;TZID=America/New_York:20211112T100000
DTEND;TZID=America/New_York:20211112T230000
DTSTAMP:20260425T104344
CREATED:20201204T135843Z
LAST-MODIFIED:20201204T135843Z
UID:8492-1636711200-1636758000@overlookbarn.com
SUMMARY:Shepherd-Corley Wedding
DESCRIPTION:
URL:https://overlookbarn.com/event/shepherd-corley-wedding/
LOCATION:Overlook Barn\, NC\, United States
END:VEVENT
BEGIN:VEVENT
DTSTART;TZID=America/New_York:20211110T150000
DTEND;TZID=America/New_York:20211110T180000
DTSTAMP:20260425T104344
CREATED:20210206T144552Z
LAST-MODIFIED:20210803T203305Z
UID:9360-1636556400-1636567200@overlookbarn.com
SUMMARY:Harte-Martin Elopement
DESCRIPTION:
URL:https://overlookbarn.com/event/harte-martin-elopement/
LOCATION:Overlook Barn\, NC\, United States
END:VEVENT
BEGIN:VEVENT
DTSTART;TZID=UTC:20211105T100000
DTEND;TZID=UTC:20211105T230000
DTSTAMP:20260425T104344
CREATED:20190402T213122Z
LAST-MODIFIED:20200808T165542Z
UID:3887-1636106400-1636153200@overlookbarn.com
SUMMARY:Rogers-Benedict Wedding
DESCRIPTION:
URL:https://overlookbarn.com/event/rogers-benedict-wedding/
LOCATION:Overlook Barn\, NC\, United States
END:VEVENT
BEGIN:VEVENT
DTSTART;TZID=America/New_York:20211029T100000
DTEND;TZID=America/New_York:20211029T230000
DTSTAMP:20260425T104344
CREATED:20210124T141947Z
LAST-MODIFIED:20210124T141947Z
UID:9248-1635501600-1635548400@overlookbarn.com
SUMMARY:Coleman-D'Ercole Wedding
DESCRIPTION:
URL:https://overlookbarn.com/event/coleman-dercole-wedding/
LOCATION:Overlook Barn\, NC\, United States
END:VEVENT
BEGIN:VEVENT
DTSTART;TZID=America/New_York:20211024T100000
DTEND;TZID=America/New_York:20211024T230000
DTSTAMP:20260425T104344
CREATED:20210712T182534Z
LAST-MODIFIED:20210712T182534Z
UID:11455-1635069600-1635116400@overlookbarn.com
SUMMARY:Paterson-Branderhorst Wedding
DESCRIPTION:
URL:https://overlookbarn.com/event/paterson-branderhorst-wedding/
LOCATION:Overlook Barn\, NC\, United States
END:VEVENT
BEGIN:VEVENT
DTSTART;TZID=America/New_York:20211022T100000
DTEND;TZID=America/New_York:20211022T230000
DTSTAMP:20260425T104344
CREATED:20200621T201118Z
LAST-MODIFIED:20200621T201118Z
UID:6234-1634896800-1634943600@overlookbarn.com
SUMMARY:McCollum-Olesen Wedding
DESCRIPTION:
URL:https://overlookbarn.com/event/mccollum-olesen-wedding/
LOCATION:Overlook Barn\, NC\, United States
END:VEVENT
BEGIN:VEVENT
DTSTART;TZID=America/New_York:20211021T090000
DTEND;TZID=America/New_York:20211021T140000
DTSTAMP:20260425T104344
CREATED:20210720T191521Z
LAST-MODIFIED:20210720T191521Z
UID:11589-1634806800-1634824800@overlookbarn.com
SUMMARY:Sadens-Roof Microwedding
DESCRIPTION:
URL:https://overlookbarn.com/event/sadens-roof-microwedding/
LOCATION:Cliffside Barn\, NC\, United States
END:VEVENT
BEGIN:VEVENT
DTSTART;TZID=America/New_York:20211018T090000
DTEND;TZID=America/New_York:20211018T130000
DTSTAMP:20260425T104344
CREATED:20210927T183712Z
LAST-MODIFIED:20210927T183712Z
UID:12603-1634547600-1634562000@overlookbarn.com
SUMMARY:Taylor-Pelley Elopement
DESCRIPTION:
URL:https://overlookbarn.com/event/taylor-pelley-elopement/
LOCATION:Cliffside Barn\, NC\, United States
END:VEVENT
BEGIN:VEVENT
DTSTART;TZID=America/New_York:20211016T100000
DTEND;TZID=America/New_York:20211016T230000
DTSTAMP:20260425T104344
CREATED:20201005T125502Z
LAST-MODIFIED:20201005T125502Z
UID:7649-1634378400-1634425200@overlookbarn.com
SUMMARY:Beinlich-Grant Wedding
DESCRIPTION:
URL:https://overlookbarn.com/event/beinlich-grant-wedding/
LOCATION:Overlook Barn\, NC\, United States
END:VEVENT
BEGIN:VEVENT
DTSTART;TZID=America/New_York:20211015T100000
DTEND;TZID=America/New_York:20211015T230000
DTSTAMP:20260425T104344
CREATED:20200908T152911Z
LAST-MODIFIED:20200908T152911Z
UID:7229-1634292000-1634338800@overlookbarn.com
SUMMARY:Briceno-Wiggins Wedding
DESCRIPTION:
URL:https://overlookbarn.com/event/briceno-wiggins-wedding/
LOCATION:Overlook Barn\, NC\, United States
END:VEVENT
BEGIN:VEVENT
DTSTART;TZID=America/New_York:20211014T150000
DTEND;TZID=America/New_York:20211014T190000
DTSTAMP:20260425T104344
CREATED:20200908T153140Z
LAST-MODIFIED:20200908T153140Z
UID:7235-1634223600-1634238000@overlookbarn.com
SUMMARY:Burns-Fischer Microwedding
DESCRIPTION:
URL:https://overlookbarn.com/event/burns-fischer-microwedding/
LOCATION:Overlook Barn\, NC\, United States
END:VEVENT
BEGIN:VEVENT
DTSTART;TZID=America/New_York:20211010T150000
DTEND;TZID=America/New_York:20211010T200000
DTSTAMP:20260425T104344
CREATED:20210803T203431Z
LAST-MODIFIED:20210803T203431Z
UID:11849-1633878000-1633896000@overlookbarn.com
SUMMARY:Starnes-Carpenter Microwedding
DESCRIPTION:
URL:https://overlookbarn.com/event/starnes-carpenter-microwedding/
LOCATION:Cliffside Barn\, NC\, United States
END:VEVENT
BEGIN:VEVENT
DTSTART;TZID=America/New_York:20211009T100000
DTEND;TZID=America/New_York:20211009T230000
DTSTAMP:20260425T104344
CREATED:20200813T192640Z
LAST-MODIFIED:20200813T192919Z
UID:6863-1633773600-1633820400@overlookbarn.com
SUMMARY:O'Neill-Moesel Wedding
DESCRIPTION:
URL:https://overlookbarn.com/event/oneill-moesel-wedding/
LOCATION:Overlook Barn\, NC\, United States
END:VEVENT
BEGIN:VEVENT
DTSTART;TZID=America/New_York:20211008T100000
DTEND;TZID=America/New_York:20211008T230000
DTSTAMP:20260425T104344
CREATED:20201104T143257Z
LAST-MODIFIED:20201104T143257Z
UID:8149-1633687200-1633734000@overlookbarn.com
SUMMARY:Brown-Whisler Wedding
DESCRIPTION:
URL:https://overlookbarn.com/event/brown-whisler-wedding-2/
LOCATION:Overlook Barn\, NC\, United States
END:VEVENT
BEGIN:VEVENT
DTSTART;TZID=America/New_York:20211007T150000
DTEND;TZID=America/New_York:20211007T200000
DTSTAMP:20260425T104344
CREATED:20210906T151129Z
LAST-MODIFIED:20210906T151129Z
UID:12316-1633618800-1633636800@overlookbarn.com
SUMMARY:Engbloom-Wood Microwedding
DESCRIPTION:
URL:https://overlookbarn.com/event/engbloom-wood-microwedding/
LOCATION:Cliffside Barn\, NC\, United States
END:VEVENT
BEGIN:VEVENT
DTSTART;TZID=America/New_York:20211004T150000
DTEND;TZID=America/New_York:20211004T190000
DTSTAMP:20260425T104344
CREATED:20210525T134701Z
LAST-MODIFIED:20210525T134701Z
UID:10749-1633359600-1633374000@overlookbarn.com
SUMMARY:Tatum-Sterrett Elopement
DESCRIPTION:
URL:https://overlookbarn.com/event/tatum-sterrett-elopement/
LOCATION:Cliffside Barn\, NC\, United States
END:VEVENT
BEGIN:VEVENT
DTSTART;TZID=America/New_York:20211003T100000
DTEND;TZID=America/New_York:20211003T230000
DTSTAMP:20260425T104344
CREATED:20201211T132057Z
LAST-MODIFIED:20201211T132057Z
UID:8575-1633255200-1633302000@overlookbarn.com
SUMMARY:Armstrong-Hefner Wedding
DESCRIPTION:
URL:https://overlookbarn.com/event/armstrong-hefner-wedding/
LOCATION:Overlook Barn\, NC\, United States
END:VEVENT
BEGIN:VEVENT
DTSTART;TZID=America/New_York:20211002T100000
DTEND;TZID=America/New_York:20211002T230000
DTSTAMP:20260425T104344
CREATED:20200621T201154Z
LAST-MODIFIED:20200621T201154Z
UID:6236-1633168800-1633215600@overlookbarn.com
SUMMARY:Tracey-Rizol Wedding
DESCRIPTION:
URL:https://overlookbarn.com/event/tracey-rizol-wedding/
LOCATION:Overlook Barn\, NC\, United States
END:VEVENT
BEGIN:VEVENT
DTSTART;TZID=America/New_York:20211001T100000
DTEND;TZID=America/New_York:20211001T230000
DTSTAMP:20260425T104344
CREATED:20201104T143038Z
LAST-MODIFIED:20201104T143038Z
UID:8145-1633082400-1633129200@overlookbarn.com
SUMMARY:Garrett-George Wedding
DESCRIPTION:
URL:https://overlookbarn.com/event/garrett-george-wedding/
LOCATION:Overlook Barn\, NC\, United States
END:VEVENT
END:VCALENDAR