BEGIN:VCALENDAR
VERSION:2.0
PRODID:-//Overlook Barn - ECPv6.15.3//NONSGML v1.0//EN
CALSCALE:GREGORIAN
METHOD:PUBLISH
X-WR-CALNAME:Overlook Barn
X-ORIGINAL-URL:https://overlookbarn.com
X-WR-CALDESC:Events for Overlook Barn
REFRESH-INTERVAL;VALUE=DURATION:PT1H
X-Robots-Tag:noindex
X-PUBLISHED-TTL:PT1H
BEGIN:VTIMEZONE
TZID:America/New_York
BEGIN:DAYLIGHT
TZOFFSETFROM:-0500
TZOFFSETTO:-0400
TZNAME:EDT
DTSTART:20260308T070000
END:DAYLIGHT
BEGIN:STANDARD
TZOFFSETFROM:-0400
TZOFFSETTO:-0500
TZNAME:EST
DTSTART:20261101T060000
END:STANDARD
END:VTIMEZONE
BEGIN:VEVENT
DTSTART;TZID=America/New_York:20260606T100000
DTEND;TZID=America/New_York:20260606T230000
DTSTAMP:20260423T152839
CREATED:20250624T145929Z
LAST-MODIFIED:20250624T145929Z
UID:26606-1780740000-1780786800@overlookbarn.com
SUMMARY:Hamm-Wright Wedding
DESCRIPTION:
URL:https://overlookbarn.com/event/hamm-wright-wedding/
LOCATION:Overlook Barn\, NC\, United States
END:VEVENT
BEGIN:VEVENT
DTSTART;TZID=America/New_York:20260620T080000
DTEND;TZID=America/New_York:20260620T170000
DTSTAMP:20260423T152839
CREATED:20250324T150034Z
LAST-MODIFIED:20250324T150034Z
UID:25709-1781942400-1781974800@overlookbarn.com
SUMMARY:Brown-Riley Wedding
DESCRIPTION:
URL:https://overlookbarn.com/event/brown-riley-wedding/
LOCATION:Overlook Barn\, NC\, United States
END:VEVENT
BEGIN:VEVENT
DTSTART;TZID=America/New_York:20260626T100000
DTEND;TZID=America/New_York:20260626T230000
DTSTAMP:20260423T152839
CREATED:20250624T150742Z
LAST-MODIFIED:20250624T150742Z
UID:26626-1782468000-1782514800@overlookbarn.com
SUMMARY:Conley-Nixon Wedding
DESCRIPTION:
URL:https://overlookbarn.com/event/conley-nixon-wedding/
LOCATION:Overlook Barn\, NC\, United States
END:VEVENT
BEGIN:VEVENT
DTSTART;TZID=America/New_York:20260627T100000
DTEND;TZID=America/New_York:20260627T230000
DTSTAMP:20260423T152839
CREATED:20250925T142413Z
LAST-MODIFIED:20250925T142413Z
UID:27642-1782554400-1782601200@overlookbarn.com
SUMMARY:O'Launaigh-Andrews Wedding
DESCRIPTION:
URL:https://overlookbarn.com/event/olaunaigh-andrews-wedding/
LOCATION:Overlook Barn\, NC\, United States
END:VEVENT
BEGIN:VEVENT
DTSTART;TZID=America/New_York:20260628T100000
DTEND;TZID=America/New_York:20260628T230000
DTSTAMP:20260423T152839
CREATED:20250324T150005Z
LAST-MODIFIED:20250324T150005Z
UID:25707-1782640800-1782687600@overlookbarn.com
SUMMARY:Tagarello-Engelmann Wedding
DESCRIPTION:
URL:https://overlookbarn.com/event/tagarello-engelmann-wedding/
LOCATION:Overlook Barn\, NC\, United States
END:VEVENT
BEGIN:VEVENT
DTSTART;TZID=America/New_York:20260718T100000
DTEND;TZID=America/New_York:20260718T230000
DTSTAMP:20260423T152839
CREATED:20250624T150853Z
LAST-MODIFIED:20250624T150853Z
UID:26630-1784368800-1784415600@overlookbarn.com
SUMMARY:Franca-Perez Wedding
DESCRIPTION:
URL:https://overlookbarn.com/event/franca-perez-wedding/
LOCATION:Overlook Barn\, NC\, United States
END:VEVENT
BEGIN:VEVENT
DTSTART;TZID=America/New_York:20260720T100000
DTEND;TZID=America/New_York:20260720T230000
DTSTAMP:20260423T152839
CREATED:20251203T160710Z
LAST-MODIFIED:20251203T160710Z
UID:28249-1784541600-1784588400@overlookbarn.com
SUMMARY:Dumond-Randall Wedding
DESCRIPTION:
URL:https://overlookbarn.com/event/dumond-randall-wedding/
LOCATION:Overlook Barn\, NC\, United States
END:VEVENT
BEGIN:VEVENT
DTSTART;TZID=America/New_York:20260801T100000
DTEND;TZID=America/New_York:20260801T230000
DTSTAMP:20260423T152839
CREATED:20260225T192852Z
LAST-MODIFIED:20260225T192852Z
UID:29328-1785578400-1785625200@overlookbarn.com
SUMMARY:Medley-Goard Wedding
DESCRIPTION:
URL:https://overlookbarn.com/event/medley-goard-wedding/
LOCATION:Overlook Barn\, NC\, United States
END:VEVENT
BEGIN:VEVENT
DTSTART;TZID=America/New_York:20260816T100000
DTEND;TZID=America/New_York:20260816T230000
DTSTAMP:20260423T152839
CREATED:20250624T150814Z
LAST-MODIFIED:20250624T150814Z
UID:26628-1786874400-1786921200@overlookbarn.com
SUMMARY:Jackson-Reaves Wedding
DESCRIPTION:
URL:https://overlookbarn.com/event/jackson-reaves-wedding/
LOCATION:Overlook Barn\, NC\, United States
END:VEVENT
BEGIN:VEVENT
DTSTART;TZID=America/New_York:20260905T100000
DTEND;TZID=America/New_York:20260905T230000
DTSTAMP:20260423T152839
CREATED:20250925T143037Z
LAST-MODIFIED:20250925T143037Z
UID:27658-1788602400-1788649200@overlookbarn.com
SUMMARY:Carroll-Herron Wedding
DESCRIPTION:
URL:https://overlookbarn.com/event/carroll-herron-wedding/
LOCATION:Overlook Barn\, NC\, United States
END:VEVENT
BEGIN:VEVENT
DTSTART;TZID=America/New_York:20260906T100000
DTEND;TZID=America/New_York:20260906T230000
DTSTAMP:20260423T152839
CREATED:20250624T150925Z
LAST-MODIFIED:20250624T150925Z
UID:26632-1788688800-1788735600@overlookbarn.com
SUMMARY:Bryon-Klaus Wedding
DESCRIPTION:
URL:https://overlookbarn.com/event/bryon-klaus-wedding/
LOCATION:Overlook Barn\, NC\, United States
END:VEVENT
BEGIN:VEVENT
DTSTART;TZID=America/New_York:20260919T100000
DTEND;TZID=America/New_York:20260919T230000
DTSTAMP:20260423T152839
CREATED:20260225T192957Z
LAST-MODIFIED:20260225T192957Z
UID:29332-1789812000-1789858800@overlookbarn.com
SUMMARY:Bokeno-Nichols Wedding
DESCRIPTION:
URL:https://overlookbarn.com/event/bokeno-nichols-wedding/
LOCATION:Overlook Barn\, NC\, United States
END:VEVENT
BEGIN:VEVENT
DTSTART;TZID=America/New_York:20260920T100000
DTEND;TZID=America/New_York:20260920T230000
DTSTAMP:20260423T152839
CREATED:20250925T143206Z
LAST-MODIFIED:20250925T143206Z
UID:27662-1789898400-1789945200@overlookbarn.com
SUMMARY:Thomas-Blaylock Wedding
DESCRIPTION:
URL:https://overlookbarn.com/event/thomas-blaylock-wedding/
LOCATION:Overlook Barn\, NC\, United States
END:VEVENT
BEGIN:VEVENT
DTSTART;TZID=America/New_York:20260925T100000
DTEND;TZID=America/New_York:20260925T230000
DTSTAMP:20260423T152839
CREATED:20251203T160812Z
LAST-MODIFIED:20251203T160812Z
UID:28251-1790330400-1790377200@overlookbarn.com
SUMMARY:Brantley-Quinn Wedding
DESCRIPTION:
URL:https://overlookbarn.com/event/brantley-quinn-wedding/
LOCATION:Overlook Barn\, NC\, United States
END:VEVENT
BEGIN:VEVENT
DTSTART;TZID=America/New_York:20260926T100000
DTEND;TZID=America/New_York:20260926T230000
DTSTAMP:20260423T152839
CREATED:20250925T142547Z
LAST-MODIFIED:20250925T142547Z
UID:27646-1790416800-1790463600@overlookbarn.com
SUMMARY:Boone-Dull Wedding
DESCRIPTION:
URL:https://overlookbarn.com/event/boone-dull-wedding/
LOCATION:Overlook Barn\, NC\, United States
END:VEVENT
BEGIN:VEVENT
DTSTART;TZID=America/New_York:20261002T100000
DTEND;TZID=America/New_York:20261002T230000
DTSTAMP:20260423T152839
CREATED:20250624T150317Z
LAST-MODIFIED:20250624T150317Z
UID:26618-1790935200-1790982000@overlookbarn.com
SUMMARY:Greeley-Kidd Wedding
DESCRIPTION:
URL:https://overlookbarn.com/event/greeley-kidd-wedding/
LOCATION:Overlook Barn\, NC\, United States
END:VEVENT
BEGIN:VEVENT
DTSTART;TZID=America/New_York:20261003T100000
DTEND;TZID=America/New_York:20261003T230000
DTSTAMP:20260423T152839
CREATED:20250925T142639Z
LAST-MODIFIED:20250925T142639Z
UID:27648-1791021600-1791068400@overlookbarn.com
SUMMARY:Koeval-Collins Wedding
DESCRIPTION:
URL:https://overlookbarn.com/event/koeval-collins-wedding/
LOCATION:Overlook Barn\, NC\, United States
END:VEVENT
BEGIN:VEVENT
DTSTART;TZID=America/New_York:20261004T100000
DTEND;TZID=America/New_York:20261004T230000
DTSTAMP:20260423T152839
CREATED:20251203T160120Z
LAST-MODIFIED:20251203T160120Z
UID:28233-1791108000-1791154800@overlookbarn.com
SUMMARY:Crispell-Parry Wedding
DESCRIPTION:
URL:https://overlookbarn.com/event/crispell-parry-wedding/
LOCATION:Overlook Barn\, NC\, United States
END:VEVENT
BEGIN:VEVENT
DTSTART;TZID=America/New_York:20261010T100000
DTEND;TZID=America/New_York:20261010T230000
DTSTAMP:20260423T152839
CREATED:20250624T150002Z
LAST-MODIFIED:20250624T150002Z
UID:26608-1791626400-1791673200@overlookbarn.com
SUMMARY:Jauregui - Myers Wedding
DESCRIPTION:
URL:https://overlookbarn.com/event/jauregui-myers-wedding/
LOCATION:Overlook Barn\, NC\, United States
END:VEVENT
BEGIN:VEVENT
DTSTART;TZID=America/New_York:20261011T100000
DTEND;TZID=America/New_York:20261011T230000
DTSTAMP:20260423T152839
CREATED:20260225T192930Z
LAST-MODIFIED:20260225T192930Z
UID:29330-1791712800-1791759600@overlookbarn.com
SUMMARY:Ormsby-Hadden Wedding
DESCRIPTION:
URL:https://overlookbarn.com/event/ormsby-hadden-wedding/
LOCATION:Overlook Barn\, NC\, United States
END:VEVENT
BEGIN:VEVENT
DTSTART;TZID=America/New_York:20261016T100000
DTEND;TZID=America/New_York:20261016T230000
DTSTAMP:20260423T152839
CREATED:20251203T160146Z
LAST-MODIFIED:20251203T160146Z
UID:28235-1792144800-1792191600@overlookbarn.com
SUMMARY:Avellone-Lee Wedding
DESCRIPTION:
URL:https://overlookbarn.com/event/avellone-lee-wedding/
LOCATION:Overlook Barn\, NC\, United States
END:VEVENT
BEGIN:VEVENT
DTSTART;TZID=America/New_York:20261017T080000
DTEND;TZID=America/New_York:20261017T170000
DTSTAMP:20260423T152839
CREATED:20250624T150123Z
LAST-MODIFIED:20250624T150123Z
UID:26612-1792224000-1792256400@overlookbarn.com
SUMMARY:Mosher-Fankhouser Wedding
DESCRIPTION:
URL:https://overlookbarn.com/event/mosher-fankhouser-wedding/
LOCATION:Overlook Barn\, NC\, United States
END:VEVENT
BEGIN:VEVENT
DTSTART;TZID=America/New_York:20261024T100000
DTEND;TZID=America/New_York:20261024T230000
DTSTAMP:20260423T152839
CREATED:20250925T142738Z
LAST-MODIFIED:20250925T142738Z
UID:27652-1792836000-1792882800@overlookbarn.com
SUMMARY:Lassiter-Ferguson Wedding
DESCRIPTION:
URL:https://overlookbarn.com/event/lassiter-ferguson-wedding/
LOCATION:Overlook Barn\, NC\, United States
END:VEVENT
BEGIN:VEVENT
DTSTART;TZID=America/New_York:20261025T100000
DTEND;TZID=America/New_York:20261025T230000
DTSTAMP:20260423T152839
CREATED:20260225T193243Z
LAST-MODIFIED:20260225T193243Z
UID:29342-1792922400-1792969200@overlookbarn.com
SUMMARY:Jackson-McGuier Wedding
DESCRIPTION:
URL:https://overlookbarn.com/event/jackson-mcguier-wedding/
LOCATION:Overlook Barn\, NC\, United States
END:VEVENT
BEGIN:VEVENT
DTSTART;TZID=America/New_York:20261105T100000
DTEND;TZID=America/New_York:20261105T230000
DTSTAMP:20260423T152839
CREATED:20250925T143251Z
LAST-MODIFIED:20250925T143251Z
UID:27664-1793872800-1793919600@overlookbarn.com
SUMMARY:Gilbert-Finley Wedding
DESCRIPTION:
URL:https://overlookbarn.com/event/gilbert-finley-wedding/
LOCATION:Overlook Barn\, NC\, United States
END:VEVENT
BEGIN:VEVENT
DTSTART;TZID=America/New_York:20261106T100000
DTEND;TZID=America/New_York:20261106T230000
DTSTAMP:20260423T152839
CREATED:20250624T150708Z
LAST-MODIFIED:20250624T150708Z
UID:26624-1793959200-1794006000@overlookbarn.com
SUMMARY:Valastro Wedding
DESCRIPTION:
URL:https://overlookbarn.com/event/valastro-wedding/
LOCATION:Overlook Barn\, NC\, United States
END:VEVENT
BEGIN:VEVENT
DTSTART;TZID=America/New_York:20261107T100000
DTEND;TZID=America/New_York:20261107T230000
DTSTAMP:20260423T152839
CREATED:20251203T160220Z
LAST-MODIFIED:20251203T160220Z
UID:28237-1794045600-1794092400@overlookbarn.com
SUMMARY:Lapallo-Campbell Wedding
DESCRIPTION:
URL:https://overlookbarn.com/event/lapallo-campbell-wedding/
LOCATION:Overlook Barn\, NC\, United States
END:VEVENT
BEGIN:VEVENT
DTSTART;TZID=America/New_York:20261114T100000
DTEND;TZID=America/New_York:20261114T230000
DTSTAMP:20260423T152839
CREATED:20250624T151129Z
LAST-MODIFIED:20250624T151129Z
UID:26638-1794650400-1794697200@overlookbarn.com
SUMMARY:Brown-Rowell Wedding
DESCRIPTION:
URL:https://overlookbarn.com/event/brown-rowell-wedding/
LOCATION:Overlook Barn\, NC\, United States
END:VEVENT
BEGIN:VEVENT
DTSTART;TZID=America/New_York:20261120T100000
DTEND;TZID=America/New_York:20261120T230000
DTSTAMP:20260423T152839
CREATED:20251203T160525Z
LAST-MODIFIED:20251203T160525Z
UID:28245-1795168800-1795215600@overlookbarn.com
SUMMARY:Lamphere-Lueck Wedding
DESCRIPTION:
URL:https://overlookbarn.com/event/lamphere-lueck-wedding/
LOCATION:Overlook Barn\, NC\, United States
END:VEVENT
BEGIN:VEVENT
DTSTART;TZID=America/New_York:20261121T100000
DTEND;TZID=America/New_York:20261121T230000
DTSTAMP:20260423T152839
CREATED:20260225T193209Z
LAST-MODIFIED:20260225T193209Z
UID:29340-1795255200-1795302000@overlookbarn.com
SUMMARY:Sparks-Slemenda Wedding
DESCRIPTION:
URL:https://overlookbarn.com/event/sparks-slemenda-wedding/
LOCATION:Overlook Barn\, NC\, United States
END:VEVENT
END:VCALENDAR