BEGIN:VCALENDAR
VERSION:2.0
PRODID:-//Overlook Barn - ECPv6.15.3//NONSGML v1.0//EN
CALSCALE:GREGORIAN
METHOD:PUBLISH
X-WR-CALNAME:Overlook Barn
X-ORIGINAL-URL:https://overlookbarn.com
X-WR-CALDESC:Events for Overlook Barn
REFRESH-INTERVAL;VALUE=DURATION:PT1H
X-Robots-Tag:noindex
X-PUBLISHED-TTL:PT1H
BEGIN:VTIMEZONE
TZID:America/New_York
BEGIN:DAYLIGHT
TZOFFSETFROM:-0500
TZOFFSETTO:-0400
TZNAME:EDT
DTSTART:20210314T070000
END:DAYLIGHT
BEGIN:STANDARD
TZOFFSETFROM:-0400
TZOFFSETTO:-0500
TZNAME:EST
DTSTART:20211107T060000
END:STANDARD
END:VTIMEZONE
BEGIN:VTIMEZONE
TZID:UTC
BEGIN:STANDARD
TZOFFSETFROM:+0000
TZOFFSETTO:+0000
TZNAME:UTC
DTSTART:20210101T000000
END:STANDARD
END:VTIMEZONE
BEGIN:VEVENT
DTSTART;TZID=America/New_York:20210814T100000
DTEND;TZID=America/New_York:20210814T230000
DTSTAMP:20260425T190133
CREATED:20201005T125551Z
LAST-MODIFIED:20201005T125551Z
UID:7651-1628935200-1628982000@overlookbarn.com
SUMMARY:Turner-Miller Wedding
DESCRIPTION:
URL:https://overlookbarn.com/event/turner-miller-wedding/
LOCATION:Overlook Barn\, NC\, United States
END:VEVENT
BEGIN:VEVENT
DTSTART;TZID=America/New_York:20210813T100000
DTEND;TZID=America/New_York:20210813T230000
DTSTAMP:20260425T190133
CREATED:20210525T134947Z
LAST-MODIFIED:20210525T134947Z
UID:10757-1628848800-1628895600@overlookbarn.com
SUMMARY:James-Tallent Wedding
DESCRIPTION:
URL:https://overlookbarn.com/event/james-tallent-wedding/
LOCATION:Overlook Barn\, NC\, United States
END:VEVENT
BEGIN:VEVENT
DTSTART;TZID=America/New_York:20210812T150000
DTEND;TZID=America/New_York:20210812T200000
DTSTAMP:20260425T190133
CREATED:20201222T154432Z
LAST-MODIFIED:20201222T154432Z
UID:8694-1628780400-1628798400@overlookbarn.com
SUMMARY:Wolf-Cinq-Mars Microwedding
DESCRIPTION:
URL:https://overlookbarn.com/event/wolf-cinq-mars-microwedding/
LOCATION:Overlook Barn\, NC\, United States
END:VEVENT
BEGIN:VEVENT
DTSTART;TZID=UTC:20210808T100000
DTEND;TZID=UTC:20210808T230000
DTSTAMP:20260425T190133
CREATED:20190430T223509Z
LAST-MODIFIED:20200723T150201Z
UID:3966-1628416800-1628463600@overlookbarn.com
SUMMARY:Corbin-Stanick Wedding
DESCRIPTION:
URL:https://overlookbarn.com/event/corbin-stanick-wedding/
LOCATION:Overlook Barn\, NC\, United States
END:VEVENT
BEGIN:VEVENT
DTSTART;TZID=America/New_York:20210807T100000
DTEND;TZID=America/New_York:20210807T230000
DTSTAMP:20260425T190133
CREATED:20201022T191242Z
LAST-MODIFIED:20201022T191242Z
UID:7958-1628330400-1628377200@overlookbarn.com
SUMMARY:Horne-Rogers Wedding
DESCRIPTION:
URL:https://overlookbarn.com/event/horne-rogers-wedding/
LOCATION:Overlook Barn\, NC\, United States
END:VEVENT
BEGIN:VEVENT
DTSTART;TZID=America/New_York:20210806T100000
DTEND;TZID=America/New_York:20210806T230000
DTSTAMP:20260425T190133
CREATED:20200723T145911Z
LAST-MODIFIED:20200723T145911Z
UID:6599-1628244000-1628290800@overlookbarn.com
SUMMARY:Ellis-Maler Wedding
DESCRIPTION:
URL:https://overlookbarn.com/event/ellis-maler-wedding/
LOCATION:Overlook Barn\, NC\, United States
END:VEVENT
BEGIN:VEVENT
DTSTART;TZID=America/New_York:20210731T100000
DTEND;TZID=America/New_York:20210731T230000
DTSTAMP:20260425T190133
CREATED:20210220T131431Z
LAST-MODIFIED:20210220T131431Z
UID:9528-1627725600-1627772400@overlookbarn.com
SUMMARY:Heitzinger-King Wedding
DESCRIPTION:
URL:https://overlookbarn.com/event/heitzinger-king-wedding/
LOCATION:Overlook Barn\, NC\, United States
END:VEVENT
BEGIN:VEVENT
DTSTART;TZID=America/New_York:20210730T100000
DTEND;TZID=America/New_York:20210730T230000
DTSTAMP:20260425T190133
CREATED:20200908T152707Z
LAST-MODIFIED:20200908T152707Z
UID:7224-1627639200-1627686000@overlookbarn.com
SUMMARY:Heller-Horbal Wedding
DESCRIPTION:
URL:https://overlookbarn.com/event/heller-horbal-wedding/
LOCATION:Overlook Barn\, NC\, United States
END:VEVENT
BEGIN:VEVENT
DTSTART;TZID=America/New_York:20210724T100000
DTEND;TZID=America/New_York:20210724T230000
DTSTAMP:20260425T190133
CREATED:20210115T140027Z
LAST-MODIFIED:20210115T140027Z
UID:9144-1627120800-1627167600@overlookbarn.com
SUMMARY:Miller-Roth Wedding
DESCRIPTION:
URL:https://overlookbarn.com/event/miller-roth-wedding/
LOCATION:Overlook Barn\, NC\, United States
END:VEVENT
BEGIN:VEVENT
DTSTART;TZID=America/New_York:20210723T100000
DTEND;TZID=America/New_York:20210723T230000
DTSTAMP:20260425T190133
CREATED:20200501T194758Z
LAST-MODIFIED:20200501T194758Z
UID:5830-1627034400-1627081200@overlookbarn.com
SUMMARY:Bailey-Adams Wedding
DESCRIPTION:
URL:https://overlookbarn.com/event/bailey-adams-wedding/
LOCATION:Overlook Barn\, NC\, United States
END:VEVENT
BEGIN:VEVENT
DTSTART;TZID=America/New_York:20210718T100000
DTEND;TZID=America/New_York:20210718T230000
DTSTAMP:20260425T190133
CREATED:20210626T141627Z
LAST-MODIFIED:20210626T141627Z
UID:11177-1626602400-1626649200@overlookbarn.com
SUMMARY:McNeil-Church Wedding
DESCRIPTION:
URL:https://overlookbarn.com/event/mcneil-church-wedding/
LOCATION:Overlook Barn\, NC\, United States
END:VEVENT
BEGIN:VEVENT
DTSTART;TZID=America/New_York:20210717T100000
DTEND;TZID=America/New_York:20210717T230000
DTSTAMP:20260425T190133
CREATED:20210525T134754Z
LAST-MODIFIED:20210525T134754Z
UID:10751-1626516000-1626562800@overlookbarn.com
SUMMARY:Austin-Adams Wedding
DESCRIPTION:
URL:https://overlookbarn.com/event/austin-adams-wedding/
LOCATION:Overlook Barn\, NC\, United States
END:VEVENT
BEGIN:VEVENT
DTSTART;TZID=America/New_York:20210716T100000
DTEND;TZID=America/New_York:20210716T230000
DTSTAMP:20260425T190133
CREATED:20200605T121245Z
LAST-MODIFIED:20200605T121245Z
UID:6111-1626429600-1626476400@overlookbarn.com
SUMMARY:Kiebel-Wells Wedding
DESCRIPTION:
URL:https://overlookbarn.com/event/kiebel-wells-wedding/
LOCATION:Overlook Barn\, NC\, United States
END:VEVENT
BEGIN:VEVENT
DTSTART;TZID=America/New_York:20210715T100000
DTEND;TZID=America/New_York:20210715T230000
DTSTAMP:20260425T190133
CREATED:20201204T135726Z
LAST-MODIFIED:20201204T135726Z
UID:8488-1626343200-1626390000@overlookbarn.com
SUMMARY:Hasson-Sanz Wedding
DESCRIPTION:
URL:https://overlookbarn.com/event/hasson-sanz-wedding/
LOCATION:Overlook Barn\, NC\, United States
END:VEVENT
BEGIN:VEVENT
DTSTART;TZID=UTC:20210711T100000
DTEND;TZID=UTC:20210711T230000
DTSTAMP:20260425T190133
CREATED:20190706T224133Z
LAST-MODIFIED:20200603T134628Z
UID:4231-1625997600-1626044400@overlookbarn.com
SUMMARY:Dalton-Kulawiak Wedding
DESCRIPTION:
URL:https://overlookbarn.com/event/dalton-kulawiak-wedding/
LOCATION:Overlook Barn\, NC\, United States
END:VEVENT
BEGIN:VEVENT
DTSTART;TZID=America/New_York:20210710T100000
DTEND;TZID=America/New_York:20210710T230000
DTSTAMP:20260425T190133
CREATED:20201204T135920Z
LAST-MODIFIED:20201204T135920Z
UID:8494-1625911200-1625958000@overlookbarn.com
SUMMARY:Billiard-Blakely Wedding
DESCRIPTION:
URL:https://overlookbarn.com/event/billiard-blakely-wedding/
LOCATION:Overlook Barn\, NC\, United States
END:VEVENT
BEGIN:VEVENT
DTSTART;TZID=America/New_York:20210709T100000
DTEND;TZID=America/New_York:20210709T230000
DTSTAMP:20260425T190133
CREATED:20201022T191123Z
LAST-MODIFIED:20201022T191123Z
UID:7954-1625824800-1625871600@overlookbarn.com
SUMMARY:Collins-McKinney Wedding
DESCRIPTION:
URL:https://overlookbarn.com/event/collins-mckinney-wedding/
LOCATION:Overlook Barn\, NC\, United States
END:VEVENT
BEGIN:VEVENT
DTSTART;TZID=America/New_York:20210703T100000
DTEND;TZID=America/New_York:20210703T230000
DTSTAMP:20260425T190133
CREATED:20201005T125418Z
LAST-MODIFIED:20201005T125418Z
UID:7647-1625306400-1625353200@overlookbarn.com
SUMMARY:Eouse-Billings Wedding
DESCRIPTION:
URL:https://overlookbarn.com/event/eouse-billings-wedding/
LOCATION:Overlook Barn\, NC\, United States
END:VEVENT
BEGIN:VEVENT
DTSTART;TZID=America/New_York:20210701T100000
DTEND;TZID=America/New_York:20210701T230000
DTSTAMP:20260425T190133
CREATED:20201204T135642Z
LAST-MODIFIED:20201204T135642Z
UID:8486-1625133600-1625180400@overlookbarn.com
SUMMARY:Hintze-Brown Wedding
DESCRIPTION:
URL:https://overlookbarn.com/event/hintze-brown-wedding/
LOCATION:Overlook Barn\, NC\, United States
END:VEVENT
BEGIN:VEVENT
DTSTART;TZID=America/New_York:20210628T150000
DTEND;TZID=America/New_York:20210628T200000
DTSTAMP:20260425T190133
CREATED:20210525T135257Z
LAST-MODIFIED:20210525T135257Z
UID:10765-1624892400-1624910400@overlookbarn.com
SUMMARY:Rogers-Midleton Elopement
DESCRIPTION:
URL:https://overlookbarn.com/event/rogers-midleton-elopement/
LOCATION:Cliffside Barn\, NC\, United States
END:VEVENT
BEGIN:VEVENT
DTSTART;TZID=America/New_York:20210627T150000
DTEND;TZID=America/New_York:20210627T200000
DTSTAMP:20260425T190133
CREATED:20210525T134611Z
LAST-MODIFIED:20210525T134611Z
UID:10747-1624806000-1624824000@overlookbarn.com
SUMMARY:Sims-Martin Microwedding
DESCRIPTION:
URL:https://overlookbarn.com/event/sims-martin-microwedding/
LOCATION:Cliffside Barn\, NC\, United States
END:VEVENT
BEGIN:VEVENT
DTSTART;TZID=America/New_York:20210626T100000
DTEND;TZID=America/New_York:20210626T230000
DTSTAMP:20260425T190133
CREATED:20210115T135836Z
LAST-MODIFIED:20210115T135836Z
UID:9140-1624701600-1624748400@overlookbarn.com
SUMMARY:Harrell-Apter Wedding
DESCRIPTION:
URL:https://overlookbarn.com/event/harrell-apter-wedding/
LOCATION:Overlook Barn\, NC\, United States
END:VEVENT
BEGIN:VEVENT
DTSTART;TZID=America/New_York:20210625T100000
DTEND;TZID=America/New_York:20210625T230000
DTSTAMP:20260425T190133
CREATED:20210220T131347Z
LAST-MODIFIED:20210220T131347Z
UID:9526-1624615200-1624662000@overlookbarn.com
SUMMARY:Ellis-Penegar Wedding
DESCRIPTION:
URL:https://overlookbarn.com/event/ellis-penegar-wedding/
LOCATION:Overlook Barn\, NC\, United States
END:VEVENT
BEGIN:VEVENT
DTSTART;TZID=America/New_York:20210621T150000
DTEND;TZID=America/New_York:20210621T200000
DTSTAMP:20260425T190133
CREATED:20201104T143341Z
LAST-MODIFIED:20201104T143341Z
UID:8151-1624287600-1624305600@overlookbarn.com
SUMMARY:Smith-Runner Microwedding
DESCRIPTION:
URL:https://overlookbarn.com/event/smith-runner-microwedding/
LOCATION:Overlook Barn\, NC\, United States
END:VEVENT
BEGIN:VEVENT
DTSTART;TZID=UTC:20210619T100000
DTEND;TZID=UTC:20210619T230000
DTSTAMP:20260425T190133
CREATED:20190706T224033Z
LAST-MODIFIED:20200504T152726Z
UID:4229-1624096800-1624143600@overlookbarn.com
SUMMARY:Pingree-Chiarolanzio Wedding
DESCRIPTION:
URL:https://overlookbarn.com/event/pingree-chiarolanzio-wedding/
LOCATION:Overlook Barn\, NC\, United States
END:VEVENT
BEGIN:VEVENT
DTSTART;TZID=America/New_York:20210618T100000
DTEND;TZID=America/New_York:20210618T230000
DTSTAMP:20260425T190133
CREATED:20200603T134505Z
LAST-MODIFIED:20200821T203458Z
UID:6082-1624010400-1624057200@overlookbarn.com
SUMMARY:Mull-Saenger Wedding
DESCRIPTION:
URL:https://overlookbarn.com/event/mull-saenger-wedding/
LOCATION:Overlook Barn\, NC\, United States
END:VEVENT
BEGIN:VEVENT
DTSTART;TZID=America/New_York:20210617T150000
DTEND;TZID=America/New_York:20210617T190000
DTSTAMP:20260425T190133
CREATED:20210124T142127Z
LAST-MODIFIED:20210124T142127Z
UID:9252-1623942000-1623956400@overlookbarn.com
SUMMARY:Lovett-Maclean Elopement
DESCRIPTION:
URL:https://overlookbarn.com/event/lovett-maclean-elopement/
LOCATION:Cliffside Barn\, NC\, United States
END:VEVENT
BEGIN:VEVENT
DTSTART;TZID=America/New_York:20210613T150000
DTEND;TZID=America/New_York:20210613T190000
DTSTAMP:20260425T190133
CREATED:20210525T135103Z
LAST-MODIFIED:20210525T135103Z
UID:10759-1623596400-1623610800@overlookbarn.com
SUMMARY:Drake-Chappell Microwedding
DESCRIPTION:
URL:https://overlookbarn.com/event/drake-chappell-microwedding/
LOCATION:Cliffside Barn\, NC\, United States
END:VEVENT
BEGIN:VEVENT
DTSTART;TZID=UTC:20210612T100000
DTEND;TZID=UTC:20210612T230000
DTSTAMP:20260425T190133
CREATED:20190706T223727Z
LAST-MODIFIED:20200425T153702Z
UID:4225-1623492000-1623538800@overlookbarn.com
SUMMARY:Lelly-Parker Wedding
DESCRIPTION:
URL:https://overlookbarn.com/event/lelly-parker-wedding/
LOCATION:Overlook Barn\, NC\, United States
END:VEVENT
BEGIN:VEVENT
DTSTART;TZID=America/New_York:20210611T100000
DTEND;TZID=America/New_York:20210611T230000
DTSTAMP:20260425T190133
CREATED:20200723T145941Z
LAST-MODIFIED:20200723T145941Z
UID:6601-1623405600-1623452400@overlookbarn.com
SUMMARY:Hubbard-Feiten Wedding
DESCRIPTION:
URL:https://overlookbarn.com/event/hubbard-feiten-wedding/
LOCATION:Overlook Barn\, NC\, United States
END:VEVENT
END:VCALENDAR