BEGIN:VCALENDAR
VERSION:2.0
PRODID:-//Overlook Barn - ECPv6.15.3//NONSGML v1.0//EN
CALSCALE:GREGORIAN
METHOD:PUBLISH
X-WR-CALNAME:Overlook Barn
X-ORIGINAL-URL:https://overlookbarn.com
X-WR-CALDESC:Events for Overlook Barn
REFRESH-INTERVAL;VALUE=DURATION:PT1H
X-Robots-Tag:noindex
X-PUBLISHED-TTL:PT1H
BEGIN:VTIMEZONE
TZID:America/New_York
BEGIN:DAYLIGHT
TZOFFSETFROM:-0500
TZOFFSETTO:-0400
TZNAME:EDT
DTSTART:20210314T070000
END:DAYLIGHT
BEGIN:STANDARD
TZOFFSETFROM:-0400
TZOFFSETTO:-0500
TZNAME:EST
DTSTART:20211107T060000
END:STANDARD
END:VTIMEZONE
BEGIN:VTIMEZONE
TZID:UTC
BEGIN:STANDARD
TZOFFSETFROM:+0000
TZOFFSETTO:+0000
TZNAME:UTC
DTSTART:20210101T000000
END:STANDARD
END:VTIMEZONE
BEGIN:VEVENT
DTSTART;TZID=America/New_York:20210627T150000
DTEND;TZID=America/New_York:20210627T200000
DTSTAMP:20260425T205349
CREATED:20210525T134611Z
LAST-MODIFIED:20210525T134611Z
UID:10747-1624806000-1624824000@overlookbarn.com
SUMMARY:Sims-Martin Microwedding
DESCRIPTION:
URL:https://overlookbarn.com/event/sims-martin-microwedding/
LOCATION:Cliffside Barn\, NC\, United States
END:VEVENT
BEGIN:VEVENT
DTSTART;TZID=America/New_York:20210626T100000
DTEND;TZID=America/New_York:20210626T230000
DTSTAMP:20260425T205349
CREATED:20210115T135836Z
LAST-MODIFIED:20210115T135836Z
UID:9140-1624701600-1624748400@overlookbarn.com
SUMMARY:Harrell-Apter Wedding
DESCRIPTION:
URL:https://overlookbarn.com/event/harrell-apter-wedding/
LOCATION:Overlook Barn\, NC\, United States
END:VEVENT
BEGIN:VEVENT
DTSTART;TZID=America/New_York:20210625T100000
DTEND;TZID=America/New_York:20210625T230000
DTSTAMP:20260425T205349
CREATED:20210220T131347Z
LAST-MODIFIED:20210220T131347Z
UID:9526-1624615200-1624662000@overlookbarn.com
SUMMARY:Ellis-Penegar Wedding
DESCRIPTION:
URL:https://overlookbarn.com/event/ellis-penegar-wedding/
LOCATION:Overlook Barn\, NC\, United States
END:VEVENT
BEGIN:VEVENT
DTSTART;TZID=America/New_York:20210621T150000
DTEND;TZID=America/New_York:20210621T200000
DTSTAMP:20260425T205349
CREATED:20201104T143341Z
LAST-MODIFIED:20201104T143341Z
UID:8151-1624287600-1624305600@overlookbarn.com
SUMMARY:Smith-Runner Microwedding
DESCRIPTION:
URL:https://overlookbarn.com/event/smith-runner-microwedding/
LOCATION:Overlook Barn\, NC\, United States
END:VEVENT
BEGIN:VEVENT
DTSTART;TZID=UTC:20210619T100000
DTEND;TZID=UTC:20210619T230000
DTSTAMP:20260425T205349
CREATED:20190706T224033Z
LAST-MODIFIED:20200504T152726Z
UID:4229-1624096800-1624143600@overlookbarn.com
SUMMARY:Pingree-Chiarolanzio Wedding
DESCRIPTION:
URL:https://overlookbarn.com/event/pingree-chiarolanzio-wedding/
LOCATION:Overlook Barn\, NC\, United States
END:VEVENT
BEGIN:VEVENT
DTSTART;TZID=America/New_York:20210618T100000
DTEND;TZID=America/New_York:20210618T230000
DTSTAMP:20260425T205349
CREATED:20200603T134505Z
LAST-MODIFIED:20200821T203458Z
UID:6082-1624010400-1624057200@overlookbarn.com
SUMMARY:Mull-Saenger Wedding
DESCRIPTION:
URL:https://overlookbarn.com/event/mull-saenger-wedding/
LOCATION:Overlook Barn\, NC\, United States
END:VEVENT
BEGIN:VEVENT
DTSTART;TZID=America/New_York:20210617T150000
DTEND;TZID=America/New_York:20210617T190000
DTSTAMP:20260425T205349
CREATED:20210124T142127Z
LAST-MODIFIED:20210124T142127Z
UID:9252-1623942000-1623956400@overlookbarn.com
SUMMARY:Lovett-Maclean Elopement
DESCRIPTION:
URL:https://overlookbarn.com/event/lovett-maclean-elopement/
LOCATION:Cliffside Barn\, NC\, United States
END:VEVENT
BEGIN:VEVENT
DTSTART;TZID=America/New_York:20210613T150000
DTEND;TZID=America/New_York:20210613T190000
DTSTAMP:20260425T205349
CREATED:20210525T135103Z
LAST-MODIFIED:20210525T135103Z
UID:10759-1623596400-1623610800@overlookbarn.com
SUMMARY:Drake-Chappell Microwedding
DESCRIPTION:
URL:https://overlookbarn.com/event/drake-chappell-microwedding/
LOCATION:Cliffside Barn\, NC\, United States
END:VEVENT
BEGIN:VEVENT
DTSTART;TZID=UTC:20210612T100000
DTEND;TZID=UTC:20210612T230000
DTSTAMP:20260425T205349
CREATED:20190706T223727Z
LAST-MODIFIED:20200425T153702Z
UID:4225-1623492000-1623538800@overlookbarn.com
SUMMARY:Lelly-Parker Wedding
DESCRIPTION:
URL:https://overlookbarn.com/event/lelly-parker-wedding/
LOCATION:Overlook Barn\, NC\, United States
END:VEVENT
BEGIN:VEVENT
DTSTART;TZID=America/New_York:20210611T100000
DTEND;TZID=America/New_York:20210611T230000
DTSTAMP:20260425T205349
CREATED:20200723T145941Z
LAST-MODIFIED:20200723T145941Z
UID:6601-1623405600-1623452400@overlookbarn.com
SUMMARY:Hubbard-Feiten Wedding
DESCRIPTION:
URL:https://overlookbarn.com/event/hubbard-feiten-wedding/
LOCATION:Overlook Barn\, NC\, United States
END:VEVENT
BEGIN:VEVENT
DTSTART;TZID=America/New_York:20210604T100000
DTEND;TZID=America/New_York:20210604T230000
DTSTAMP:20260425T205349
CREATED:20200212T012417Z
LAST-MODIFIED:20200212T012417Z
UID:5223-1622800800-1622847600@overlookbarn.com
SUMMARY:Arneson-Florence Wedding
DESCRIPTION:
URL:https://overlookbarn.com/event/arneson-florence-wedding/
LOCATION:Overlook Barn\, NC\, United States
END:VEVENT
BEGIN:VEVENT
DTSTART;TZID=America/New_York:20210530T100000
DTEND;TZID=America/New_York:20210530T230000
DTSTAMP:20260425T205349
CREATED:20201005T125301Z
LAST-MODIFIED:20201005T125301Z
UID:7643-1622368800-1622415600@overlookbarn.com
SUMMARY:Powell-Carosella Wedding
DESCRIPTION:
URL:https://overlookbarn.com/event/powell-carosella-wedding/
LOCATION:Overlook Barn\, NC\, United States
END:VEVENT
BEGIN:VEVENT
DTSTART;TZID=America/New_York:20210529T100000
DTEND;TZID=America/New_York:20210529T230000
DTSTAMP:20260425T205349
CREATED:20200919T022733Z
LAST-MODIFIED:20200919T022733Z
UID:7410-1622282400-1622329200@overlookbarn.com
SUMMARY:Collins-Whitaker Wedding
DESCRIPTION:
URL:https://overlookbarn.com/event/collins-whitaker-wedding/
LOCATION:Overlook Barn\, NC\, United States
END:VEVENT
BEGIN:VEVENT
DTSTART;TZID=America/New_York:20210528T100000
DTEND;TZID=America/New_York:20210528T230000
DTSTAMP:20260425T205349
CREATED:20200425T154144Z
LAST-MODIFIED:20200425T154144Z
UID:5787-1622196000-1622242800@overlookbarn.com
SUMMARY:McClure-Beining Wedding
DESCRIPTION:
URL:https://overlookbarn.com/event/mcclure-beining-wedding/
LOCATION:Overlook Barn\, NC\, United States
END:VEVENT
BEGIN:VEVENT
DTSTART;TZID=America/New_York:20210527T150000
DTEND;TZID=America/New_York:20210527T190000
DTSTAMP:20260425T205349
CREATED:20210419T141107Z
LAST-MODIFIED:20210419T141107Z
UID:10313-1622127600-1622142000@overlookbarn.com
SUMMARY:Barrick-Trollinger Elopement
DESCRIPTION:
URL:https://overlookbarn.com/event/barrick-trollinger-elopement/
LOCATION:Cliffside Barn\, NC\, United States
END:VEVENT
BEGIN:VEVENT
DTSTART;TZID=UTC:20210523T100000
DTEND;TZID=UTC:20210523T230000
DTSTAMP:20260425T205349
CREATED:20190402T212829Z
LAST-MODIFIED:20200603T134843Z
UID:3879-1621764000-1621810800@overlookbarn.com
SUMMARY:Hoerauf-Brunson Wedding
DESCRIPTION:
URL:https://overlookbarn.com/event/hoerauf-brunson-wedding/
LOCATION:Overlook Barn\, NC\, United States
END:VEVENT
BEGIN:VEVENT
DTSTART;TZID=America/New_York:20210522T100000
DTEND;TZID=America/New_York:20210522T230000
DTSTAMP:20260425T205349
CREATED:20200723T145654Z
LAST-MODIFIED:20200723T145654Z
UID:6593-1621677600-1621724400@overlookbarn.com
SUMMARY:DuVernois-Baker Wedding
DESCRIPTION:
URL:https://overlookbarn.com/event/duvernois-baker-wedding/
LOCATION:Overlook Barn\, NC\, United States
END:VEVENT
BEGIN:VEVENT
DTSTART;TZID=America/New_York:20210521T100000
DTEND;TZID=America/New_York:20210521T230000
DTSTAMP:20260425T205349
CREATED:20200114T015150Z
LAST-MODIFIED:20200114T015150Z
UID:5021-1621591200-1621638000@overlookbarn.com
SUMMARY:Komar-Gagliardo Wedding
DESCRIPTION:
URL:https://overlookbarn.com/event/komar-gagliardo-wedding/
LOCATION:Overlook Barn\, NC\, United States
END:VEVENT
BEGIN:VEVENT
DTSTART;TZID=America/New_York:20210516T150000
DTEND;TZID=America/New_York:20210516T190000
DTSTAMP:20260425T205349
CREATED:20210419T142008Z
LAST-MODIFIED:20210419T142008Z
UID:10331-1621177200-1621191600@overlookbarn.com
SUMMARY:Moore-Boyd Microwedding
DESCRIPTION:
URL:https://overlookbarn.com/event/moore-boyd-microwedding/
LOCATION:Cliffside Barn\, NC\, United States
END:VEVENT
BEGIN:VEVENT
DTSTART;TZID=America/New_York:20210515T100000
DTEND;TZID=America/New_York:20210515T230000
DTSTAMP:20260425T205349
CREATED:20200621T201230Z
LAST-MODIFIED:20200621T201230Z
UID:6238-1621072800-1621119600@overlookbarn.com
SUMMARY:Golding-Dorsey Wedding
DESCRIPTION:
URL:https://overlookbarn.com/event/golding-dorsey-wedding/
LOCATION:Overlook Barn\, NC\, United States
END:VEVENT
BEGIN:VEVENT
DTSTART;TZID=America/New_York:20210514T100000
DTEND;TZID=America/New_York:20210514T230000
DTSTAMP:20260425T205349
CREATED:20200313T190903Z
LAST-MODIFIED:20200313T190903Z
UID:5476-1620986400-1621033200@overlookbarn.com
SUMMARY:DeSanto-Hodges Wedding
DESCRIPTION:
URL:https://overlookbarn.com/event/desanto-hodges-wedding-2/
LOCATION:Overlook Barn\, NC\, United States
END:VEVENT
BEGIN:VEVENT
DTSTART;TZID=America/New_York:20210514T100000
DTEND;TZID=America/New_York:20210514T230000
DTSTAMP:20260425T205349
CREATED:20200212T012719Z
LAST-MODIFIED:20200212T012719Z
UID:5229-1620986400-1621033200@overlookbarn.com
SUMMARY:DeSanto-Hodges Wedding
DESCRIPTION:
URL:https://overlookbarn.com/event/desanto-hodges-wedding/
LOCATION:Overlook Barn\, NC\, United States
END:VEVENT
BEGIN:VEVENT
DTSTART;TZID=America/New_York:20210508T160000
DTEND;TZID=America/New_York:20210508T200000
DTSTAMP:20260425T205349
CREATED:20210419T141542Z
LAST-MODIFIED:20210419T141542Z
UID:10323-1620489600-1620504000@overlookbarn.com
SUMMARY:Slack-Yim Microwedding
DESCRIPTION:
URL:https://overlookbarn.com/event/slack-yim-microwedding/
LOCATION:Overlook Barn\, NC\, United States
END:VEVENT
BEGIN:VEVENT
DTSTART;TZID=America/New_York:20210501T150000
DTEND;TZID=America/New_York:20210501T200000
DTSTAMP:20260425T205349
CREATED:20210419T141201Z
LAST-MODIFIED:20210419T141201Z
UID:10315-1619881200-1619899200@overlookbarn.com
SUMMARY:Johnson-Davis Microwedding
DESCRIPTION:
URL:https://overlookbarn.com/event/johnson-davis-microwedding/
LOCATION:Overlook Barn\, NC\, United States
END:VEVENT
BEGIN:VEVENT
DTSTART;TZID=America/New_York:20210430T100000
DTEND;TZID=America/New_York:20210430T230000
DTSTAMP:20260425T205349
CREATED:20200212T012107Z
LAST-MODIFIED:20200212T012107Z
UID:5217-1619776800-1619823600@overlookbarn.com
SUMMARY:Gledhill-Fuller Wedding
DESCRIPTION:
URL:https://overlookbarn.com/event/gledhill-fuller-wedding/
LOCATION:Overlook Barn\, NC\, United States
END:VEVENT
BEGIN:VEVENT
DTSTART;TZID=America/New_York:20210424T100000
DTEND;TZID=America/New_York:20210424T230000
DTSTAMP:20260425T205349
CREATED:20200114T015006Z
LAST-MODIFIED:20200114T015006Z
UID:5017-1619258400-1619305200@overlookbarn.com
SUMMARY:Distefano-Fulp Wedding
DESCRIPTION:
URL:https://overlookbarn.com/event/distefano-fulp-wedding/
LOCATION:Overlook Barn\, NC\, United States
END:VEVENT
BEGIN:VEVENT
DTSTART;TZID=America/New_York:20210423T100000
DTEND;TZID=America/New_York:20210423T230000
DTSTAMP:20260425T205349
CREATED:20200212T012315Z
LAST-MODIFIED:20200212T012315Z
UID:5221-1619172000-1619218800@overlookbarn.com
SUMMARY:Kolakowski-Egan Wedding
DESCRIPTION:
URL:https://overlookbarn.com/event/kolakowski-egan-wedding/
LOCATION:Overlook Barn\, NC\, United States
END:VEVENT
BEGIN:VEVENT
DTSTART;TZID=America/New_York:20210422T150000
DTEND;TZID=America/New_York:20210422T200000
DTSTAMP:20260425T205349
CREATED:20210525T135141Z
LAST-MODIFIED:20210525T135141Z
UID:10761-1619103600-1619121600@overlookbarn.com
SUMMARY:Boyter-Wynne Elopement
DESCRIPTION:
URL:https://overlookbarn.com/event/boyter-wynne-elopement/
LOCATION:Cliffside Barn\, NC\, United States
END:VEVENT
BEGIN:VEVENT
DTSTART;TZID=America/New_York:20210417T100000
DTEND;TZID=America/New_York:20210417T230000
DTSTAMP:20260425T205349
CREATED:20191120T203207Z
LAST-MODIFIED:20200808T165743Z
UID:4825-1618653600-1618700400@overlookbarn.com
SUMMARY:Serrano-Zielinski Wedding
DESCRIPTION:
URL:https://overlookbarn.com/event/serrano-zielinski-wedding/
LOCATION:Overlook Barn\, NC\, United States
END:VEVENT
BEGIN:VEVENT
DTSTART;TZID=America/New_York:20210416T100000
DTEND;TZID=America/New_York:20210416T230000
DTSTAMP:20260425T205349
CREATED:20200404T151311Z
LAST-MODIFIED:20200404T151311Z
UID:5626-1618567200-1618614000@overlookbarn.com
SUMMARY:Chirole-Mullis Wedding
DESCRIPTION:
URL:https://overlookbarn.com/event/chirole-mullis-wedding/
LOCATION:Overlook Barn\, NC\, United States
END:VEVENT
END:VCALENDAR