BEGIN:VCALENDAR
VERSION:2.0
PRODID:-//Overlook Barn - ECPv6.15.3//NONSGML v1.0//EN
CALSCALE:GREGORIAN
METHOD:PUBLISH
X-WR-CALNAME:Overlook Barn
X-ORIGINAL-URL:https://overlookbarn.com
X-WR-CALDESC:Events for Overlook Barn
REFRESH-INTERVAL;VALUE=DURATION:PT1H
X-Robots-Tag:noindex
X-PUBLISHED-TTL:PT1H
BEGIN:VTIMEZONE
TZID:America/New_York
BEGIN:DAYLIGHT
TZOFFSETFROM:-0500
TZOFFSETTO:-0400
TZNAME:EDT
DTSTART:20200308T070000
END:DAYLIGHT
BEGIN:STANDARD
TZOFFSETFROM:-0400
TZOFFSETTO:-0500
TZNAME:EST
DTSTART:20201101T060000
END:STANDARD
BEGIN:DAYLIGHT
TZOFFSETFROM:-0500
TZOFFSETTO:-0400
TZNAME:EDT
DTSTART:20210314T070000
END:DAYLIGHT
BEGIN:STANDARD
TZOFFSETFROM:-0400
TZOFFSETTO:-0500
TZNAME:EST
DTSTART:20211107T060000
END:STANDARD
END:VTIMEZONE
BEGIN:VTIMEZONE
TZID:UTC
BEGIN:STANDARD
TZOFFSETFROM:+0000
TZOFFSETTO:+0000
TZNAME:UTC
DTSTART:20200101T000000
END:STANDARD
END:VTIMEZONE
BEGIN:VEVENT
DTSTART;TZID=America/New_York:20210514T100000
DTEND;TZID=America/New_York:20210514T230000
DTSTAMP:20260425T234645
CREATED:20200313T190903Z
LAST-MODIFIED:20200313T190903Z
UID:5476-1620986400-1621033200@overlookbarn.com
SUMMARY:DeSanto-Hodges Wedding
DESCRIPTION:
URL:https://overlookbarn.com/event/desanto-hodges-wedding-2/
LOCATION:Overlook Barn\, NC\, United States
END:VEVENT
BEGIN:VEVENT
DTSTART;TZID=America/New_York:20210514T100000
DTEND;TZID=America/New_York:20210514T230000
DTSTAMP:20260425T234645
CREATED:20200212T012719Z
LAST-MODIFIED:20200212T012719Z
UID:5229-1620986400-1621033200@overlookbarn.com
SUMMARY:DeSanto-Hodges Wedding
DESCRIPTION:
URL:https://overlookbarn.com/event/desanto-hodges-wedding/
LOCATION:Overlook Barn\, NC\, United States
END:VEVENT
BEGIN:VEVENT
DTSTART;TZID=America/New_York:20210508T160000
DTEND;TZID=America/New_York:20210508T200000
DTSTAMP:20260425T234645
CREATED:20210419T141542Z
LAST-MODIFIED:20210419T141542Z
UID:10323-1620489600-1620504000@overlookbarn.com
SUMMARY:Slack-Yim Microwedding
DESCRIPTION:
URL:https://overlookbarn.com/event/slack-yim-microwedding/
LOCATION:Overlook Barn\, NC\, United States
END:VEVENT
BEGIN:VEVENT
DTSTART;TZID=America/New_York:20210501T150000
DTEND;TZID=America/New_York:20210501T200000
DTSTAMP:20260425T234645
CREATED:20210419T141201Z
LAST-MODIFIED:20210419T141201Z
UID:10315-1619881200-1619899200@overlookbarn.com
SUMMARY:Johnson-Davis Microwedding
DESCRIPTION:
URL:https://overlookbarn.com/event/johnson-davis-microwedding/
LOCATION:Overlook Barn\, NC\, United States
END:VEVENT
BEGIN:VEVENT
DTSTART;TZID=America/New_York:20210430T100000
DTEND;TZID=America/New_York:20210430T230000
DTSTAMP:20260425T234645
CREATED:20200212T012107Z
LAST-MODIFIED:20200212T012107Z
UID:5217-1619776800-1619823600@overlookbarn.com
SUMMARY:Gledhill-Fuller Wedding
DESCRIPTION:
URL:https://overlookbarn.com/event/gledhill-fuller-wedding/
LOCATION:Overlook Barn\, NC\, United States
END:VEVENT
BEGIN:VEVENT
DTSTART;TZID=America/New_York:20210424T100000
DTEND;TZID=America/New_York:20210424T230000
DTSTAMP:20260425T234645
CREATED:20200114T015006Z
LAST-MODIFIED:20200114T015006Z
UID:5017-1619258400-1619305200@overlookbarn.com
SUMMARY:Distefano-Fulp Wedding
DESCRIPTION:
URL:https://overlookbarn.com/event/distefano-fulp-wedding/
LOCATION:Overlook Barn\, NC\, United States
END:VEVENT
BEGIN:VEVENT
DTSTART;TZID=America/New_York:20210423T100000
DTEND;TZID=America/New_York:20210423T230000
DTSTAMP:20260425T234645
CREATED:20200212T012315Z
LAST-MODIFIED:20200212T012315Z
UID:5221-1619172000-1619218800@overlookbarn.com
SUMMARY:Kolakowski-Egan Wedding
DESCRIPTION:
URL:https://overlookbarn.com/event/kolakowski-egan-wedding/
LOCATION:Overlook Barn\, NC\, United States
END:VEVENT
BEGIN:VEVENT
DTSTART;TZID=America/New_York:20210422T150000
DTEND;TZID=America/New_York:20210422T200000
DTSTAMP:20260425T234645
CREATED:20210525T135141Z
LAST-MODIFIED:20210525T135141Z
UID:10761-1619103600-1619121600@overlookbarn.com
SUMMARY:Boyter-Wynne Elopement
DESCRIPTION:
URL:https://overlookbarn.com/event/boyter-wynne-elopement/
LOCATION:Cliffside Barn\, NC\, United States
END:VEVENT
BEGIN:VEVENT
DTSTART;TZID=America/New_York:20210417T100000
DTEND;TZID=America/New_York:20210417T230000
DTSTAMP:20260425T234645
CREATED:20191120T203207Z
LAST-MODIFIED:20200808T165743Z
UID:4825-1618653600-1618700400@overlookbarn.com
SUMMARY:Serrano-Zielinski Wedding
DESCRIPTION:
URL:https://overlookbarn.com/event/serrano-zielinski-wedding/
LOCATION:Overlook Barn\, NC\, United States
END:VEVENT
BEGIN:VEVENT
DTSTART;TZID=America/New_York:20210416T100000
DTEND;TZID=America/New_York:20210416T230000
DTSTAMP:20260425T234645
CREATED:20200404T151311Z
LAST-MODIFIED:20200404T151311Z
UID:5626-1618567200-1618614000@overlookbarn.com
SUMMARY:Chirole-Mullis Wedding
DESCRIPTION:
URL:https://overlookbarn.com/event/chirole-mullis-wedding/
LOCATION:Overlook Barn\, NC\, United States
END:VEVENT
BEGIN:VEVENT
DTSTART;TZID=America/New_York:20210415T090000
DTEND;TZID=America/New_York:20210415T130000
DTSTAMP:20260425T234645
CREATED:20210221T150909Z
LAST-MODIFIED:20210221T150909Z
UID:9540-1618477200-1618491600@overlookbarn.com
SUMMARY:Priore-Bush Elopement
DESCRIPTION:
URL:https://overlookbarn.com/event/priore-bush-elopement/
LOCATION:Cliffside Barn\, NC\, United States
END:VEVENT
BEGIN:VEVENT
DTSTART;TZID=America/New_York:20210412T090000
DTEND;TZID=America/New_York:20210412T130000
DTSTAMP:20260425T234645
CREATED:20201204T135604Z
LAST-MODIFIED:20201204T135604Z
UID:8484-1618218000-1618232400@overlookbarn.com
SUMMARY:Acosta-Thapar Microwedding
DESCRIPTION:
URL:https://overlookbarn.com/event/acosta-thapar-microwedding/
LOCATION:Overlook Barn\, NC\, United States
END:VEVENT
BEGIN:VEVENT
DTSTART;TZID=America/New_York:20210412T090000
DTEND;TZID=America/New_York:20210412T130000
DTSTAMP:20260425T234645
CREATED:20200919T022434Z
LAST-MODIFIED:20201104T143453Z
UID:7406-1618218000-1618232400@overlookbarn.com
SUMMARY:Acosta-Thapar Microwedding
DESCRIPTION:
URL:https://overlookbarn.com/event/acosta-thapar-wedding/
LOCATION:Overlook Barn\, NC\, United States
END:VEVENT
BEGIN:VEVENT
DTSTART;TZID=America/New_York:20210411T100000
DTEND;TZID=America/New_York:20210411T230000
DTSTAMP:20260425T234645
CREATED:20200404T150808Z
LAST-MODIFIED:20200919T023054Z
UID:5619-1618135200-1618182000@overlookbarn.com
SUMMARY:Barnard-McDaniel Wedding
DESCRIPTION:
URL:https://overlookbarn.com/event/barnard-mcdaniel-wedding/
LOCATION:Overlook Barn\, NC\, United States
END:VEVENT
BEGIN:VEVENT
DTSTART;TZID=America/New_York:20210410T100000
DTEND;TZID=America/New_York:20210410T230000
DTSTAMP:20260425T234645
CREATED:20200425T154109Z
LAST-MODIFIED:20200425T154109Z
UID:5785-1618048800-1618095600@overlookbarn.com
SUMMARY:Livecchi-Kubik Wedding
DESCRIPTION:
URL:https://overlookbarn.com/event/livecchi-kubik-wedding/
LOCATION:Overlook Barn\, NC\, United States
END:VEVENT
BEGIN:VEVENT
DTSTART;TZID=America/New_York:20210409T100000
DTEND;TZID=America/New_York:20210409T230000
DTSTAMP:20260425T234645
CREATED:20200603T134551Z
LAST-MODIFIED:20200603T134551Z
UID:6084-1617962400-1618009200@overlookbarn.com
SUMMARY:Chamberlain-Clark Wedding
DESCRIPTION:
URL:https://overlookbarn.com/event/chamberlain-clark-wedding/
LOCATION:Overlook Barn\, NC\, United States
END:VEVENT
BEGIN:VEVENT
DTSTART;TZID=America/New_York:20210408T150000
DTEND;TZID=America/New_York:20210408T190000
DTSTAMP:20260425T234645
CREATED:20201211T131915Z
LAST-MODIFIED:20201211T131915Z
UID:8571-1617894000-1617908400@overlookbarn.com
SUMMARY:Still-Dlugozima Elopement
DESCRIPTION:
URL:https://overlookbarn.com/event/still-dlugozima-elopement/
LOCATION:Overlook Barn\, NC\, United States
END:VEVENT
BEGIN:VEVENT
DTSTART;TZID=America/New_York:20210403T150000
DTEND;TZID=America/New_York:20210403T190000
DTSTAMP:20260425T234645
CREATED:20210220T131605Z
LAST-MODIFIED:20210220T131605Z
UID:9532-1617462000-1617476400@overlookbarn.com
SUMMARY:Goodwin-Taylor Microwedding
DESCRIPTION:
URL:https://overlookbarn.com/event/goodwin-taylor-microwedding/
LOCATION:Overlook Barn\, NC\, United States
END:VEVENT
BEGIN:VEVENT
DTSTART;TZID=America/New_York:20210403T090000
DTEND;TZID=America/New_York:20210403T130000
DTSTAMP:20260425T234645
CREATED:20210419T141901Z
LAST-MODIFIED:20210419T141901Z
UID:10329-1617440400-1617454800@overlookbarn.com
SUMMARY:Jackson-Saavedra Microwedding
DESCRIPTION:
URL:https://overlookbarn.com/event/jackson-saavedra-microwedding/
LOCATION:Overlook Barn\, NC\, United States
END:VEVENT
BEGIN:VEVENT
DTSTART;TZID=UTC:20210402T100000
DTEND;TZID=UTC:20210402T230000
DTSTAMP:20260425T234645
CREATED:20190402T213042Z
LAST-MODIFIED:20200603T134746Z
UID:3885-1617357600-1617404400@overlookbarn.com
SUMMARY:Broders-Saconn Wedding
DESCRIPTION:
URL:https://overlookbarn.com/event/broders-saconn-wedding/
LOCATION:Overlook Barn\, NC\, United States
END:VEVENT
BEGIN:VEVENT
DTSTART;TZID=America/New_York:20210312T090000
DTEND;TZID=America/New_York:20210312T130000
DTSTAMP:20260425T234645
CREATED:20210115T135800Z
LAST-MODIFIED:20210115T135800Z
UID:9138-1615539600-1615554000@overlookbarn.com
SUMMARY:Howard-Zarett Elopement
DESCRIPTION:
URL:https://overlookbarn.com/event/howard-zarett-elopement/
LOCATION:Cliffside Barn\, NC\, United States
END:VEVENT
BEGIN:VEVENT
DTSTART;TZID=America/New_York:20210227T140000
DTEND;TZID=America/New_York:20210227T180000
DTSTAMP:20260425T234645
CREATED:20210221T150827Z
LAST-MODIFIED:20210221T150827Z
UID:9537-1614434400-1614448800@overlookbarn.com
SUMMARY:Han-Cone Elopement
DESCRIPTION:
URL:https://overlookbarn.com/event/han-cone-elopement/
LOCATION:Overlook Barn\, NC\, United States
END:VEVENT
BEGIN:VEVENT
DTSTART;TZID=America/New_York:20201212T080000
DTEND;TZID=America/New_York:20201212T170000
DTSTAMP:20260425T234645
CREATED:20201222T154515Z
LAST-MODIFIED:20201222T154515Z
UID:8696-1607760000-1607792400@overlookbarn.com
SUMMARY:Kane-Kingsley Elopement
DESCRIPTION:
URL:https://overlookbarn.com/event/kane-kingsley-elopement/
LOCATION:Overlook Barn\, NC\, United States
END:VEVENT
BEGIN:VEVENT
DTSTART;TZID=America/New_York:20201201T080000
DTEND;TZID=America/New_York:20210331T170000
DTSTAMP:20260425T234645
CREATED:20201222T154717Z
LAST-MODIFIED:20201222T154717Z
UID:8700-1606809600-1617210000@overlookbarn.com
SUMMARY:Available for Elopements
DESCRIPTION:
URL:https://overlookbarn.com/event/available-for-elopements/
LOCATION:Overlook Barn\, NC\, United States
END:VEVENT
BEGIN:VEVENT
DTSTART;TZID=America/New_York:20201121T100000
DTEND;TZID=America/New_York:20201121T230000
DTSTAMP:20260425T234645
CREATED:20200114T014800Z
LAST-MODIFIED:20200114T014800Z
UID:5013-1605952800-1605999600@overlookbarn.com
SUMMARY:Feiman-Beard Wedding
DESCRIPTION:
URL:https://overlookbarn.com/event/feiman-beard-wedding/
LOCATION:Overlook Barn\, NC\, United States
END:VEVENT
BEGIN:VEVENT
DTSTART;TZID=America/New_York:20201114T090000
DTEND;TZID=America/New_York:20201114T130000
DTSTAMP:20260425T234645
CREATED:20201022T191415Z
LAST-MODIFIED:20201022T191415Z
UID:7962-1605344400-1605358800@overlookbarn.com
SUMMARY:Bowman-Fuquay Elopement
DESCRIPTION:
URL:https://overlookbarn.com/event/bowman-fuquay-elopement/
LOCATION:Overlook Barn\, NC\, United States
END:VEVENT
BEGIN:VEVENT
DTSTART;TZID=America/New_York:20201113T150000
DTEND;TZID=America/New_York:20201113T190000
DTSTAMP:20260425T234645
CREATED:20200908T152626Z
LAST-MODIFIED:20200908T152626Z
UID:7222-1605279600-1605294000@overlookbarn.com
SUMMARY:Borrego-Llanes Elopement
DESCRIPTION:
URL:https://overlookbarn.com/event/borrego-llanes-elopement/
LOCATION:Overlook Barn\, NC\, United States
END:VEVENT
BEGIN:VEVENT
DTSTART;TZID=UTC:20201107T100000
DTEND;TZID=UTC:20201107T230000
DTSTAMP:20260425T234645
CREATED:20191017T225046Z
LAST-MODIFIED:20191017T225046Z
UID:4676-1604743200-1604790000@overlookbarn.com
SUMMARY:Langella-Staib Wedding
DESCRIPTION:
URL:https://overlookbarn.com/event/langella-staib-wedding/
LOCATION:Overlook Barn\, NC\, United States
END:VEVENT
BEGIN:VEVENT
DTSTART;TZID=UTC:20201105T100000
DTEND;TZID=UTC:20201105T230000
DTSTAMP:20260425T234645
CREATED:20191120T203058Z
LAST-MODIFIED:20191120T203058Z
UID:4823-1604570400-1604617200@overlookbarn.com
SUMMARY:Galan-Bates Wedding
DESCRIPTION:
URL:https://overlookbarn.com/event/galan-bates-wedding/
LOCATION:Overlook Barn\, NC\, United States
END:VEVENT
BEGIN:VEVENT
DTSTART;TZID=UTC:20201031T100000
DTEND;TZID=UTC:20201031T230000
DTSTAMP:20260425T234645
CREATED:20190731T054727Z
LAST-MODIFIED:20190731T054727Z
UID:4331-1604138400-1604185200@overlookbarn.com
SUMMARY:Johnson-Graham Wedding
DESCRIPTION:
URL:https://overlookbarn.com/event/johnson-graham-wedding/
LOCATION:Overlook Barn\, NC\, United States
END:VEVENT
END:VCALENDAR