BEGIN:VCALENDAR
VERSION:2.0
PRODID:-//Overlook Barn - ECPv6.15.3//NONSGML v1.0//EN
CALSCALE:GREGORIAN
METHOD:PUBLISH
X-WR-CALNAME:Overlook Barn
X-ORIGINAL-URL:https://overlookbarn.com
X-WR-CALDESC:Events for Overlook Barn
REFRESH-INTERVAL;VALUE=DURATION:PT1H
X-Robots-Tag:noindex
X-PUBLISHED-TTL:PT1H
BEGIN:VTIMEZONE
TZID:America/New_York
BEGIN:DAYLIGHT
TZOFFSETFROM:-0500
TZOFFSETTO:-0400
TZNAME:EDT
DTSTART:20240310T070000
END:DAYLIGHT
BEGIN:STANDARD
TZOFFSETFROM:-0400
TZOFFSETTO:-0500
TZNAME:EST
DTSTART:20241103T060000
END:STANDARD
END:VTIMEZONE
BEGIN:VEVENT
DTSTART;TZID=America/New_York:20241021T100000
DTEND;TZID=America/New_York:20241021T230000
DTSTAMP:20260424T054621
CREATED:20240611T190010Z
LAST-MODIFIED:20240612T144131Z
UID:23217-1729504800-1729551600@overlookbarn.com
SUMMARY:Nichols-Roche Microwedding
DESCRIPTION:
URL:https://overlookbarn.com/event/nichols-roche-elopement/
LOCATION:Cliffside Barn\, NC\, United States
END:VEVENT
BEGIN:VEVENT
DTSTART;TZID=America/New_York:20241020T100000
DTEND;TZID=America/New_York:20241020T230000
DTSTAMP:20260424T054621
CREATED:20230608T155019Z
LAST-MODIFIED:20230608T155019Z
UID:19670-1729418400-1729465200@overlookbarn.com
SUMMARY:Ahern-Gauger Wedding
DESCRIPTION:
URL:https://overlookbarn.com/event/ahern-gauger-wedding/
LOCATION:Overlook Barn\, NC\, United States
END:VEVENT
BEGIN:VEVENT
DTSTART;TZID=America/New_York:20241018T100000
DTEND;TZID=America/New_York:20241018T230000
DTSTAMP:20260424T054621
CREATED:20230419T134459Z
LAST-MODIFIED:20230419T134459Z
UID:19344-1729245600-1729292400@overlookbarn.com
SUMMARY:Easter-Sherrill Wedding
DESCRIPTION:
URL:https://overlookbarn.com/event/easter-sherrill-wedding/
LOCATION:Overlook Barn\, NC\, United States
END:VEVENT
BEGIN:VEVENT
DTSTART;TZID=America/New_York:20241012T100000
DTEND;TZID=America/New_York:20241012T230000
DTSTAMP:20260424T054621
CREATED:20230724T174021Z
LAST-MODIFIED:20230724T174021Z
UID:20118-1728727200-1728774000@overlookbarn.com
SUMMARY:Speck-Clark Wedding
DESCRIPTION:
URL:https://overlookbarn.com/event/speck-clark-wedding/
LOCATION:Overlook Barn\, NC\, United States
END:VEVENT
BEGIN:VEVENT
DTSTART;TZID=America/New_York:20241009T100000
DTEND;TZID=America/New_York:20241009T230000
DTSTAMP:20260424T054621
CREATED:20240103T152230Z
LAST-MODIFIED:20240103T152230Z
UID:22131-1728468000-1728514800@overlookbarn.com
SUMMARY:Sibori-Garcia Wedding
DESCRIPTION:
URL:https://overlookbarn.com/event/sibori-garcia-wedding/
LOCATION:Overlook Barn\, NC\, United States
END:VEVENT
BEGIN:VEVENT
DTSTART;TZID=America/New_York:20241007T100000
DTEND;TZID=America/New_York:20241007T230000
DTSTAMP:20260424T054621
CREATED:20230608T155058Z
LAST-MODIFIED:20230608T155058Z
UID:19672-1728295200-1728342000@overlookbarn.com
SUMMARY:Eland-Faulkner Wedding
DESCRIPTION:
URL:https://overlookbarn.com/event/eland-faulkner-wedding/
LOCATION:Overlook Barn\, NC\, United States
END:VEVENT
BEGIN:VEVENT
DTSTART;TZID=America/New_York:20241006T100000
DTEND;TZID=America/New_York:20241006T230000
DTSTAMP:20260424T054621
CREATED:20231030T185125Z
LAST-MODIFIED:20231030T185125Z
UID:20908-1728208800-1728255600@overlookbarn.com
SUMMARY:Addler-Kiehna Wedding
DESCRIPTION:
URL:https://overlookbarn.com/event/addler-kiehna-wedding/
LOCATION:Overlook Barn\, NC\, United States
END:VEVENT
BEGIN:VEVENT
DTSTART;TZID=America/New_York:20241005T100000
DTEND;TZID=America/New_York:20241005T230000
DTSTAMP:20260424T054621
CREATED:20231030T185254Z
LAST-MODIFIED:20231030T185254Z
UID:20912-1728122400-1728169200@overlookbarn.com
SUMMARY:Gammon-Staedler Wedding
DESCRIPTION:
URL:https://overlookbarn.com/event/gammon-staedler-wedding/
LOCATION:Overlook Barn\, NC\, United States
END:VEVENT
BEGIN:VEVENT
DTSTART;TZID=America/New_York:20240928T100000
DTEND;TZID=America/New_York:20240928T230000
DTSTAMP:20260424T054621
CREATED:20240611T190226Z
LAST-MODIFIED:20240726T181529Z
UID:23223-1727517600-1727564400@overlookbarn.com
SUMMARY:Murphy-Heffron Wedding
DESCRIPTION:
URL:https://overlookbarn.com/event/murphy-heffron-cliffside/
LOCATION:Overlook Barn\, NC\, United States
END:VEVENT
BEGIN:VEVENT
DTSTART;TZID=America/New_York:20240922T100000
DTEND;TZID=America/New_York:20240922T230000
DTSTAMP:20260424T054621
CREATED:20240103T151858Z
LAST-MODIFIED:20240103T151858Z
UID:22121-1726999200-1727046000@overlookbarn.com
SUMMARY:Randall-Steele Riviere Wedding
DESCRIPTION:
URL:https://overlookbarn.com/event/randall-steele-riviere-wedding/
LOCATION:Overlook Barn\, NC\, United States
END:VEVENT
BEGIN:VEVENT
DTSTART;TZID=America/New_York:20240921T100000
DTEND;TZID=America/New_York:20240921T230000
DTSTAMP:20260424T054621
CREATED:20230419T133949Z
LAST-MODIFIED:20230419T133949Z
UID:19333-1726912800-1726959600@overlookbarn.com
SUMMARY:Anderson-Naughton Wedding
DESCRIPTION:
URL:https://overlookbarn.com/event/anderson-naughton-wedding/
LOCATION:Overlook Barn\, NC\, United States
END:VEVENT
BEGIN:VEVENT
DTSTART;TZID=America/New_York:20240920T100000
DTEND;TZID=America/New_York:20240920T230000
DTSTAMP:20260424T054621
CREATED:20240506T193022Z
LAST-MODIFIED:20240506T193022Z
UID:22939-1726826400-1726873200@overlookbarn.com
SUMMARY:Reckard-McCroskey Wedding
DESCRIPTION:
URL:https://overlookbarn.com/event/reckard-mccroskey-wedding/
LOCATION:Overlook Barn\, NC\, United States
END:VEVENT
BEGIN:VEVENT
DTSTART;TZID=America/New_York:20240919T100000
DTEND;TZID=America/New_York:20240919T230000
DTSTAMP:20260424T054621
CREATED:20240506T193105Z
LAST-MODIFIED:20240506T193105Z
UID:22941-1726740000-1726786800@overlookbarn.com
SUMMARY:Reckard-McCroskey Rehearsal Dinner
DESCRIPTION:
URL:https://overlookbarn.com/event/reckard-mccroskey-rehearsal-dinner/
LOCATION:Overlook Barn\, NC\, United States
END:VEVENT
BEGIN:VEVENT
DTSTART;TZID=America/New_York:20240915T100000
DTEND;TZID=America/New_York:20240915T230000
DTSTAMP:20260424T054621
CREATED:20240506T192532Z
LAST-MODIFIED:20240506T192532Z
UID:22923-1726394400-1726441200@overlookbarn.com
SUMMARY:Matthews-Crimi Wedding
DESCRIPTION:
URL:https://overlookbarn.com/event/matthews-crimi-wedding/
LOCATION:Overlook Barn\, NC\, United States
END:VEVENT
BEGIN:VEVENT
DTSTART;TZID=America/New_York:20240914T100000
DTEND;TZID=America/New_York:20240914T230000
DTSTAMP:20260424T054621
CREATED:20230911T184747Z
LAST-MODIFIED:20230911T184747Z
UID:20485-1726308000-1726354800@overlookbarn.com
SUMMARY:Lawing - Harrell Wedding
DESCRIPTION:
URL:https://overlookbarn.com/event/lawing-harrell-wedding/
LOCATION:Overlook Barn\, NC\, United States
END:VEVENT
BEGIN:VEVENT
DTSTART;TZID=America/New_York:20240907T100000
DTEND;TZID=America/New_York:20240907T230000
DTSTAMP:20260424T054621
CREATED:20230811T170206Z
LAST-MODIFIED:20230811T170206Z
UID:20260-1725703200-1725750000@overlookbarn.com
SUMMARY:White-Jackson Wedding
DESCRIPTION:
URL:https://overlookbarn.com/event/white-jackson-wedding/
LOCATION:Overlook Barn\, NC\, United States
END:VEVENT
BEGIN:VEVENT
DTSTART;TZID=America/New_York:20240901T100000
DTEND;TZID=America/New_York:20240901T230000
DTSTAMP:20260424T054621
CREATED:20240223T160702Z
LAST-MODIFIED:20240223T160702Z
UID:22474-1725184800-1725231600@overlookbarn.com
SUMMARY:Shaw-Davis Wedding
DESCRIPTION:
URL:https://overlookbarn.com/event/shaw-davis-wedding/
LOCATION:Overlook Barn\, NC\, United States
END:VEVENT
BEGIN:VEVENT
DTSTART;TZID=America/New_York:20240831T100000
DTEND;TZID=America/New_York:20240831T230000
DTSTAMP:20260424T054621
CREATED:20231030T185223Z
LAST-MODIFIED:20231030T185223Z
UID:20910-1725098400-1725145200@overlookbarn.com
SUMMARY:Sharp - Parsons Wedding
DESCRIPTION:
URL:https://overlookbarn.com/event/sharp-parsons-wedding/
LOCATION:Overlook Barn\, NC\, United States
END:VEVENT
BEGIN:VEVENT
DTSTART;TZID=America/New_York:20240824T100000
DTEND;TZID=America/New_York:20240824T230000
DTSTAMP:20260424T054621
CREATED:20230911T184959Z
LAST-MODIFIED:20230911T184959Z
UID:20493-1724493600-1724540400@overlookbarn.com
SUMMARY:Little-Vollmer Wedding
DESCRIPTION:
URL:https://overlookbarn.com/event/little-vollmer-wedding/
LOCATION:Overlook Barn\, NC\, United States
END:VEVENT
BEGIN:VEVENT
DTSTART;TZID=America/New_York:20240817T100000
DTEND;TZID=America/New_York:20240817T230000
DTSTAMP:20260424T054621
CREATED:20240103T152042Z
LAST-MODIFIED:20240103T152042Z
UID:22125-1723888800-1723935600@overlookbarn.com
SUMMARY:DeSouza-Rath Wedding
DESCRIPTION:
URL:https://overlookbarn.com/event/desouza-rath-wedding/
LOCATION:Overlook Barn\, NC\, United States
END:VEVENT
BEGIN:VEVENT
DTSTART;TZID=America/New_York:20240815T100000
DTEND;TZID=America/New_York:20240815T230000
DTSTAMP:20260424T054621
CREATED:20240506T192721Z
LAST-MODIFIED:20240506T192721Z
UID:22929-1723716000-1723762800@overlookbarn.com
SUMMARY:Bateman-Pollack Microwedding
DESCRIPTION:
URL:https://overlookbarn.com/event/bateman-pollack-microwedding/
LOCATION:Cliffside Barn\, NC\, United States
END:VEVENT
BEGIN:VEVENT
DTSTART;TZID=America/New_York:20240810T100000
DTEND;TZID=America/New_York:20240810T230000
DTSTAMP:20260424T054621
CREATED:20230911T185030Z
LAST-MODIFIED:20230911T185030Z
UID:20495-1723284000-1723330800@overlookbarn.com
SUMMARY:Kennerley-Triplett Wedding
DESCRIPTION:
URL:https://overlookbarn.com/event/kennerley-triplett-wedding/
LOCATION:Overlook Barn\, NC\, United States
END:VEVENT
BEGIN:VEVENT
DTSTART;TZID=America/New_York:20240803T100000
DTEND;TZID=America/New_York:20240803T230000
DTSTAMP:20260424T054621
CREATED:20231030T184926Z
LAST-MODIFIED:20231030T184926Z
UID:20901-1722679200-1722726000@overlookbarn.com
SUMMARY:Khoury-Drebitko Wedding
DESCRIPTION:
URL:https://overlookbarn.com/event/khoury-drebitko-wedding/
LOCATION:Overlook Barn\, NC\, United States
END:VEVENT
BEGIN:VEVENT
DTSTART;TZID=America/New_York:20240729T100000
DTEND;TZID=America/New_York:20240729T230000
DTSTAMP:20260424T054621
CREATED:20240422T145150Z
LAST-MODIFIED:20240422T145150Z
UID:22834-1722247200-1722294000@overlookbarn.com
SUMMARY:Martin-Compton Wedding
DESCRIPTION:
URL:https://overlookbarn.com/event/martin-compton-wedding/
LOCATION:NC
END:VEVENT
BEGIN:VEVENT
DTSTART;TZID=America/New_York:20240728T100000
DTEND;TZID=America/New_York:20240728T230000
DTSTAMP:20260424T054621
CREATED:20240422T144949Z
LAST-MODIFIED:20240422T144949Z
UID:22830-1722160800-1722207600@overlookbarn.com
SUMMARY:Hudson-Jackett Wedding
DESCRIPTION:
URL:https://overlookbarn.com/event/hudson-jackett-wedding/
LOCATION:NC
END:VEVENT
BEGIN:VEVENT
DTSTART;TZID=America/New_York:20240727T100000
DTEND;TZID=America/New_York:20240727T230000
DTSTAMP:20260424T054621
CREATED:20231030T184810Z
LAST-MODIFIED:20231030T184810Z
UID:20897-1722074400-1722121200@overlookbarn.com
SUMMARY:Fenyak-Yates Wedding
DESCRIPTION:
URL:https://overlookbarn.com/event/fenyak-yates-wedding/
LOCATION:Overlook Barn\, NC\, United States
END:VEVENT
BEGIN:VEVENT
DTSTART;TZID=America/New_York:20240726T100000
DTEND;TZID=America/New_York:20240726T230000
DTSTAMP:20260424T054621
CREATED:20240506T192613Z
LAST-MODIFIED:20240506T192613Z
UID:22925-1721988000-1722034800@overlookbarn.com
SUMMARY:Fenyak-Yates Rehearsal Dinner
DESCRIPTION:
URL:https://overlookbarn.com/event/fenyak-yates-rehearsal-dinner/
LOCATION:Overlook Barn\, NC\, United States
END:VEVENT
BEGIN:VEVENT
DTSTART;TZID=America/New_York:20240720T100000
DTEND;TZID=America/New_York:20240720T230000
DTSTAMP:20260424T054621
CREATED:20240103T151725Z
LAST-MODIFIED:20240103T151725Z
UID:22117-1721469600-1721516400@overlookbarn.com
SUMMARY:Smith-Hagna Wedding
DESCRIPTION:
URL:https://overlookbarn.com/event/smith-hagna-wedding/
LOCATION:Overlook Barn\, NC\, United States
END:VEVENT
BEGIN:VEVENT
DTSTART;TZID=America/New_York:20240712T100000
DTEND;TZID=America/New_York:20240712T230000
DTSTAMP:20260424T054621
CREATED:20240111T144230Z
LAST-MODIFIED:20240111T144230Z
UID:22197-1720778400-1720825200@overlookbarn.com
SUMMARY:Larsen-Ammons Wedding
DESCRIPTION:
URL:https://overlookbarn.com/event/larsen-ammons-wedding/
LOCATION:Overlook Barn\, NC\, United States
END:VEVENT
BEGIN:VEVENT
DTSTART;TZID=America/New_York:20240630T100000
DTEND;TZID=America/New_York:20240630T230000
DTSTAMP:20260424T054621
CREATED:20230724T173946Z
LAST-MODIFIED:20240111T144114Z
UID:20116-1719741600-1719788400@overlookbarn.com
SUMMARY:Marion-Lee Wedding
DESCRIPTION:
URL:https://overlookbarn.com/event/marion-lee-wedding/
LOCATION:Overlook Barn\, NC\, United States
END:VEVENT
END:VCALENDAR