BEGIN:VCALENDAR
VERSION:2.0
PRODID:-//Overlook Barn - ECPv6.15.3//NONSGML v1.0//EN
CALSCALE:GREGORIAN
METHOD:PUBLISH
X-ORIGINAL-URL:https://overlookbarn.com
X-WR-CALDESC:Events for Overlook Barn
REFRESH-INTERVAL;VALUE=DURATION:PT1H
X-Robots-Tag:noindex
X-PUBLISHED-TTL:PT1H
BEGIN:VTIMEZONE
TZID:America/New_York
BEGIN:DAYLIGHT
TZOFFSETFROM:-0500
TZOFFSETTO:-0400
TZNAME:EDT
DTSTART:20240310T070000
END:DAYLIGHT
BEGIN:STANDARD
TZOFFSETFROM:-0400
TZOFFSETTO:-0500
TZNAME:EST
DTSTART:20241103T060000
END:STANDARD
END:VTIMEZONE
BEGIN:VEVENT
DTSTART;TZID=America/New_York:20241101T100000
DTEND;TZID=America/New_York:20241101T230000
DTSTAMP:20260424T130641
CREATED:20240111T144312Z
LAST-MODIFIED:20240111T144312Z
UID:22199-1730455200-1730502000@overlookbarn.com
SUMMARY:Doney-Crews Wedding
DESCRIPTION:
URL:https://overlookbarn.com/event/doney-crews-wedding/
LOCATION:Overlook Barn\, NC\, United States
END:VEVENT
BEGIN:VEVENT
DTSTART;TZID=America/New_York:20241102T100000
DTEND;TZID=America/New_York:20241102T230000
DTSTAMP:20260424T130641
CREATED:20240111T144417Z
LAST-MODIFIED:20240111T144417Z
UID:22201-1730541600-1730588400@overlookbarn.com
SUMMARY:Schaut-Moss Wedding
DESCRIPTION:
URL:https://overlookbarn.com/event/schaut-moss-wedding/
LOCATION:Overlook Barn\, NC\, United States
END:VEVENT
BEGIN:VEVENT
DTSTART;TZID=America/New_York:20241103T100000
DTEND;TZID=America/New_York:20241103T230000
DTSTAMP:20260424T130641
CREATED:20241104T204636Z
LAST-MODIFIED:20241104T204636Z
UID:24255-1730628000-1730674800@overlookbarn.com
SUMMARY:Powers-Hall Elopement
DESCRIPTION:
URL:https://overlookbarn.com/event/powers-hall-elopement/
LOCATION:Cliffside Barn\, NC\, United States
END:VEVENT
BEGIN:VEVENT
DTSTART;TZID=America/New_York:20241109T100000
DTEND;TZID=America/New_York:20241109T230000
DTSTAMP:20260424T130641
CREATED:20240103T152119Z
LAST-MODIFIED:20240103T152119Z
UID:22127-1731146400-1731193200@overlookbarn.com
SUMMARY:Fleger-White Wedding
DESCRIPTION:
URL:https://overlookbarn.com/event/fleger-white-wedding/
LOCATION:Overlook Barn\, NC\, United States
END:VEVENT
BEGIN:VEVENT
DTSTART;TZID=America/New_York:20241115T100000
DTEND;TZID=America/New_York:20241115T230000
DTSTAMP:20260424T130641
CREATED:20240506T193149Z
LAST-MODIFIED:20240506T193149Z
UID:22943-1731664800-1731711600@overlookbarn.com
SUMMARY:Gaal-Wade Wedding
DESCRIPTION:
URL:https://overlookbarn.com/event/gaal-wade-wedding/
LOCATION:Overlook Barn\, NC\, United States
END:VEVENT
BEGIN:VEVENT
DTSTART;TZID=America/New_York:20241130T100000
DTEND;TZID=America/New_York:20241130T230000
DTSTAMP:20260424T130641
CREATED:20240726T181154Z
LAST-MODIFIED:20240726T181154Z
UID:23616-1732960800-1733007600@overlookbarn.com
SUMMARY:Sanders-Blue Wedding
DESCRIPTION:
URL:https://overlookbarn.com/event/sanders-blue-wedding/
LOCATION:Overlook Barn\, NC\, United States
END:VEVENT
END:VCALENDAR