BEGIN:VCALENDAR
VERSION:2.0
PRODID:-//Overlook Barn - ECPv6.15.3//NONSGML v1.0//EN
CALSCALE:GREGORIAN
METHOD:PUBLISH
X-WR-CALNAME:Overlook Barn
X-ORIGINAL-URL:https://overlookbarn.com
X-WR-CALDESC:Events for Overlook Barn
REFRESH-INTERVAL;VALUE=DURATION:PT1H
X-Robots-Tag:noindex
X-PUBLISHED-TTL:PT1H
BEGIN:VTIMEZONE
TZID:America/New_York
BEGIN:DAYLIGHT
TZOFFSETFROM:-0500
TZOFFSETTO:-0400
TZNAME:EDT
DTSTART:20240310T070000
END:DAYLIGHT
BEGIN:STANDARD
TZOFFSETFROM:-0400
TZOFFSETTO:-0500
TZNAME:EST
DTSTART:20241103T060000
END:STANDARD
END:VTIMEZONE
BEGIN:VEVENT
DTSTART;TZID=America/New_York:20241205T100000
DTEND;TZID=America/New_York:20241205T230000
DTSTAMP:20260424T113154
CREATED:20230911T184820Z
LAST-MODIFIED:20230911T184820Z
UID:20487-1733392800-1733439600@overlookbarn.com
SUMMARY:Schmid-Adams Wedding
DESCRIPTION:
URL:https://overlookbarn.com/event/schmid-adams-wedding/
LOCATION:NC
END:VEVENT
BEGIN:VEVENT
DTSTART;TZID=America/New_York:20241205T100000
DTEND;TZID=America/New_York:20241205T230000
DTSTAMP:20260424T113154
CREATED:20240726T181113Z
LAST-MODIFIED:20240726T181113Z
UID:23614-1733392800-1733439600@overlookbarn.com
SUMMARY:Schmid-Adams Microwedding
DESCRIPTION:
URL:https://overlookbarn.com/event/schmid-adams-microwedding/
LOCATION:Cliffside Barn\, NC\, United States
END:VEVENT
END:VCALENDAR