BEGIN:VCALENDAR
VERSION:2.0
PRODID:-//Overlook Barn - ECPv6.15.3//NONSGML v1.0//EN
CALSCALE:GREGORIAN
METHOD:PUBLISH
X-WR-CALNAME:Overlook Barn
X-ORIGINAL-URL:https://overlookbarn.com
X-WR-CALDESC:Events for Overlook Barn
REFRESH-INTERVAL;VALUE=DURATION:PT1H
X-Robots-Tag:noindex
X-PUBLISHED-TTL:PT1H
BEGIN:VTIMEZONE
TZID:America/New_York
BEGIN:DAYLIGHT
TZOFFSETFROM:-0500
TZOFFSETTO:-0400
TZNAME:EDT
DTSTART:20250309T070000
END:DAYLIGHT
BEGIN:STANDARD
TZOFFSETFROM:-0400
TZOFFSETTO:-0500
TZNAME:EST
DTSTART:20251102T060000
END:STANDARD
END:VTIMEZONE
BEGIN:VEVENT
DTSTART;TZID=America/New_York:20250412T100000
DTEND;TZID=America/New_York:20250412T230000
DTSTAMP:20260424T050402
CREATED:20241202T211714Z
LAST-MODIFIED:20241202T211714Z
UID:24457-1744452000-1744498800@overlookbarn.com
SUMMARY:Patrone-Nottingham Wedding
DESCRIPTION:
URL:https://overlookbarn.com/event/patrone-nottingham-wedding/
LOCATION:Overlook Barn\, NC\, United States
END:VEVENT
BEGIN:VEVENT
DTSTART;TZID=America/New_York:20250419T100000
DTEND;TZID=America/New_York:20250419T230000
DTSTAMP:20260424T050402
CREATED:20240506T192941Z
LAST-MODIFIED:20240506T192941Z
UID:22937-1745056800-1745103600@overlookbarn.com
SUMMARY:Crumpler-Biddle Wedding
DESCRIPTION:
URL:https://overlookbarn.com/event/crumpler-biddle-wedding/
LOCATION:Overlook Barn\, NC\, United States
END:VEVENT
BEGIN:VEVENT
DTSTART;TZID=America/New_York:20250425T100000
DTEND;TZID=America/New_York:20250425T230000
DTSTAMP:20260424T050402
CREATED:20241003T132029Z
LAST-MODIFIED:20241003T132029Z
UID:24061-1745575200-1745622000@overlookbarn.com
SUMMARY:Scharfstein-Desrochers Wedding
DESCRIPTION:
URL:https://overlookbarn.com/event/scharfstein-desrochers-wedding/
LOCATION:Overlook Barn\, NC\, United States
END:VEVENT
BEGIN:VEVENT
DTSTART;TZID=America/New_York:20250426T100000
DTEND;TZID=America/New_York:20250426T230000
DTSTAMP:20260424T050402
CREATED:20250106T204201Z
LAST-MODIFIED:20250106T204201Z
UID:24934-1745661600-1745708400@overlookbarn.com
SUMMARY:Babcock-Cundiff Wedding
DESCRIPTION:
URL:https://overlookbarn.com/event/babcock-cundiff-wedding/
LOCATION:Overlook Barn\, NC\, United States
END:VEVENT
BEGIN:VEVENT
DTSTART;TZID=America/New_York:20250427T100000
DTEND;TZID=America/New_York:20250427T230000
DTSTAMP:20260424T050402
CREATED:20240506T192905Z
LAST-MODIFIED:20240506T192905Z
UID:22935-1745748000-1745794800@overlookbarn.com
SUMMARY:Austin-Taylor Wedding
DESCRIPTION:
URL:https://overlookbarn.com/event/austin-taylor-wedding/
LOCATION:Overlook Barn\, NC\, United States
END:VEVENT
END:VCALENDAR