BEGIN:VCALENDAR
VERSION:2.0
PRODID:-//Overlook Barn - ECPv6.15.3//NONSGML v1.0//EN
CALSCALE:GREGORIAN
METHOD:PUBLISH
X-WR-CALNAME:Overlook Barn
X-ORIGINAL-URL:https://overlookbarn.com
X-WR-CALDESC:Events for Overlook Barn
REFRESH-INTERVAL;VALUE=DURATION:PT1H
X-Robots-Tag:noindex
X-PUBLISHED-TTL:PT1H
BEGIN:VTIMEZONE
TZID:America/New_York
BEGIN:DAYLIGHT
TZOFFSETFROM:-0500
TZOFFSETTO:-0400
TZNAME:EDT
DTSTART:20250309T070000
END:DAYLIGHT
BEGIN:STANDARD
TZOFFSETFROM:-0400
TZOFFSETTO:-0500
TZNAME:EST
DTSTART:20251102T060000
END:STANDARD
END:VTIMEZONE
BEGIN:VEVENT
DTSTART;TZID=America/New_York:20250606T100000
DTEND;TZID=America/New_York:20250606T230000
DTSTAMP:20260424T021137
CREATED:20240506T192758Z
LAST-MODIFIED:20240506T192758Z
UID:22931-1749204000-1749250800@overlookbarn.com
SUMMARY:Wakefield-Jordan Jackson Wedding
DESCRIPTION:
URL:https://overlookbarn.com/event/wakefield-jordan-jackson-wedding/
LOCATION:Overlook Barn\, NC\, United States
END:VEVENT
BEGIN:VEVENT
DTSTART;TZID=America/New_York:20250607T100000
DTEND;TZID=America/New_York:20250607T230000
DTSTAMP:20260424T021137
CREATED:20241003T132639Z
LAST-MODIFIED:20241003T132639Z
UID:24077-1749290400-1749337200@overlookbarn.com
SUMMARY:Clance-Brown Wedding
DESCRIPTION:
URL:https://overlookbarn.com/event/clance-brown-wedding/
LOCATION:Overlook Barn\, NC\, United States
END:VEVENT
BEGIN:VEVENT
DTSTART;TZID=America/New_York:20250608T100000
DTEND;TZID=America/New_York:20250608T230000
DTSTAMP:20260424T021137
CREATED:20240103T151936Z
LAST-MODIFIED:20241014T163208Z
UID:22123-1749376800-1749423600@overlookbarn.com
SUMMARY:Williams-Williams Wedding
DESCRIPTION:
URL:https://overlookbarn.com/event/williams-williams-wedding/
LOCATION:Overlook Barn\, NC\, United States
END:VEVENT
BEGIN:VEVENT
DTSTART;TZID=America/New_York:20250612T100000
DTEND;TZID=America/New_York:20250612T230000
DTSTAMP:20260424T021137
CREATED:20241014T163604Z
LAST-MODIFIED:20241014T163604Z
UID:24149-1749722400-1749769200@overlookbarn.com
SUMMARY:Jackson-Johnson Wedding
DESCRIPTION:
URL:https://overlookbarn.com/event/jackson-johnson-wedding/
LOCATION:Overlook Barn\, NC\, United States
END:VEVENT
BEGIN:VEVENT
DTSTART;TZID=America/New_York:20250614T100000
DTEND;TZID=America/New_York:20250614T230000
DTSTAMP:20260424T021137
CREATED:20250129T150334Z
LAST-MODIFIED:20250129T150334Z
UID:25188-1749895200-1749942000@overlookbarn.com
SUMMARY:Law-Chisholm Wedding
DESCRIPTION:
URL:https://overlookbarn.com/event/law-chisholm-wedding/
LOCATION:Overlook Barn\, NC\, United States
END:VEVENT
BEGIN:VEVENT
DTSTART;TZID=America/New_York:20250615T100000
DTEND;TZID=America/New_York:20250615T230000
DTSTAMP:20260424T021137
CREATED:20250324T145835Z
LAST-MODIFIED:20250324T145835Z
UID:25701-1749981600-1750028400@overlookbarn.com
SUMMARY:Moss-Carson Wedding
DESCRIPTION:
URL:https://overlookbarn.com/event/moss-carson-wedding/
LOCATION:Overlook Barn\, NC\, United States
END:VEVENT
BEGIN:VEVENT
DTSTART;TZID=America/New_York:20250621T100000
DTEND;TZID=America/New_York:20250621T230000
DTSTAMP:20260424T021137
CREATED:20250129T150203Z
LAST-MODIFIED:20250129T150203Z
UID:25184-1750500000-1750546800@overlookbarn.com
SUMMARY:Davis - Haydel Wedding 
DESCRIPTION:
URL:https://overlookbarn.com/event/davis-haydel-wedding/
LOCATION:Overlook Barn\, NC\, United States
END:VEVENT
BEGIN:VEVENT
DTSTART;TZID=America/New_York:20250622T100000
DTEND;TZID=America/New_York:20250622T230000
DTSTAMP:20260424T021137
CREATED:20240611T190050Z
LAST-MODIFIED:20240611T190050Z
UID:23219-1750586400-1750633200@overlookbarn.com
SUMMARY:Hunt-Fields Wedding
DESCRIPTION:
URL:https://overlookbarn.com/event/hunt-fields-wedding/
LOCATION:Overlook Barn\, NC\, United States
END:VEVENT
BEGIN:VEVENT
DTSTART;TZID=America/New_York:20250630T100000
DTEND;TZID=America/New_York:20250630T230000
DTSTAMP:20260424T021137
CREATED:20250324T145932Z
LAST-MODIFIED:20250324T145932Z
UID:25705-1751277600-1751324400@overlookbarn.com
SUMMARY:Bouquet-Herman Wedding
DESCRIPTION:
URL:https://overlookbarn.com/event/bouquet-herman-wedding/
LOCATION:Overlook Barn\, NC\, United States
END:VEVENT
END:VCALENDAR